{"text_format":"1","workbook":"xlsx","n_sheets":3,"sheets":["★2025年版","★2025年版記載例","祝日"],"not_rendered":{"charts":0,"images":0,"macros":1,"external_links":0,"defined_names":2,"comments":2,"pivot_tables":0},"unopened":[],"bounds":{"document_bytes":16777216,"sheet_cells":100000,"rows_first":2000,"rows_last":500,"rows_between":2000,"halvings":0,"cell_chars":16384,"cell_head_chars":4096},"cells_cut":0,"cells_raw":0,"read":"whole","date_system":"1900"}

{"sheet":"★2025年版","index":0,"n_rows":50,"n_cols":12,"rows_kept":50,"cut":false,"hidden":false,"merged":[]}
[null,null,"※右の入力欄に年月を入力すると、その月のチェックリストになります"]
[null,null,null,null,null,null,null,null,"年月入力欄"]
[]
[null,"週休２日制適用工事　チェックリスト",null,null,null,null,null,null,"年",2025,"リスト"]
[null,null,null,null,null,null,null,null,"月",8]
[null,"事務所名","○○事務所",null,null,null,null,null,"前月最終週",0,"―",{"$f":"DATE(J4,J5,1)","v":"2025-08-01"}]
[null,"工事名","○○工事",null,null,null,null,null,"前月閉所日",0,"休"]
[null,"受注者名","○○工務店",null,null,null,null,null,null,null,"夏休"]
[null,"月日","曜日","計画上の\n閉所日","実際の\n閉所日","計画上の閉所日と実際の閉所日に\n差異がある場合等に記載","祝日","週区分",null,null,"年末年始休"]
[null,{"$f":"DATE(J4,J5,1)","v":"2025-08-01"},{"$f":"TEXT(B10,\"aaa\")","v":"金"},null,null,null,null,1,null,null,"雨休"]
[null,{"$f":"B10+1","v":"2025-08-02"},{"$f":"TEXT(B11,\"aaa\")","v":"土"},null,null,null,null,{"$f":"IF(C11=\"月\",H10+1,H10)","v":1},null,null,"工場製作"]
[null,{"$f":"B11+1","v":"2025-08-03"},"日",null,null,null,null,{"$f":"IF(C12=\"月\",H11+1,H11)","v":1},null,null,"その他休"]
[null,"2025-08-04","月",null,null,null,null,2]
[null,"2025-08-05","火",null,null,null,null,2]
[null,"2025-08-06","水",null,null,null,null,2]
[null,"2025-08-07","木",null,null,null,null,2]
[null,"2025-08-08","金",null,null,null,null,2]
[null,"2025-08-09","土",null,null,null,null,2]
[null,"2025-08-10","日",null,null,null,null,2]
[null,"2025-08-11","月",null,null,null,null,3]
[null,"2025-08-12","火",null,null,null,null,3]
[null,"2025-08-13","水",null,null,null,null,3]
[null,"2025-08-14","木",null,null,null,null,3]
[null,"2025-08-15","金",null,null,null,null,3]
[null,"2025-08-16","土",null,null,null,null,3]
[null,"2025-08-17","日",null,null,null,null,3]
[null,"2025-08-18","月",null,null,null,null,4]
[null,"2025-08-19","火",null,null,null,null,4]
[null,"2025-08-20","水",null,null,null,null,4]
[null,"2025-08-21","木",null,null,null,null,4]
[null,"2025-08-22","金",null,null,null,null,4]
[null,"2025-08-23","土",null,null,null,null,4]
[null,"2025-08-24","日",null,null,null,null,4]
[null,"2025-08-25","月",null,null,null,null,5]
[null,"2025-08-26","火",null,null,null,null,5]
[null,"2025-08-27","水",null,null,null,null,5]
[null,"2025-08-28","木",null,null,null,null,5]
[null,{"$f":"IF(B37=EOMONTH($B$10,0),\"\",B37+1)","v":"2025-08-29"},"金",null,null,null,null,{"$f":"IF(C38=\"\",\"\",IF(C38=\"月\",H37+1,H37))","v":5}]
[null,{"$f":"IF(OR(B38=\"\",B38=EOMONTH($B$10,0)),\"\",B38+1)","v":"2025-08-30"},"土",null,null,null,null,{"$f":"IF(C39=\"\",\"\",IF(C39=\"月\",H38+1,H38))","v":5}]
[null,{"$f":"IF(OR(B39=\"\",B39=EOMONTH($B$10,0)),\"\",B39+1)","v":"2025-08-31"},"日",null,null,null,null,{"$f":"IF(C40=\"\",\"\",IF(C40=\"月\",H39+1,H39))","v":5}]
[null,"（週単位）"]
[null,null,"第１週",{"$f":"\"現場閉所　　　\"&COUNTIFS(H10:$H$40,1,E10:$E$40,\"休\")+J6","v":"現場閉所　　　0"},{"$f":"COUNTIFS($H$10:$H$40,1,$E$10:$E$40,\"\")+COUNTIFS($H$10:$H$40,1,$E$10:$E$40,\"休\")+COUNTIFS($H$10:$H$40,1,$E$10:$E$40,\"雨休\")+J6","v":3},{"$f":"\"（\"&IF(E42=0,\"－\",ROUND((COUNTIFS(H10:$H$40,1,E10:$E$40,\"休\")+$J$6)/E42*100,1))&\"％）\"","v":"（0％）"}]
[null,null,"第２週",{"$f":"\"現場閉所　　　\"&COUNTIFS(H11:$H$40,2,E11:$E$40,\"休\")","v":"現場閉所　　　0"},{"$f":"COUNTIFS($H$10:$H$40,2,$E$10:$E$40,\"\")+COUNTIFS($H$10:$H$40,2,$E$10:$E$40,\"休\")+COUNTIFS($H$10:$H$40,2,$E$10:$E$40,\"雨休\")","v":7},{"$f":"\"（\"&IF(E43=0,\"－\",ROUND((COUNTIFS(H11:$H$40,2,E11:$E$40,\"休\"))/E43*100,1))&\"％）\"","v":"（0％）"}]
[null,null,"第３週",{"$f":"\"現場閉所　　　\"&COUNTIFS(H12:$H$40,3,E12:$E$40,\"休\")","v":"現場閉所　　　0"},{"$f":"COUNTIFS($H$10:$H$40,3,$E$10:$E$40,\"\")+COUNTIFS($H$10:$H$40,3,$E$10:$E$40,\"休\")+COUNTIFS($H$10:$H$40,3,$E$10:$E$40,\"雨休\")","v":7},{"$f":"\"（\"&IF(E44=0,\"－\",ROUND((COUNTIFS(H12:$H$40,3,E12:$E$40,\"休\"))/E44*100,1))&\"％）\"","v":"（0％）"}]
[null,null,"第４週",{"$f":"\"現場閉所　　　\"&COUNTIFS(H13:$H$40,4,E13:$E$40,\"休\")","v":"現場閉所　　　0"},{"$f":"COUNTIFS($H$10:$H$40,4,$E$10:$E$40,\"\")+COUNTIFS($H$10:$H$40,4,$E$10:$E$40,\"休\")+COUNTIFS($H$10:$H$40,4,$E$10:$E$40,\"雨休\")","v":7},{"$f":"\"（\"&IF(E45=0,\"－\",ROUND((COUNTIFS(H13:$H$40,4,E13:$E$40,\"休\"))/E45*100,1))&\"％）\"","v":"（0％）"}]
[null,null,"第５週",{"$f":"\"現場閉所　　　\"&COUNTIFS(H14:$H$40,5,E14:$E$40,\"休\")","v":"現場閉所　　　0"},{"$f":"COUNTIFS($H$10:$H$40,5,$E$10:$E$40,\"\")+COUNTIFS($H$10:$H$40,5,$E$10:$E$40,\"休\")+COUNTIFS($H$10:$H$40,5,$E$10:$E$40,\"雨休\")","v":7},{"$f":"\"（\"&IF(E46=0,\"－\",ROUND((COUNTIFS(H14:$H$40,5,E14:$E$40,\"休\"))/E46*100,1))&\"％）\"","v":"（0％）"}]
[null,"　　　　　　※月の最終週（７日未満）については、翌日の第１週に含めるものとする。"]
[null,"現場閉所日",null,{"$f":"COUNTIF(D10:D40,\"休\")","v":0},{"$f":"COUNTIF(E10:E40,\"休\")+COUNTIF(E10:E40,\"雨休\")","v":0}]
[null,"対象期間",null,{"$f":"DAY(EOMONTH(L6,0))-COUNTIF(D10:D40,\"ー\")-COUNTIF(D10:D40,\"夏休\")-COUNTIF(D10:D40,\"年末年始休\")-COUNTIF(D10:D40,\"工場製作\")-COUNTIF(D10:D40,\"その他休\")","v":31},{"$f":"DAY(EOMONTH(L6,0))-COUNTIF(E10:E40,\"ー\")-COUNTIF(E10:E40,\"夏休\")-COUNTIF(E10:E40,\"年末年始休\")-COUNTIF(E10:E40,\"工場製作\")-COUNTIF(E10:E40,\"その他休\")","v":31}]
[null,"閉所率",null,{"$f":"D48/D49","v":0},{"$f":"E48/E49","v":0}]

{"sheet":"★2025年版記載例","index":1,"n_rows":50,"n_cols":12,"rows_kept":50,"cut":false,"hidden":false,"merged":[]}
[null,null,"※右の入力欄に年月を入力すると、その月のチェックリストになります"]
[null,null,null,null,null,null,null,null,"年月入力欄"]
[]
[null,"週休２日制適用工事　チェックリスト",null,null,null,null,null,null,"年",2025,"リスト"]
[null,null,null,null,null,null,null,null,"月",8]
[null,"事務所名","○○事務所",null,null,null,null,null,"前月最終週",0,"―",{"$f":"DATE(J4,J5,1)","v":"2025-08-01"}]
[null,"工事名","○○工事",null,null,null,null,null,"前月閉所日",0,"休"]
[null,"受注者名","○○工務店",null,null,null,null,null,null,null,"夏休"]
[null,"月日","曜日","計画上の\n閉所日","実際の\n閉所日","計画上の閉所日と実際の閉所日に\n差異がある場合等に記載","祝日","週区分",null,null,"年末年始休"]
[null,{"$f":"DATE(J4,J5,1)","v":"2025-08-01"},{"$f":"TEXT(B10,\"aaa\")","v":"金"},"―","―",null,{"$f":"IF(ISERROR(VLOOKUP(B10,祝日!$B$2:$D$70,3,0)),\"\",VLOOKUP(B10,祝日!$B$2:$D$70,3,0))","v":""},1,null,null,"雨休"]
[null,{"$f":"B10+1","v":"2025-08-02"},{"$f":"TEXT(B11,\"aaa\")","v":"土"},"―","―",null,{"$f":"IF(ISERROR(VLOOKUP(B11,祝日!$B$2:$D$70,3,0)),\"\",VLOOKUP(B11,祝日!$B$2:$D$70,3,0))","v":""},{"$f":"IF(C11=\"月\",H10+1,H10)","v":1},null,null,"工場製作"]
[null,{"$f":"B11+1","v":"2025-08-03"},"日","―","―",null,{"$f":"IF(ISERROR(VLOOKUP(B12,祝日!$B$2:$D$70,3,0)),\"\",VLOOKUP(B12,祝日!$B$2:$D$70,3,0))","v":""},{"$f":"IF(C12=\"月\",H11+1,H11)","v":1},null,null,"その他休"]
[null,"2025-08-04","月","―","―",null,{"$f":"IF(ISERROR(VLOOKUP(B13,祝日!$B$2:$D$70,3,0)),\"\",VLOOKUP(B13,祝日!$B$2:$D$70,3,0))","v":""},2]
[null,"2025-08-05","火",null,null,"現場着手日",{"$f":"IF(ISERROR(VLOOKUP(B14,祝日!$B$2:$D$70,3,0)),\"\",VLOOKUP(B14,祝日!$B$2:$D$70,3,0))","v":""},2]
[null,"2025-08-06","水","休","休",null,{"$f":"IF(ISERROR(VLOOKUP(B15,祝日!$B$2:$D$70,3,0)),\"\",VLOOKUP(B15,祝日!$B$2:$D$70,3,0))","v":""},2]
[null,"2025-08-07","木","休","休",null,{"$f":"IF(ISERROR(VLOOKUP(B16,祝日!$B$2:$D$70,3,0)),\"\",VLOOKUP(B16,祝日!$B$2:$D$70,3,0))","v":""},2]
[null,"2025-08-08","金",null,null,null,{"$f":"IF(ISERROR(VLOOKUP(B17,祝日!$B$2:$D$70,3,0)),\"\",VLOOKUP(B17,祝日!$B$2:$D$70,3,0))","v":""},2]
[null,"2025-08-09","土",null,null,null,{"$f":"IF(ISERROR(VLOOKUP(B18,祝日!$B$2:$D$70,3,0)),\"\",VLOOKUP(B18,祝日!$B$2:$D$70,3,0))","v":""},2]
[null,"2025-08-10","日",null,"雨休","8/9事前連絡済",{"$f":"IF(ISERROR(VLOOKUP(B19,祝日!$B$2:$D$70,3,0)),\"\",VLOOKUP(B19,祝日!$B$2:$D$70,3,0))","v":""},2]
[null,"2025-08-11","月","休","休",null,{"$f":"IF(ISERROR(VLOOKUP(B20,祝日!$B$2:$D$70,3,0)),\"\",VLOOKUP(B20,祝日!$B$2:$D$70,3,0))","v":"山の日"},3]
[null,"2025-08-12","火",null,null,null,{"$f":"IF(ISERROR(VLOOKUP(B21,祝日!$B$2:$D$70,3,0)),\"\",VLOOKUP(B21,祝日!$B$2:$D$70,3,0))","v":""},3]
[null,"2025-08-13","水","夏休","夏休",null,{"$f":"IF(ISERROR(VLOOKUP(B22,祝日!$B$2:$D$70,3,0)),\"\",VLOOKUP(B22,祝日!$B$2:$D$70,3,0))","v":""},3]
[null,"2025-08-14","木","夏休","夏休",null,{"$f":"IF(ISERROR(VLOOKUP(B23,祝日!$B$2:$D$70,3,0)),\"\",VLOOKUP(B23,祝日!$B$2:$D$70,3,0))","v":""},3]
[null,"2025-08-15","金","夏休","夏休",null,{"$f":"IF(ISERROR(VLOOKUP(B24,祝日!$B$2:$D$70,3,0)),\"\",VLOOKUP(B24,祝日!$B$2:$D$70,3,0))","v":""},3]
[null,"2025-08-16","土","休","休",null,{"$f":"IF(ISERROR(VLOOKUP(B25,祝日!$B$2:$D$70,3,0)),\"\",VLOOKUP(B25,祝日!$B$2:$D$70,3,0))","v":""},3]
[null,"2025-08-17","日",null,null,null,{"$f":"IF(ISERROR(VLOOKUP(B26,祝日!$B$2:$D$70,3,0)),\"\",VLOOKUP(B26,祝日!$B$2:$D$70,3,0))","v":""},3]
[null,"2025-08-18","月",null,null,null,{"$f":"IF(ISERROR(VLOOKUP(B27,祝日!$B$2:$D$70,3,0)),\"\",VLOOKUP(B27,祝日!$B$2:$D$70,3,0))","v":""},4]
[null,"2025-08-19","火",null,null,null,{"$f":"IF(ISERROR(VLOOKUP(B28,祝日!$B$2:$D$70,3,0)),\"\",VLOOKUP(B28,祝日!$B$2:$D$70,3,0))","v":""},4]
[null,"2025-08-20","水","休",null,"当初休み予定だったが地元協議で作業",{"$f":"IF(ISERROR(VLOOKUP(B29,祝日!$B$2:$D$70,3,0)),\"\",VLOOKUP(B29,祝日!$B$2:$D$70,3,0))","v":""},4]
[null,"2025-08-21","木","休","休",null,{"$f":"IF(ISERROR(VLOOKUP(B30,祝日!$B$2:$D$70,3,0)),\"\",VLOOKUP(B30,祝日!$B$2:$D$70,3,0))","v":""},4]
[null,"2025-08-22","金",null,null,null,{"$f":"IF(ISERROR(VLOOKUP(B31,祝日!$B$2:$D$70,3,0)),\"\",VLOOKUP(B31,祝日!$B$2:$D$70,3,0))","v":""},4]
[null,"2025-08-23","土",null,null,null,{"$f":"IF(ISERROR(VLOOKUP(B32,祝日!$B$2:$D$70,3,0)),\"\",VLOOKUP(B32,祝日!$B$2:$D$70,3,0))","v":""},4]
[null,"2025-08-24","日",null,"休","8/20の振替",{"$f":"IF(ISERROR(VLOOKUP(B33,祝日!$B$2:$D$70,3,0)),\"\",VLOOKUP(B33,祝日!$B$2:$D$70,3,0))","v":""},4]
[null,"2025-08-25","月",null,null,null,{"$f":"IF(ISERROR(VLOOKUP(B34,祝日!$B$2:$D$70,3,0)),\"\",VLOOKUP(B34,祝日!$B$2:$D$70,3,0))","v":""},5]
[null,"2025-08-26","火",null,null,null,{"$f":"IF(ISERROR(VLOOKUP(B35,祝日!$B$2:$D$70,3,0)),\"\",VLOOKUP(B35,祝日!$B$2:$D$70,3,0))","v":""},5]
[null,"2025-08-27","水","休","休",null,{"$f":"IF(ISERROR(VLOOKUP(B36,祝日!$B$2:$D$70,3,0)),\"\",VLOOKUP(B36,祝日!$B$2:$D$70,3,0))","v":""},5]
[null,"2025-08-28","木","休","休","地震による緊急対応13:00～16:00",{"$f":"IF(ISERROR(VLOOKUP(B37,祝日!$B$2:$D$70,3,0)),\"\",VLOOKUP(B37,祝日!$B$2:$D$70,3,0))","v":""},5]
[null,{"$f":"IF(B37=EOMONTH($B$10,0),\"\",B37+1)","v":"2025-08-29"},"金",null,null,null,{"$f":"IF(ISERROR(VLOOKUP(B38,祝日!$B$2:$D$70,3,0)),\"\",VLOOKUP(B38,祝日!$B$2:$D$70,3,0))","v":""},{"$f":"IF(C38=\"\",\"\",IF(C38=\"月\",H37+1,H37))","v":5}]
[null,{"$f":"IF(OR(B38=\"\",B38=EOMONTH($B$10,0)),\"\",B38+1)","v":"2025-08-30"},"土",null,null,null,{"$f":"IF(ISERROR(VLOOKUP(B39,祝日!$B$2:$D$70,3,0)),\"\",VLOOKUP(B39,祝日!$B$2:$D$70,3,0))","v":""},{"$f":"IF(C39=\"\",\"\",IF(C39=\"月\",H38+1,H38))","v":5}]
[null,{"$f":"IF(OR(B39=\"\",B39=EOMONTH($B$10,0)),\"\",B39+1)","v":"2025-08-31"},"日",null,null,null,{"$f":"IF(ISERROR(VLOOKUP(B40,祝日!$B$2:$D$70,3,0)),\"\",VLOOKUP(B40,祝日!$B$2:$D$70,3,0))","v":""},{"$f":"IF(C40=\"\",\"\",IF(C40=\"月\",H39+1,H39))","v":5}]
[null,"（週単位）"]
[null,null,"第１週",{"$f":"\"現場閉所　　　\"&COUNTIFS(H10:$H$40,1,E10:$E$40,\"休\")+J6","v":"現場閉所　　　0"},{"$f":"COUNTIFS($H$10:$H$40,1,$E$10:$E$40,\"\")+COUNTIFS($H$10:$H$40,1,$E$10:$E$40,\"休\")+COUNTIFS($H$10:$H$40,1,$E$10:$E$40,\"雨休\")+J6","v":0},{"$f":"\"（\"&IF(E42=0,\"－\",ROUND((COUNTIFS(H10:$H$40,1,E10:$E$40,\"休\")+$J$6)/E42*100,1))&\"％）\"","v":"（－％）"}]
[null,null,"第２週",{"$f":"\"現場閉所　　　\"&COUNTIFS(H11:$H$40,2,E11:$E$40,\"休\")","v":"現場閉所　　　2"},{"$f":"COUNTIFS($H$10:$H$40,2,$E$10:$E$40,\"\")+COUNTIFS($H$10:$H$40,2,$E$10:$E$40,\"休\")+COUNTIFS($H$10:$H$40,2,$E$10:$E$40,\"雨休\")","v":6},{"$f":"\"（\"&IF(E43=0,\"－\",ROUND((COUNTIFS(H11:$H$40,2,E11:$E$40,\"休\"))/E43*100,1))&\"％）\"","v":"（33.3％）"}]
[null,null,"第３週",{"$f":"\"現場閉所　　　\"&COUNTIFS(H12:$H$40,3,E12:$E$40,\"休\")","v":"現場閉所　　　2"},{"$f":"COUNTIFS($H$10:$H$40,3,$E$10:$E$40,\"\")+COUNTIFS($H$10:$H$40,3,$E$10:$E$40,\"休\")+COUNTIFS($H$10:$H$40,3,$E$10:$E$40,\"雨休\")","v":4},{"$f":"\"（\"&IF(E44=0,\"－\",ROUND((COUNTIFS(H12:$H$40,3,E12:$E$40,\"休\"))/E44*100,1))&\"％）\"","v":"（50％）"}]
[null,null,"第４週",{"$f":"\"現場閉所　　　\"&COUNTIFS(H13:$H$40,4,E13:$E$40,\"休\")","v":"現場閉所　　　2"},{"$f":"COUNTIFS($H$10:$H$40,4,$E$10:$E$40,\"\")+COUNTIFS($H$10:$H$40,4,$E$10:$E$40,\"休\")+COUNTIFS($H$10:$H$40,4,$E$10:$E$40,\"雨休\")","v":7},{"$f":"\"（\"&IF(E45=0,\"－\",ROUND((COUNTIFS(H13:$H$40,4,E13:$E$40,\"休\"))/E45*100,1))&\"％）\"","v":"（28.6％）"}]
[null,null,"第５週",{"$f":"\"現場閉所　　　\"&COUNTIFS(H14:$H$40,5,E14:$E$40,\"休\")","v":"現場閉所　　　2"},{"$f":"COUNTIFS($H$10:$H$40,5,$E$10:$E$40,\"\")+COUNTIFS($H$10:$H$40,5,$E$10:$E$40,\"休\")+COUNTIFS($H$10:$H$40,5,$E$10:$E$40,\"雨休\")","v":7},{"$f":"\"（\"&IF(E46=0,\"－\",ROUND((COUNTIFS(H14:$H$40,5,E14:$E$40,\"休\"))/E46*100,1))&\"％）\"","v":"（28.6％）"}]
[null,"　　　　　　※月の最終週（７日未満）については、翌日の第１週に含めるものとする。"]
[null,"現場閉所日",null,{"$f":"COUNTIF(D10:D40,\"休\")","v":8},{"$f":"COUNTIF(E10:E40,\"休\")+COUNTIF(E10:E40,\"雨休\")","v":9}]
[null,"対象期間",null,{"$f":"DAY(EOMONTH(L6,0))-COUNTIF(D10:D40,\"ー\")-COUNTIF(D10:D40,\"夏休\")-COUNTIF(D10:D40,\"年末年始休\")-COUNTIF(D10:D40,\"工場製作\")-COUNTIF(D10:D40,\"その他休\")","v":24},{"$f":"DAY(EOMONTH(L6,0))-COUNTIF(E10:E40,\"ー\")-COUNTIF(E10:E40,\"夏休\")-COUNTIF(E10:E40,\"年末年始休\")-COUNTIF(E10:E40,\"工場製作\")-COUNTIF(E10:E40,\"その他休\")","v":24}]
[null,"閉所率",null,{"$f":"D48/D49","v":0.33333333333333331},{"$f":"E48/E49","v":0.375}]

{"sheet":"祝日","index":2,"n_rows":70,"n_cols":4,"rows_kept":70,"cut":false,"hidden":false,"merged":[[54,0,69,0],[1,0,19,0],[20,0,37,0],[38,0,53,0]]}
[]
["2025年祝日等一覧","2025-01-01",{"$f":"TEXT(B2,\"aaa\")","v":"水"},"元日"]
[null,"2025-01-13",{"$f":"TEXT(B3,\"aaa\")","v":"月"},"成人の日"]
[null,"2025-02-11",{"$f":"TEXT(B4,\"aaa\")","v":"火"},"建国記念の日"]
[null,"2025-02-23","日","天皇誕生日"]
[null,"2025-02-24","月","振替休日"]
[null,"2025-03-20","木","春分の日"]
[null,"2025-04-29","火","昭和の日"]
[null,"2025-05-03","土","憲法記念日"]
[null,"2025-05-04","日","みどりの日"]
[null,"2025-05-05","月","こどもの日"]
[null,"2025-05-06","火","振替休日"]
[null,"2025-07-21","月","海の日"]
[null,"2025-08-11","月","山の日"]
[null,"2025-09-15","月","敬老の日"]
[null,"2025-09-23","火","秋分の日"]
[null,"2025-10-13","月","スポーツの日"]
[null,"2025-11-03","月","文化の日"]
[null,"2025-11-23","日","勤労感謝の日"]
[null,"2025-11-24",{"$f":"TEXT(B20,\"aaa\")","v":"月"},"振替休日"]
["2026年祝日等一覧","2026-01-01",{"$f":"TEXT(B21,\"aaa\")","v":"木"},"元日"]
[null,"2026-01-12",{"$f":"TEXT(B22,\"aaa\")","v":"月"},"成人の日"]
[null,"2026-02-11",{"$f":"TEXT(B23,\"aaa\")","v":"水"},"建国記念の日"]
[null,"2026-02-23","月","天皇誕生日"]
[null,"2026-03-20","金","春分の日"]
[null,"2026-04-29","水","昭和の日"]
[null,"2026-05-03","日","憲法記念日"]
[null,"2026-05-04","月","みどりの日"]
[null,"2026-05-05","火","こどもの日"]
[null,"2026-05-06","水","振替休日"]
[null,"2026-07-20","月","海の日"]
[null,"2026-08-11","火","山の日"]
[null,"2026-09-21","月","敬老の日"]
[null,"2026-09-22","火","国民の休日"]
[null,"2026-09-23","水","秋分の日"]
[null,"2026-10-12","月","スポーツの日"]
[null,"2026-11-03","火","文化の日"]
[null,"2026-11-23",{"$f":"TEXT(B38,\"aaa\")","v":"月"},"勤労感謝の日"]
["2027年祝日等一覧","2027-01-01",{"$f":"TEXT(B39,\"aaa\")","v":"金"},"元日"]
[null,"2027-01-11",{"$f":"TEXT(B40,\"aaa\")","v":"月"},"成人の日"]
[null,"2027-02-11",{"$f":"TEXT(B41,\"aaa\")","v":"木"},"建国記念の日"]
[null,"2027-02-23","火","天皇誕生日"]
[null,"2027-03-22","月","春分の日"]
[null,"2027-04-29","木","昭和の日"]
[null,"2027-05-03","月","憲法記念日"]
[null,"2027-05-04","火","みどりの日"]
[null,"2027-05-05","水","こどもの日"]
[null,"2027-07-19","月","海の日"]
[null,"2027-08-11","水","山の日"]
[null,"2027-09-20","月","敬老の日"]
[null,"2027-09-23","木","秋分の日"]
[null,"2027-10-11","月","スポーツの日"]
[null,"2027-11-03","水","文化の日"]
[null,"2027-11-23",{"$f":"TEXT(B54,\"aaa\")","v":"火"},"勤労感謝の日"]
["2027年祝日等一覧","2028-01-01",{"$f":"TEXT(B55,\"aaa\")","v":"土"},"元日"]
[null,"2028-01-10",{"$f":"TEXT(B56,\"aaa\")","v":"月"},"成人の日"]
[null,"2028-02-11",{"$f":"TEXT(B57,\"aaa\")","v":"金"},"建国記念の日"]
[null,"2028-02-23","水","天皇誕生日"]
[null,"2028-03-20","月","春分の日"]
[null,"2028-04-29","土","昭和の日"]
[null,"2028-05-03","水","憲法記念日"]
[null,"2028-05-04","木","みどりの日"]
[null,"2028-05-05","金","こどもの日"]
[null,"2028-07-17","月","海の日"]
[null,"2028-08-11","金","山の日"]
[null,"2028-09-18","月","敬老の日"]
[null,"2028-09-22","金","秋分の日"]
[null,"2028-10-09","月","スポーツの日"]
[null,"2028-11-03","金","文化の日"]
[null,"2028-11-23",{"$f":"TEXT(B70,\"aaa\")","v":"木"},"勤労感謝の日"]