{"text_format":"1","workbook":"xlsx","n_sheets":7,"sheets":["(はじめにお読み下さい)申請書の使い方","実績報告書","実績額一覧","別添","個票1","職員表","計算用"],"not_rendered":{"charts":0,"images":0,"macros":1,"external_links":0,"defined_names":8,"comments":4,"pivot_tables":0},"unopened":[],"bounds":{"document_bytes":16777216,"sheet_cells":100000,"rows_first":2000,"rows_last":500,"rows_between":2000,"halvings":0,"cell_chars":16384,"cell_head_chars":4096},"cells_cut":0,"cells_raw":0,"read":"whole","date_system":"1900"}

{"sheet":"(はじめにお読み下さい)申請書の使い方","index":0,"n_rows":15,"n_cols":4,"rows_kept":15,"cut":false,"hidden":false,"merged":[[1,0,1,3]]}
[]
["本実績報告書の使い方、申請の手順"]
[]
["手順","都道府県の作業","事業者（法人本部）の作業","各事業所の作業"]
[1,"本Excelを管内の介護サービス事業者に配布"]
[{"$f":"A5+1","v":2},null,"本Excelを各事業所に配布し、以下の様式への記入を依頼\n・様式第８－２号（個票）\n・様式第８－３号（職員票）\n※Excelファイルを開封した際は、｢コンテンツの有効化｣をクリック\n"]
[{"$f":"A6+1","v":3},null,null,"以下の作業を行った上で、事業者（法人本部）へ返送\n【様式第８－２号（個票）】\n・水色セル：必要情報を入力\n・緑色セル：プルダウンから選択\n【様式第８－３号（職員票）】\n・慰労金を給付した職員について、様式第８－３号に取りまとめ(青色及び緑色のセルに入力)\n・「慰労金を職員等に対して給付した際の証憑書類（従事者等１人１人に申請額と同額の慰労金の給付が行われていることが確認できる書類）」「慰労金を職員等に対して給付する際に要した振込手数料にかかる証憑書類」を取りまとめ\n"]
[4,null,"各事業所の個票のシートを１つのExcelファイルに集約し、個票シート名を「個票●」（●は１からの通し番号）に修正\n"]
[5,null,"各事業所の様式第８－３号（職員表）を法人単位で一覧表として取りまとめ\n兼務する複数の介護サービス事業所等から重複して申請している者がいないかを確認\n※氏名（漢字、カナ）、生年月日が一致する者がいる場合、「重複申請者確認用」欄に「可」と表示されません。\n※記入欄が不足する場合は、6行目～85行目を行ごとコピーし、86行目に右クリック→「コピーしたセルの挿入」で挿入。\n"]
[6,null,"様式第８－２号（個票）の内容が、別添（サービス別一覧）に正しく反映されていることを確認\n※別添の記入欄が不足する場合は、6行目～20行目を行ごとコピーし、21行目に右クリック→「コピーしたセルの挿入」で挿入。\n"]
[7,null,"様式第８－１号（申請額一覧）の「リスト作成」ボタンを押す。（事業所番号単位のリストが自動生成される）\n※この機能は100事業所分まで対応しています。\n"]
[8,null,"申請書に、申請者の法人名、代表者名、提出日、交付決定日、提出先（千葉県知事　鈴木栄治）、連絡先を入力\n"]
[{"$f":"A12+1","v":9},null,"完成したExcelファイルを紙に出力し、封筒に「実績報告書（介護分）在中」と明記し、郵送\n※他の書類（介護給付費等に関する費用等の請求等）を同封しないこと。\n"]
[10,"事業者から実績報告書を受領し、内容を審査\n"]
[11,null,"交付済額が実績報告額を超過する事業がある場合、県からの返還請求を受けて、超過額を返還\n"]

{"sheet":"実績報告書","index":1,"n_rows":51,"n_cols":62,"rows_kept":51,"cut":false,"hidden":false,"merged":[[50,28,50,36],[49,20,50,22],[49,24,49,27],[50,24,50,27],[9,0,9,38],[47,20,47,26],[48,20,48,26],[47,28,47,36],[48,28,48,36],[49,28,49,36],[15,1,15,9],[15,10,15,17],[46,28,46,36],[45,20,46,27],[45,29,45,32],[14,0,14,38],[21,59,21,60],[23,59,23,60],[2,35,2,36],[2,32,2,33],[2,29,2,30],[6,22,6,36],[7,22,7,36],[18,17,18,23],[19,17,20,20],[2,27,2,28],[23,21,24,23],[21,21,22,23],[19,21,20,23],[19,24,20,27],[19,28,20,30],[21,24,22,27],[21,47,21,48],[21,53,21,54],[23,47,23,48],[23,53,23,54],[24,3,24,16],[21,3,21,16],[22,3,22,16],[23,3,23,16],[21,17,22,20],[23,17,24,20],[18,31,18,37],[21,28,22,30],[23,24,24,27],[23,28,24,30],[25,24,26,27],[25,28,26,30],[18,2,18,16],[27,17,28,20],[27,21,28,23],[27,24,28,27],[27,28,28,30],[18,24,18,30],[25,3,25,16],[26,3,26,16],[19,3,19,16],[25,17,26,20],[25,21,26,23],[27,31,28,34],[27,35,28,37],[27,2,28,16],[19,35,20,37],[21,31,22,34],[21,35,22,37],[23,31,24,34],[23,35,24,37],[19,31,20,34],[25,31,26,34],[25,35,26,37],[12,0,12,38],[13,0,13,38],[4,6,4,12],[4,0,4,5],[11,1,11,17],[11,18,11,38]]}
[null,null,null,null,null,null,null,null,null,null,null,null,null,null,null,null,null,null,null,null,null,null,null,null,null,null,null,null,null,null,null,null,null,null,null,null,null,null,"（様式第8号）"]
[]
[null,null,null,null,null,null,null,null,null,null,null,null,null,null,null,null,null,null,null,null,null,null,null,null,null,null,null,"令和",null,null,null,"年",null,null,"月",null,null,"日"]
[]
["千葉県知事",null,null,null,null,null,null,null,null,null,null,null,null,null,"様"]
[]
[null,null,null,null,null,null,null,null,null,null,null,null,null,null,null,null,null,null,null,null,null,null,"（法人名）"]
[null,null,null,null,null,null,null,null,null,null,null,null,null,null,null,null,null,null,null,null,null,null,"（役職・代表者名）"]
[]
["令和２年度新型コロナウイルス感染症緊急包括支援交付金（介護分）に係る実績報告書"]
[]
[null,"令和○年○月○日付け高第○号－○",null,null,null,null,null,null,null,null,null,null,null,null,null,null,null,null,"で交付決定を受けた令和２年度新型コロナウイルス"]
["感染症緊急包括支援交付金（介護分）について、事業が完了したので、交付要綱第10条の規定により、"]
["関係書類を添え、下記のとおり報告します。"]
["記"]
[null,"実績報告額：　",null,null,null,null,null,null,null,null,{"$f":"SUM(実績額一覧!M5:M105)","v":0},null,null,null,null,null,null,null,"千円",null,null,null,null,null,null,null,null,null,null,null,null,null,null,null,null,null,null,null,null,null,null,{"$f":"IF(K16=SUM(別添!$N$5:$N$29),\"○\",\"! 別添(事業所一覧)の合計額と一致しません\")","v":"○"}]
[]
[null,"（内訳）"]
[null,null,"事業名",null,null,null,null,null,null,null,null,null,null,null,null,null,null,"実績報告額",null,null,null,null,null,null,"交付済額",null,null,null,null,null,null,"返還額",null,null,null,null,null,null,null,null,null,{"$f":"IF(BH22=BH24,\"○\",\"! 職員表の合計人数と個票の合計人数が一致しません\")","v":"○"}]
[null,null,"1.","介護慰労金事業",null,null,null,null,null,null,null,null,null,null,null,null,null,{"$f":"SUM(実績額一覧!$H$5:$H$105)","v":0},null,null,null,"千円",null,null,{"$f":"SUM(実績額一覧!$N$5:$N$105)","v":0},null,null,null,"千円",null,null,{"$f":"SUM(実績額一覧!$S$5:$S$105)","v":0},null,null,null,"千円"]
[]
[null,null,"2．","感染症対策を徹底した上での",null,null,null,null,null,null,null,null,null,null,null,null,null,{"$f":"SUM(実績額一覧!$J$5:$J$105)","v":0},null,null,null,"千円",null,null,{"$f":"SUM(実績額一覧!$O5:$O$105)","v":0},null,null,null,"千円",null,null,{"$f":"SUM(実績額一覧!$T5:$T$105)","v":0},null,null,null,"千円",null,null,null,null,null,"職員表計",null,null,"20万円",null,null,{"$f":"COUNTIFS(職員表!O6:O86,20)","v":0},null,"人","5万円",null,null,{"$f":"COUNTIFS(職員表!O6:O86,5)","v":0},null,"人","合計",null,null,{"$f":"SUM(AV22,BB22)","v":0},null,"人"]
[null,null,null,"介護サービス提供支援事業"]
[null,null,"3．","在宅サービス事業所による",null,null,null,null,null,null,null,null,null,null,null,null,null,{"$f":"SUM(実績額一覧!$K$5:$K$105)","v":0},null,null,null,"千円",null,null,{"$f":"SUM(実績額一覧!$P$5:$P$105)","v":0},null,null,null,"千円",null,null,{"$f":"SUM(実績額一覧!$U$5:$U$105)","v":0},null,null,null,"千円",null,null,null,null,null,"個表計",null,null,"20万円",null,null,{"$f":"SUM(別添!AW5:AW30)","v":0},null,"人","5万円",null,null,{"$f":"SUM(別添!AX5:AX30)","v":0},null,"人","合計",null,null,{"$f":"SUM(AV24,BB24)","v":0},null,"人"]
[null,null,null,"利用者への再開支援への助成事業"]
[null,null,"4．","在宅サービス事業所における",null,null,null,null,null,null,null,null,null,null,null,null,null,{"$f":"SUM(実績額一覧!$L$5:$L$105)","v":0},null,null,null,"千円",null,null,{"$f":"SUM(実績額一覧!$Q$5:$Q$105)","v":0},null,null,null,"千円",null,null,{"$f":"SUM(実績額一覧!$V$5:$V$105)","v":0},null,null,null,"千円"]
[null,null,null,"環境整備への助成事業"]
[null,null,"計",null,null,null,null,null,null,null,null,null,null,null,null,null,null,{"$f":"SUM(R20,R22,R24,R26)","v":0},null,null,null,"千円",null,null,{"$f":"SUM(Y20,Y22,Y24,Y26)","v":0},null,null,null,"千円",null,null,{"$f":"SUM(AF20,AF22,AF24,AF26)","v":0},null,null,null,"千円"]
[]
[]
[]
[null,"（関係書類）"]
[null,"１　事業所・施設別実績額一覧（様式第８－１号及び別添）"]
[null,"２　新型コロナウイルス感染症緊急包括支援交付金（介護分）に関する事業実績報告書"]
[null,null,null,"（事業所単位）（様式第８－２号）"]
[null,"３　介護慰労金受給職員表（法人単位）（様式第８－３号）"]
[null,"４　慰労金を職員等に対して給付した際の証拠書類"]
[null,"５　慰労金を職員等に対して給付する際に要した振込手数料にかかる証拠書類"]
[null,"６　支出の確認できる書類（例：領収書の写し、納品書の写し、契約書の写し等）"]
[null,"　　※支出内容（物品名、金額等）が具体的に確認できるものであること"]
[null,"７　交付決定通知書の写し"]
[null,"８　その他知事が必要と認める書類"]
[]
[null,null,null,null,null,null,null,null,null,null,null,null,null,null,null,null,null,null,null,"【実績内容に関する連絡先】"]
[]
[null,null,null,null,null,null,null,null,null,null,null,null,null,null,null,null,null,null,null,null," 法人住所",null,null,null,null,null,null,null,"〒"]
[]
[null,null,null,null,null,null,null,null,null,null,null,null,null,null,null,null,null,null,null,null," 部署名"]
[null,null,null,null,null,null,null,null,null,null,null,null,null,null,null,null,null,null,null,null," 担当者氏名"]
[null,null,null,null,null,null,null,null,null,null,null,null,null,null,null,null,null,null,null,null," 連絡先",null,null,null,"電話番号"]
[null,null,null,null,null,null,null,null,null,null,null,null,null,null,null,null,null,null,null,null,null,null,null,null,"e-mail"]

{"sheet":"実績額一覧","index":2,"n_rows":104,"n_cols":23,"rows_kept":104,"cut":false,"hidden":false,"merged":[[2,0,3,0],[2,2,3,2],[2,1,3,1],[2,3,3,3],[2,4,3,4],[2,13,2,17],[2,18,2,22],[2,5,3,5],[2,6,3,6],[2,7,2,12]]}
["（様式第８－１号）事業所・施設別実績額一覧"]
[]
["No.","介護保険\n事業所番号","事業所・施設名","電話番号","郵便番号","住所","代表となる\n事業所・施設名","実績報告額（千円）",null,null,null,null,null,"交付済額（千円）",null,null,null,null,"返還額（千円）"]
[null,null,null,null,null,null,null,"介護\n慰労金","20万円\n対象者の\n有無","感染対策\n費用助成\n事業","個別再開\n支援助成\n事業","再開環境\n整備助成\n事業","合計","介護\n慰労金","感染対策\n費用助成\n事業","個別再開\n支援助成\n事業","再開環境\n整備助成\n事業","合計","介護\n慰労金","感染対策\n費用助成\n事業","個別再開\n支援助成\n事業","再開環境\n整備助成\n事業","合計"]
[{"$f":"ROW()-4","v":1},null,{"$f":"IFERROR(VLOOKUP($B5,別添!$B$5:$G$29,2,FALSE),\"\")","v":0},{"$f":"IFERROR(VLOOKUP($B5,別添!$B$5:$G$29,4,FALSE),\"\")","v":0},{"$f":"IFERROR(VLOOKUP($B5,別添!$B$5:$G$29,5,FALSE),\"\")","v":0},{"$f":"IFERROR(VLOOKUP($B5,別添!$B$5:$G$29,6,FALSE),\"\")","v":""},{"$f":"IF(M5>0,実績報告書!$W$7,\"\")","v":""},{"$f":"SUMIFS(別添!I$5:I$29,別添!$B$5:$B$29,$B5)","v":0},{"$f":"IFERROR(IF(COUNTIFS(別添!$B$5:$B$29,B5,別添!$J$5:$J$29,\"有\")>0,\"有\",\"\"),\"\")","v":""},{"$f":"SUMIFS(別添!K$5:K$29,別添!$B$5:$B$29,$B5)","v":0},{"$f":"SUMIFS(別添!L$5:L$29,別添!$B$5:$B$29,$B5)","v":0},{"$f":"SUMIFS(別添!M$5:M$29,別添!$B$5:$B$29,$B5)","v":0},{"$f":"SUM(H5,J5,K5,L5)","v":0},{"$f":"SUMIFS(別添!O$5:O$29,別添!$B$5:$B$29,$B5)","v":0},{"$f":"SUMIFS(別添!P$5:P$29,別添!$B$5:$B$29,$B5)","v":0},{"$f":"SUMIFS(別添!Q$5:Q$29,別添!$B$5:$B$29,$B5)","v":0},{"$f":"SUMIFS(別添!R$5:R$29,別添!$B$5:$B$29,$B5)","v":0},{"$f":"SUM(N5,O5,P5,Q5)","v":0},{"$f":"SUMIFS(別添!T$5:T$29,別添!$B$5:$B$29,$B5)","v":0},{"$f":"SUMIFS(別添!U$5:U$29,別添!$B$5:$B$29,$B5)","v":0},{"$f":"SUMIFS(別添!V$5:V$29,別添!$B$5:$B$29,$B5)","v":0},{"$f":"SUMIFS(別添!W$5:W$29,別添!$B$5:$B$29,$B5)","v":0},{"$f":"SUM(S5,T5,U5,V5)","v":0}]
[{"$f":"ROW()-4","v":2},null,{"$f":"IFERROR(VLOOKUP($B6,別添!$B$5:$G$29,2,FALSE),\"\")","v":0},{"$f":"IFERROR(VLOOKUP($B6,別添!$B$5:$G$29,4,FALSE),\"\")","v":0},{"$f":"IFERROR(VLOOKUP($B6,別添!$B$5:$G$29,5,FALSE),\"\")","v":0},{"$f":"IFERROR(VLOOKUP($B6,別添!$B$5:$G$29,6,FALSE),\"\")","v":""},{"$f":"IF(M6>0,実績報告書!$W$7,\"\")","v":""},{"$f":"SUMIFS(別添!I$5:I$29,別添!$B$5:$B$29,$B6)","v":0},{"$f":"IFERROR(IF(COUNTIFS(別添!$B$5:$B$29,B6,別添!$J$5:$J$29,\"有\")>0,\"有\",\"\"),\"\")","v":""},{"$f":"SUMIFS(別添!K$5:K$29,別添!$B$5:$B$29,$B6)","v":0},{"$f":"SUMIFS(別添!L$5:L$29,別添!$B$5:$B$29,$B6)","v":0},{"$f":"SUMIFS(別添!M$5:M$29,別添!$B$5:$B$29,$B6)","v":0},{"$f":"SUM(H6,J6,K6,L6)","v":0},{"$f":"SUMIFS(別添!O$5:O$29,別添!$B$5:$B$29,$B6)","v":0},{"$f":"SUMIFS(別添!P$5:P$29,別添!$B$5:$B$29,$B6)","v":0},{"$f":"SUMIFS(別添!Q$5:Q$29,別添!$B$5:$B$29,$B6)","v":0},{"$f":"SUMIFS(別添!R$5:R$29,別添!$B$5:$B$29,$B6)","v":0},{"$f":"SUM(N6,O6,P6,Q6)","v":0},{"$f":"SUMIFS(別添!T$5:T$29,別添!$B$5:$B$29,$B6)","v":0},{"$f":"SUMIFS(別添!U$5:U$29,別添!$B$5:$B$29,$B6)","v":0},{"$f":"SUMIFS(別添!V$5:V$29,別添!$B$5:$B$29,$B6)","v":0},{"$f":"SUMIFS(別添!W$5:W$29,別添!$B$5:$B$29,$B6)","v":0},{"$f":"SUM(S6,T6,U6,V6)","v":0}]
[3,"",{"$f":"IFERROR(VLOOKUP($B7,別添!$B$5:$G$29,2,FALSE),\"\")","v":""},{"$f":"IFERROR(VLOOKUP($B7,別添!$B$5:$G$29,4,FALSE),\"\")","v":""},{"$f":"IFERROR(VLOOKUP($B7,別添!$B$5:$G$29,5,FALSE),\"\")","v":""},{"$f":"IFERROR(VLOOKUP($B7,別添!$B$5:$G$29,6,FALSE),\"\")","v":""},{"$f":"IF(M7>0,実績報告書!$W$7,\"\")","v":""},{"$f":"SUMIFS(別添!I$5:I$29,別添!$B$5:$B$29,$B7)","v":0},{"$f":"IFERROR(IF(COUNTIFS(別添!$B$5:$B$29,B7,別添!$J$5:$J$29,\"有\")>0,\"有\",\"\"),\"\")","v":""},{"$f":"SUMIFS(別添!K$5:K$29,別添!$B$5:$B$29,$B7)","v":0},{"$f":"SUMIFS(別添!L$5:L$29,別添!$B$5:$B$29,$B7)","v":0},{"$f":"SUMIFS(別添!M$5:M$29,別添!$B$5:$B$29,$B7)","v":0},0,{"$f":"SUMIFS(別添!O$5:O$29,別添!$B$5:$B$29,$B7)","v":0},{"$f":"SUMIFS(別添!P$5:P$29,別添!$B$5:$B$29,$B7)","v":0},{"$f":"SUMIFS(別添!Q$5:Q$29,別添!$B$5:$B$29,$B7)","v":0},{"$f":"SUMIFS(別添!R$5:R$29,別添!$B$5:$B$29,$B7)","v":0},0,{"$f":"SUMIFS(別添!T$5:T$29,別添!$B$5:$B$29,$B7)","v":0},{"$f":"SUMIFS(別添!U$5:U$29,別添!$B$5:$B$29,$B7)","v":0},{"$f":"SUMIFS(別添!V$5:V$29,別添!$B$5:$B$29,$B7)","v":0},{"$f":"SUMIFS(別添!W$5:W$29,別添!$B$5:$B$29,$B7)","v":0},0]
[4,null,{"$f":"IFERROR(VLOOKUP($B8,別添!$B$5:$G$29,2,FALSE),\"\")","v":0},{"$f":"IFERROR(VLOOKUP($B8,別添!$B$5:$G$29,4,FALSE),\"\")","v":0},{"$f":"IFERROR(VLOOKUP($B8,別添!$B$5:$G$29,5,FALSE),\"\")","v":0},{"$f":"IFERROR(VLOOKUP($B8,別添!$B$5:$G$29,6,FALSE),\"\")","v":""},{"$f":"IF(M8>0,実績報告書!$W$7,\"\")","v":""},{"$f":"SUMIFS(別添!I$5:I$29,別添!$B$5:$B$29,$B8)","v":0},{"$f":"IFERROR(IF(COUNTIFS(別添!$B$5:$B$29,B8,別添!$J$5:$J$29,\"有\")>0,\"有\",\"\"),\"\")","v":""},{"$f":"SUMIFS(別添!K$5:K$29,別添!$B$5:$B$29,$B8)","v":0},{"$f":"SUMIFS(別添!L$5:L$29,別添!$B$5:$B$29,$B8)","v":0},{"$f":"SUMIFS(別添!M$5:M$29,別添!$B$5:$B$29,$B8)","v":0},0,{"$f":"SUMIFS(別添!O$5:O$29,別添!$B$5:$B$29,$B8)","v":0},{"$f":"SUMIFS(別添!P$5:P$29,別添!$B$5:$B$29,$B8)","v":0},{"$f":"SUMIFS(別添!Q$5:Q$29,別添!$B$5:$B$29,$B8)","v":0},{"$f":"SUMIFS(別添!R$5:R$29,別添!$B$5:$B$29,$B8)","v":0},0,{"$f":"SUMIFS(別添!T$5:T$29,別添!$B$5:$B$29,$B8)","v":0},{"$f":"SUMIFS(別添!U$5:U$29,別添!$B$5:$B$29,$B8)","v":0},{"$f":"SUMIFS(別添!V$5:V$29,別添!$B$5:$B$29,$B8)","v":0},{"$f":"SUMIFS(別添!W$5:W$29,別添!$B$5:$B$29,$B8)","v":0},0]
[5,null,{"$f":"IFERROR(VLOOKUP($B9,別添!$B$5:$G$29,2,FALSE),\"\")","v":0},{"$f":"IFERROR(VLOOKUP($B9,別添!$B$5:$G$29,4,FALSE),\"\")","v":0},{"$f":"IFERROR(VLOOKUP($B9,別添!$B$5:$G$29,5,FALSE),\"\")","v":0},{"$f":"IFERROR(VLOOKUP($B9,別添!$B$5:$G$29,6,FALSE),\"\")","v":""},{"$f":"IF(M9>0,実績報告書!$W$7,\"\")","v":""},{"$f":"SUMIFS(別添!I$5:I$29,別添!$B$5:$B$29,$B9)","v":0},{"$f":"IFERROR(IF(COUNTIFS(別添!$B$5:$B$29,B9,別添!$J$5:$J$29,\"有\")>0,\"有\",\"\"),\"\")","v":""},{"$f":"SUMIFS(別添!K$5:K$29,別添!$B$5:$B$29,$B9)","v":0},{"$f":"SUMIFS(別添!L$5:L$29,別添!$B$5:$B$29,$B9)","v":0},{"$f":"SUMIFS(別添!M$5:M$29,別添!$B$5:$B$29,$B9)","v":0},0,{"$f":"SUMIFS(別添!O$5:O$29,別添!$B$5:$B$29,$B9)","v":0},{"$f":"SUMIFS(別添!P$5:P$29,別添!$B$5:$B$29,$B9)","v":0},{"$f":"SUMIFS(別添!Q$5:Q$29,別添!$B$5:$B$29,$B9)","v":0},{"$f":"SUMIFS(別添!R$5:R$29,別添!$B$5:$B$29,$B9)","v":0},0,{"$f":"SUMIFS(別添!T$5:T$29,別添!$B$5:$B$29,$B9)","v":0},{"$f":"SUMIFS(別添!U$5:U$29,別添!$B$5:$B$29,$B9)","v":0},{"$f":"SUMIFS(別添!V$5:V$29,別添!$B$5:$B$29,$B9)","v":0},{"$f":"SUMIFS(別添!W$5:W$29,別添!$B$5:$B$29,$B9)","v":0},0]
[6,null,{"$f":"IFERROR(VLOOKUP($B10,別添!$B$5:$G$29,2,FALSE),\"\")","v":0},{"$f":"IFERROR(VLOOKUP($B10,別添!$B$5:$G$29,4,FALSE),\"\")","v":0},{"$f":"IFERROR(VLOOKUP($B10,別添!$B$5:$G$29,5,FALSE),\"\")","v":0},{"$f":"IFERROR(VLOOKUP($B10,別添!$B$5:$G$29,6,FALSE),\"\")","v":""},{"$f":"IF(M10>0,実績報告書!$W$7,\"\")","v":""},{"$f":"SUMIFS(別添!I$5:I$29,別添!$B$5:$B$29,$B10)","v":0},{"$f":"IFERROR(IF(COUNTIFS(別添!$B$5:$B$29,B10,別添!$J$5:$J$29,\"有\")>0,\"有\",\"\"),\"\")","v":""},{"$f":"SUMIFS(別添!K$5:K$29,別添!$B$5:$B$29,$B10)","v":0},{"$f":"SUMIFS(別添!L$5:L$29,別添!$B$5:$B$29,$B10)","v":0},{"$f":"SUMIFS(別添!M$5:M$29,別添!$B$5:$B$29,$B10)","v":0},0,{"$f":"SUMIFS(別添!O$5:O$29,別添!$B$5:$B$29,$B10)","v":0},{"$f":"SUMIFS(別添!P$5:P$29,別添!$B$5:$B$29,$B10)","v":0},{"$f":"SUMIFS(別添!Q$5:Q$29,別添!$B$5:$B$29,$B10)","v":0},{"$f":"SUMIFS(別添!R$5:R$29,別添!$B$5:$B$29,$B10)","v":0},0,{"$f":"SUMIFS(別添!T$5:T$29,別添!$B$5:$B$29,$B10)","v":0},{"$f":"SUMIFS(別添!U$5:U$29,別添!$B$5:$B$29,$B10)","v":0},{"$f":"SUMIFS(別添!V$5:V$29,別添!$B$5:$B$29,$B10)","v":0},{"$f":"SUMIFS(別添!W$5:W$29,別添!$B$5:$B$29,$B10)","v":0},0]
[7,null,{"$f":"IFERROR(VLOOKUP($B11,別添!$B$5:$G$29,2,FALSE),\"\")","v":0},{"$f":"IFERROR(VLOOKUP($B11,別添!$B$5:$G$29,4,FALSE),\"\")","v":0},{"$f":"IFERROR(VLOOKUP($B11,別添!$B$5:$G$29,5,FALSE),\"\")","v":0},{"$f":"IFERROR(VLOOKUP($B11,別添!$B$5:$G$29,6,FALSE),\"\")","v":""},{"$f":"IF(M11>0,実績報告書!$W$7,\"\")","v":""},{"$f":"SUMIFS(別添!I$5:I$29,別添!$B$5:$B$29,$B11)","v":0},{"$f":"IFERROR(IF(COUNTIFS(別添!$B$5:$B$29,B11,別添!$J$5:$J$29,\"有\")>0,\"有\",\"\"),\"\")","v":""},{"$f":"SUMIFS(別添!K$5:K$29,別添!$B$5:$B$29,$B11)","v":0},{"$f":"SUMIFS(別添!L$5:L$29,別添!$B$5:$B$29,$B11)","v":0},{"$f":"SUMIFS(別添!M$5:M$29,別添!$B$5:$B$29,$B11)","v":0},0,{"$f":"SUMIFS(別添!O$5:O$29,別添!$B$5:$B$29,$B11)","v":0},{"$f":"SUMIFS(別添!P$5:P$29,別添!$B$5:$B$29,$B11)","v":0},{"$f":"SUMIFS(別添!Q$5:Q$29,別添!$B$5:$B$29,$B11)","v":0},{"$f":"SUMIFS(別添!R$5:R$29,別添!$B$5:$B$29,$B11)","v":0},0,{"$f":"SUMIFS(別添!T$5:T$29,別添!$B$5:$B$29,$B11)","v":0},{"$f":"SUMIFS(別添!U$5:U$29,別添!$B$5:$B$29,$B11)","v":0},{"$f":"SUMIFS(別添!V$5:V$29,別添!$B$5:$B$29,$B11)","v":0},{"$f":"SUMIFS(別添!W$5:W$29,別添!$B$5:$B$29,$B11)","v":0},0]
[8,null,{"$f":"IFERROR(VLOOKUP($B12,別添!$B$5:$G$29,2,FALSE),\"\")","v":0},{"$f":"IFERROR(VLOOKUP($B12,別添!$B$5:$G$29,4,FALSE),\"\")","v":0},{"$f":"IFERROR(VLOOKUP($B12,別添!$B$5:$G$29,5,FALSE),\"\")","v":0},{"$f":"IFERROR(VLOOKUP($B12,別添!$B$5:$G$29,6,FALSE),\"\")","v":""},{"$f":"IF(M12>0,実績報告書!$W$7,\"\")","v":""},{"$f":"SUMIFS(別添!I$5:I$29,別添!$B$5:$B$29,$B12)","v":0},{"$f":"IFERROR(IF(COUNTIFS(別添!$B$5:$B$29,B12,別添!$J$5:$J$29,\"有\")>0,\"有\",\"\"),\"\")","v":""},{"$f":"SUMIFS(別添!K$5:K$29,別添!$B$5:$B$29,$B12)","v":0},{"$f":"SUMIFS(別添!L$5:L$29,別添!$B$5:$B$29,$B12)","v":0},{"$f":"SUMIFS(別添!M$5:M$29,別添!$B$5:$B$29,$B12)","v":0},0,{"$f":"SUMIFS(別添!O$5:O$29,別添!$B$5:$B$29,$B12)","v":0},{"$f":"SUMIFS(別添!P$5:P$29,別添!$B$5:$B$29,$B12)","v":0},{"$f":"SUMIFS(別添!Q$5:Q$29,別添!$B$5:$B$29,$B12)","v":0},{"$f":"SUMIFS(別添!R$5:R$29,別添!$B$5:$B$29,$B12)","v":0},0,{"$f":"SUMIFS(別添!T$5:T$29,別添!$B$5:$B$29,$B12)","v":0},{"$f":"SUMIFS(別添!U$5:U$29,別添!$B$5:$B$29,$B12)","v":0},{"$f":"SUMIFS(別添!V$5:V$29,別添!$B$5:$B$29,$B12)","v":0},{"$f":"SUMIFS(別添!W$5:W$29,別添!$B$5:$B$29,$B12)","v":0},0]
[9,null,{"$f":"IFERROR(VLOOKUP($B13,別添!$B$5:$G$29,2,FALSE),\"\")","v":0},{"$f":"IFERROR(VLOOKUP($B13,別添!$B$5:$G$29,4,FALSE),\"\")","v":0},{"$f":"IFERROR(VLOOKUP($B13,別添!$B$5:$G$29,5,FALSE),\"\")","v":0},{"$f":"IFERROR(VLOOKUP($B13,別添!$B$5:$G$29,6,FALSE),\"\")","v":""},{"$f":"IF(M13>0,実績報告書!$W$7,\"\")","v":""},{"$f":"SUMIFS(別添!I$5:I$29,別添!$B$5:$B$29,$B13)","v":0},{"$f":"IFERROR(IF(COUNTIFS(別添!$B$5:$B$29,B13,別添!$J$5:$J$29,\"有\")>0,\"有\",\"\"),\"\")","v":""},{"$f":"SUMIFS(別添!K$5:K$29,別添!$B$5:$B$29,$B13)","v":0},{"$f":"SUMIFS(別添!L$5:L$29,別添!$B$5:$B$29,$B13)","v":0},{"$f":"SUMIFS(別添!M$5:M$29,別添!$B$5:$B$29,$B13)","v":0},0,{"$f":"SUMIFS(別添!O$5:O$29,別添!$B$5:$B$29,$B13)","v":0},{"$f":"SUMIFS(別添!P$5:P$29,別添!$B$5:$B$29,$B13)","v":0},{"$f":"SUMIFS(別添!Q$5:Q$29,別添!$B$5:$B$29,$B13)","v":0},{"$f":"SUMIFS(別添!R$5:R$29,別添!$B$5:$B$29,$B13)","v":0},0,{"$f":"SUMIFS(別添!T$5:T$29,別添!$B$5:$B$29,$B13)","v":0},{"$f":"SUMIFS(別添!U$5:U$29,別添!$B$5:$B$29,$B13)","v":0},{"$f":"SUMIFS(別添!V$5:V$29,別添!$B$5:$B$29,$B13)","v":0},{"$f":"SUMIFS(別添!W$5:W$29,別添!$B$5:$B$29,$B13)","v":0},0]
[10,null,{"$f":"IFERROR(VLOOKUP($B14,別添!$B$5:$G$29,2,FALSE),\"\")","v":0},{"$f":"IFERROR(VLOOKUP($B14,別添!$B$5:$G$29,4,FALSE),\"\")","v":0},{"$f":"IFERROR(VLOOKUP($B14,別添!$B$5:$G$29,5,FALSE),\"\")","v":0},{"$f":"IFERROR(VLOOKUP($B14,別添!$B$5:$G$29,6,FALSE),\"\")","v":""},{"$f":"IF(M14>0,実績報告書!$W$7,\"\")","v":""},{"$f":"SUMIFS(別添!I$5:I$29,別添!$B$5:$B$29,$B14)","v":0},{"$f":"IFERROR(IF(COUNTIFS(別添!$B$5:$B$29,B14,別添!$J$5:$J$29,\"有\")>0,\"有\",\"\"),\"\")","v":""},{"$f":"SUMIFS(別添!K$5:K$29,別添!$B$5:$B$29,$B14)","v":0},{"$f":"SUMIFS(別添!L$5:L$29,別添!$B$5:$B$29,$B14)","v":0},{"$f":"SUMIFS(別添!M$5:M$29,別添!$B$5:$B$29,$B14)","v":0},0,{"$f":"SUMIFS(別添!O$5:O$29,別添!$B$5:$B$29,$B14)","v":0},{"$f":"SUMIFS(別添!P$5:P$29,別添!$B$5:$B$29,$B14)","v":0},{"$f":"SUMIFS(別添!Q$5:Q$29,別添!$B$5:$B$29,$B14)","v":0},{"$f":"SUMIFS(別添!R$5:R$29,別添!$B$5:$B$29,$B14)","v":0},0,{"$f":"SUMIFS(別添!T$5:T$29,別添!$B$5:$B$29,$B14)","v":0},{"$f":"SUMIFS(別添!U$5:U$29,別添!$B$5:$B$29,$B14)","v":0},{"$f":"SUMIFS(別添!V$5:V$29,別添!$B$5:$B$29,$B14)","v":0},{"$f":"SUMIFS(別添!W$5:W$29,別添!$B$5:$B$29,$B14)","v":0},0]
[11,null,{"$f":"IFERROR(VLOOKUP($B15,別添!$B$5:$G$29,2,FALSE),\"\")","v":0},{"$f":"IFERROR(VLOOKUP($B15,別添!$B$5:$G$29,4,FALSE),\"\")","v":0},{"$f":"IFERROR(VLOOKUP($B15,別添!$B$5:$G$29,5,FALSE),\"\")","v":0},{"$f":"IFERROR(VLOOKUP($B15,別添!$B$5:$G$29,6,FALSE),\"\")","v":""},{"$f":"IF(M15>0,実績報告書!$W$7,\"\")","v":""},{"$f":"SUMIFS(別添!I$5:I$29,別添!$B$5:$B$29,$B15)","v":0},{"$f":"IFERROR(IF(COUNTIFS(別添!$B$5:$B$29,B15,別添!$J$5:$J$29,\"有\")>0,\"有\",\"\"),\"\")","v":""},{"$f":"SUMIFS(別添!K$5:K$29,別添!$B$5:$B$29,$B15)","v":0},{"$f":"SUMIFS(別添!L$5:L$29,別添!$B$5:$B$29,$B15)","v":0},{"$f":"SUMIFS(別添!M$5:M$29,別添!$B$5:$B$29,$B15)","v":0},0,{"$f":"SUMIFS(別添!O$5:O$29,別添!$B$5:$B$29,$B15)","v":0},{"$f":"SUMIFS(別添!P$5:P$29,別添!$B$5:$B$29,$B15)","v":0},{"$f":"SUMIFS(別添!Q$5:Q$29,別添!$B$5:$B$29,$B15)","v":0},{"$f":"SUMIFS(別添!R$5:R$29,別添!$B$5:$B$29,$B15)","v":0},0,{"$f":"SUMIFS(別添!T$5:T$29,別添!$B$5:$B$29,$B15)","v":0},{"$f":"SUMIFS(別添!U$5:U$29,別添!$B$5:$B$29,$B15)","v":0},{"$f":"SUMIFS(別添!V$5:V$29,別添!$B$5:$B$29,$B15)","v":0},{"$f":"SUMIFS(別添!W$5:W$29,別添!$B$5:$B$29,$B15)","v":0},0]
[12,null,{"$f":"IFERROR(VLOOKUP($B16,別添!$B$5:$G$29,2,FALSE),\"\")","v":0},{"$f":"IFERROR(VLOOKUP($B16,別添!$B$5:$G$29,4,FALSE),\"\")","v":0},{"$f":"IFERROR(VLOOKUP($B16,別添!$B$5:$G$29,5,FALSE),\"\")","v":0},{"$f":"IFERROR(VLOOKUP($B16,別添!$B$5:$G$29,6,FALSE),\"\")","v":""},{"$f":"IF(M16>0,実績報告書!$W$7,\"\")","v":""},{"$f":"SUMIFS(別添!I$5:I$29,別添!$B$5:$B$29,$B16)","v":0},{"$f":"IFERROR(IF(COUNTIFS(別添!$B$5:$B$29,B16,別添!$J$5:$J$29,\"有\")>0,\"有\",\"\"),\"\")","v":""},{"$f":"SUMIFS(別添!K$5:K$29,別添!$B$5:$B$29,$B16)","v":0},{"$f":"SUMIFS(別添!L$5:L$29,別添!$B$5:$B$29,$B16)","v":0},{"$f":"SUMIFS(別添!M$5:M$29,別添!$B$5:$B$29,$B16)","v":0},0,{"$f":"SUMIFS(別添!O$5:O$29,別添!$B$5:$B$29,$B16)","v":0},{"$f":"SUMIFS(別添!P$5:P$29,別添!$B$5:$B$29,$B16)","v":0},{"$f":"SUMIFS(別添!Q$5:Q$29,別添!$B$5:$B$29,$B16)","v":0},{"$f":"SUMIFS(別添!R$5:R$29,別添!$B$5:$B$29,$B16)","v":0},0,{"$f":"SUMIFS(別添!T$5:T$29,別添!$B$5:$B$29,$B16)","v":0},{"$f":"SUMIFS(別添!U$5:U$29,別添!$B$5:$B$29,$B16)","v":0},{"$f":"SUMIFS(別添!V$5:V$29,別添!$B$5:$B$29,$B16)","v":0},{"$f":"SUMIFS(別添!W$5:W$29,別添!$B$5:$B$29,$B16)","v":0},0]
[13,null,{"$f":"IFERROR(VLOOKUP($B17,別添!$B$5:$G$29,2,FALSE),\"\")","v":0},{"$f":"IFERROR(VLOOKUP($B17,別添!$B$5:$G$29,4,FALSE),\"\")","v":0},{"$f":"IFERROR(VLOOKUP($B17,別添!$B$5:$G$29,5,FALSE),\"\")","v":0},{"$f":"IFERROR(VLOOKUP($B17,別添!$B$5:$G$29,6,FALSE),\"\")","v":""},{"$f":"IF(M17>0,実績報告書!$W$7,\"\")","v":""},{"$f":"SUMIFS(別添!I$5:I$29,別添!$B$5:$B$29,$B17)","v":0},{"$f":"IFERROR(IF(COUNTIFS(別添!$B$5:$B$29,B17,別添!$J$5:$J$29,\"有\")>0,\"有\",\"\"),\"\")","v":""},{"$f":"SUMIFS(別添!K$5:K$29,別添!$B$5:$B$29,$B17)","v":0},{"$f":"SUMIFS(別添!L$5:L$29,別添!$B$5:$B$29,$B17)","v":0},{"$f":"SUMIFS(別添!M$5:M$29,別添!$B$5:$B$29,$B17)","v":0},0,{"$f":"SUMIFS(別添!O$5:O$29,別添!$B$5:$B$29,$B17)","v":0},{"$f":"SUMIFS(別添!P$5:P$29,別添!$B$5:$B$29,$B17)","v":0},{"$f":"SUMIFS(別添!Q$5:Q$29,別添!$B$5:$B$29,$B17)","v":0},{"$f":"SUMIFS(別添!R$5:R$29,別添!$B$5:$B$29,$B17)","v":0},0,{"$f":"SUMIFS(別添!T$5:T$29,別添!$B$5:$B$29,$B17)","v":0},{"$f":"SUMIFS(別添!U$5:U$29,別添!$B$5:$B$29,$B17)","v":0},{"$f":"SUMIFS(別添!V$5:V$29,別添!$B$5:$B$29,$B17)","v":0},{"$f":"SUMIFS(別添!W$5:W$29,別添!$B$5:$B$29,$B17)","v":0},0]
[14,null,{"$f":"IFERROR(VLOOKUP($B18,別添!$B$5:$G$29,2,FALSE),\"\")","v":0},{"$f":"IFERROR(VLOOKUP($B18,別添!$B$5:$G$29,4,FALSE),\"\")","v":0},{"$f":"IFERROR(VLOOKUP($B18,別添!$B$5:$G$29,5,FALSE),\"\")","v":0},{"$f":"IFERROR(VLOOKUP($B18,別添!$B$5:$G$29,6,FALSE),\"\")","v":""},{"$f":"IF(M18>0,実績報告書!$W$7,\"\")","v":""},{"$f":"SUMIFS(別添!I$5:I$29,別添!$B$5:$B$29,$B18)","v":0},{"$f":"IFERROR(IF(COUNTIFS(別添!$B$5:$B$29,B18,別添!$J$5:$J$29,\"有\")>0,\"有\",\"\"),\"\")","v":""},{"$f":"SUMIFS(別添!K$5:K$29,別添!$B$5:$B$29,$B18)","v":0},{"$f":"SUMIFS(別添!L$5:L$29,別添!$B$5:$B$29,$B18)","v":0},{"$f":"SUMIFS(別添!M$5:M$29,別添!$B$5:$B$29,$B18)","v":0},0,{"$f":"SUMIFS(別添!O$5:O$29,別添!$B$5:$B$29,$B18)","v":0},{"$f":"SUMIFS(別添!P$5:P$29,別添!$B$5:$B$29,$B18)","v":0},{"$f":"SUMIFS(別添!Q$5:Q$29,別添!$B$5:$B$29,$B18)","v":0},{"$f":"SUMIFS(別添!R$5:R$29,別添!$B$5:$B$29,$B18)","v":0},0,{"$f":"SUMIFS(別添!T$5:T$29,別添!$B$5:$B$29,$B18)","v":0},{"$f":"SUMIFS(別添!U$5:U$29,別添!$B$5:$B$29,$B18)","v":0},{"$f":"SUMIFS(別添!V$5:V$29,別添!$B$5:$B$29,$B18)","v":0},{"$f":"SUMIFS(別添!W$5:W$29,別添!$B$5:$B$29,$B18)","v":0},0]
[15,null,{"$f":"IFERROR(VLOOKUP($B19,別添!$B$5:$G$29,2,FALSE),\"\")","v":0},{"$f":"IFERROR(VLOOKUP($B19,別添!$B$5:$G$29,4,FALSE),\"\")","v":0},{"$f":"IFERROR(VLOOKUP($B19,別添!$B$5:$G$29,5,FALSE),\"\")","v":0},{"$f":"IFERROR(VLOOKUP($B19,別添!$B$5:$G$29,6,FALSE),\"\")","v":""},{"$f":"IF(M19>0,実績報告書!$W$7,\"\")","v":""},{"$f":"SUMIFS(別添!I$5:I$29,別添!$B$5:$B$29,$B19)","v":0},{"$f":"IFERROR(IF(COUNTIFS(別添!$B$5:$B$29,B19,別添!$J$5:$J$29,\"有\")>0,\"有\",\"\"),\"\")","v":""},{"$f":"SUMIFS(別添!K$5:K$29,別添!$B$5:$B$29,$B19)","v":0},{"$f":"SUMIFS(別添!L$5:L$29,別添!$B$5:$B$29,$B19)","v":0},{"$f":"SUMIFS(別添!M$5:M$29,別添!$B$5:$B$29,$B19)","v":0},0,{"$f":"SUMIFS(別添!O$5:O$29,別添!$B$5:$B$29,$B19)","v":0},{"$f":"SUMIFS(別添!P$5:P$29,別添!$B$5:$B$29,$B19)","v":0},{"$f":"SUMIFS(別添!Q$5:Q$29,別添!$B$5:$B$29,$B19)","v":0},{"$f":"SUMIFS(別添!R$5:R$29,別添!$B$5:$B$29,$B19)","v":0},0,{"$f":"SUMIFS(別添!T$5:T$29,別添!$B$5:$B$29,$B19)","v":0},{"$f":"SUMIFS(別添!U$5:U$29,別添!$B$5:$B$29,$B19)","v":0},{"$f":"SUMIFS(別添!V$5:V$29,別添!$B$5:$B$29,$B19)","v":0},{"$f":"SUMIFS(別添!W$5:W$29,別添!$B$5:$B$29,$B19)","v":0},0]
[16,null,{"$f":"IFERROR(VLOOKUP($B20,別添!$B$5:$G$29,2,FALSE),\"\")","v":0},{"$f":"IFERROR(VLOOKUP($B20,別添!$B$5:$G$29,4,FALSE),\"\")","v":0},{"$f":"IFERROR(VLOOKUP($B20,別添!$B$5:$G$29,5,FALSE),\"\")","v":0},{"$f":"IFERROR(VLOOKUP($B20,別添!$B$5:$G$29,6,FALSE),\"\")","v":""},{"$f":"IF(M20>0,実績報告書!$W$7,\"\")","v":""},{"$f":"SUMIFS(別添!I$5:I$29,別添!$B$5:$B$29,$B20)","v":0},{"$f":"IFERROR(IF(COUNTIFS(別添!$B$5:$B$29,B20,別添!$J$5:$J$29,\"有\")>0,\"有\",\"\"),\"\")","v":""},{"$f":"SUMIFS(別添!K$5:K$29,別添!$B$5:$B$29,$B20)","v":0},{"$f":"SUMIFS(別添!L$5:L$29,別添!$B$5:$B$29,$B20)","v":0},{"$f":"SUMIFS(別添!M$5:M$29,別添!$B$5:$B$29,$B20)","v":0},{"$f":"SUM(H20,J20,K20,L20)","v":0},{"$f":"SUMIFS(別添!O$5:O$29,別添!$B$5:$B$29,$B20)","v":0},{"$f":"SUMIFS(別添!P$5:P$29,別添!$B$5:$B$29,$B20)","v":0},{"$f":"SUMIFS(別添!Q$5:Q$29,別添!$B$5:$B$29,$B20)","v":0},{"$f":"SUMIFS(別添!R$5:R$29,別添!$B$5:$B$29,$B20)","v":0},0,{"$f":"SUMIFS(別添!T$5:T$29,別添!$B$5:$B$29,$B20)","v":0},{"$f":"SUMIFS(別添!U$5:U$29,別添!$B$5:$B$29,$B20)","v":0},{"$f":"SUMIFS(別添!V$5:V$29,別添!$B$5:$B$29,$B20)","v":0},{"$f":"SUMIFS(別添!W$5:W$29,別添!$B$5:$B$29,$B20)","v":0},0]
[17,null,{"$f":"IFERROR(VLOOKUP($B21,別添!$B$5:$G$29,2,FALSE),\"\")","v":0},{"$f":"IFERROR(VLOOKUP($B21,別添!$B$5:$G$29,4,FALSE),\"\")","v":0},{"$f":"IFERROR(VLOOKUP($B21,別添!$B$5:$G$29,5,FALSE),\"\")","v":0},{"$f":"IFERROR(VLOOKUP($B21,別添!$B$5:$G$29,6,FALSE),\"\")","v":""},{"$f":"IF(M21>0,実績報告書!$W$7,\"\")","v":""},{"$f":"SUMIFS(別添!I$5:I$29,別添!$B$5:$B$29,$B21)","v":0},{"$f":"IFERROR(IF(COUNTIFS(別添!$B$5:$B$29,B21,別添!$J$5:$J$29,\"有\")>0,\"有\",\"\"),\"\")","v":""},{"$f":"SUMIFS(別添!K$5:K$29,別添!$B$5:$B$29,$B21)","v":0},{"$f":"SUMIFS(別添!L$5:L$29,別添!$B$5:$B$29,$B21)","v":0},{"$f":"SUMIFS(別添!M$5:M$29,別添!$B$5:$B$29,$B21)","v":0},0,{"$f":"SUMIFS(別添!O$5:O$29,別添!$B$5:$B$29,$B21)","v":0},{"$f":"SUMIFS(別添!P$5:P$29,別添!$B$5:$B$29,$B21)","v":0},{"$f":"SUMIFS(別添!Q$5:Q$29,別添!$B$5:$B$29,$B21)","v":0},{"$f":"SUMIFS(別添!R$5:R$29,別添!$B$5:$B$29,$B21)","v":0},0,{"$f":"SUMIFS(別添!T$5:T$29,別添!$B$5:$B$29,$B21)","v":0},{"$f":"SUMIFS(別添!U$5:U$29,別添!$B$5:$B$29,$B21)","v":0},{"$f":"SUMIFS(別添!V$5:V$29,別添!$B$5:$B$29,$B21)","v":0},{"$f":"SUMIFS(別添!W$5:W$29,別添!$B$5:$B$29,$B21)","v":0},0]
[18,null,{"$f":"IFERROR(VLOOKUP($B22,別添!$B$5:$G$29,2,FALSE),\"\")","v":0},{"$f":"IFERROR(VLOOKUP($B22,別添!$B$5:$G$29,4,FALSE),\"\")","v":0},{"$f":"IFERROR(VLOOKUP($B22,別添!$B$5:$G$29,5,FALSE),\"\")","v":0},{"$f":"IFERROR(VLOOKUP($B22,別添!$B$5:$G$29,6,FALSE),\"\")","v":""},{"$f":"IF(M22>0,実績報告書!$W$7,\"\")","v":""},{"$f":"SUMIFS(別添!I$5:I$29,別添!$B$5:$B$29,$B22)","v":0},{"$f":"IFERROR(IF(COUNTIFS(別添!$B$5:$B$29,B22,別添!$J$5:$J$29,\"有\")>0,\"有\",\"\"),\"\")","v":""},{"$f":"SUMIFS(別添!K$5:K$29,別添!$B$5:$B$29,$B22)","v":0},{"$f":"SUMIFS(別添!L$5:L$29,別添!$B$5:$B$29,$B22)","v":0},{"$f":"SUMIFS(別添!M$5:M$29,別添!$B$5:$B$29,$B22)","v":0},0,{"$f":"SUMIFS(別添!O$5:O$29,別添!$B$5:$B$29,$B22)","v":0},{"$f":"SUMIFS(別添!P$5:P$29,別添!$B$5:$B$29,$B22)","v":0},{"$f":"SUMIFS(別添!Q$5:Q$29,別添!$B$5:$B$29,$B22)","v":0},{"$f":"SUMIFS(別添!R$5:R$29,別添!$B$5:$B$29,$B22)","v":0},0,{"$f":"SUMIFS(別添!T$5:T$29,別添!$B$5:$B$29,$B22)","v":0},{"$f":"SUMIFS(別添!U$5:U$29,別添!$B$5:$B$29,$B22)","v":0},{"$f":"SUMIFS(別添!V$5:V$29,別添!$B$5:$B$29,$B22)","v":0},{"$f":"SUMIFS(別添!W$5:W$29,別添!$B$5:$B$29,$B22)","v":0},0]
[19,null,{"$f":"IFERROR(VLOOKUP($B23,別添!$B$5:$G$29,2,FALSE),\"\")","v":0},{"$f":"IFERROR(VLOOKUP($B23,別添!$B$5:$G$29,4,FALSE),\"\")","v":0},{"$f":"IFERROR(VLOOKUP($B23,別添!$B$5:$G$29,5,FALSE),\"\")","v":0},{"$f":"IFERROR(VLOOKUP($B23,別添!$B$5:$G$29,6,FALSE),\"\")","v":""},{"$f":"IF(M23>0,実績報告書!$W$7,\"\")","v":""},{"$f":"SUMIFS(別添!I$5:I$29,別添!$B$5:$B$29,$B23)","v":0},{"$f":"IFERROR(IF(COUNTIFS(別添!$B$5:$B$29,B23,別添!$J$5:$J$29,\"有\")>0,\"有\",\"\"),\"\")","v":""},{"$f":"SUMIFS(別添!K$5:K$29,別添!$B$5:$B$29,$B23)","v":0},{"$f":"SUMIFS(別添!L$5:L$29,別添!$B$5:$B$29,$B23)","v":0},{"$f":"SUMIFS(別添!M$5:M$29,別添!$B$5:$B$29,$B23)","v":0},0,{"$f":"SUMIFS(別添!O$5:O$29,別添!$B$5:$B$29,$B23)","v":0},{"$f":"SUMIFS(別添!P$5:P$29,別添!$B$5:$B$29,$B23)","v":0},{"$f":"SUMIFS(別添!Q$5:Q$29,別添!$B$5:$B$29,$B23)","v":0},{"$f":"SUMIFS(別添!R$5:R$29,別添!$B$5:$B$29,$B23)","v":0},0,{"$f":"SUMIFS(別添!T$5:T$29,別添!$B$5:$B$29,$B23)","v":0},{"$f":"SUMIFS(別添!U$5:U$29,別添!$B$5:$B$29,$B23)","v":0},{"$f":"SUMIFS(別添!V$5:V$29,別添!$B$5:$B$29,$B23)","v":0},{"$f":"SUMIFS(別添!W$5:W$29,別添!$B$5:$B$29,$B23)","v":0},0]
[20,null,{"$f":"IFERROR(VLOOKUP($B24,別添!$B$5:$G$29,2,FALSE),\"\")","v":0},{"$f":"IFERROR(VLOOKUP($B24,別添!$B$5:$G$29,4,FALSE),\"\")","v":0},{"$f":"IFERROR(VLOOKUP($B24,別添!$B$5:$G$29,5,FALSE),\"\")","v":0},{"$f":"IFERROR(VLOOKUP($B24,別添!$B$5:$G$29,6,FALSE),\"\")","v":""},{"$f":"IF(M24>0,実績報告書!$W$7,\"\")","v":""},{"$f":"SUMIFS(別添!I$5:I$29,別添!$B$5:$B$29,$B24)","v":0},{"$f":"IFERROR(IF(COUNTIFS(別添!$B$5:$B$29,B24,別添!$J$5:$J$29,\"有\")>0,\"有\",\"\"),\"\")","v":""},{"$f":"SUMIFS(別添!K$5:K$29,別添!$B$5:$B$29,$B24)","v":0},{"$f":"SUMIFS(別添!L$5:L$29,別添!$B$5:$B$29,$B24)","v":0},{"$f":"SUMIFS(別添!M$5:M$29,別添!$B$5:$B$29,$B24)","v":0},0,{"$f":"SUMIFS(別添!O$5:O$29,別添!$B$5:$B$29,$B24)","v":0},{"$f":"SUMIFS(別添!P$5:P$29,別添!$B$5:$B$29,$B24)","v":0},{"$f":"SUMIFS(別添!Q$5:Q$29,別添!$B$5:$B$29,$B24)","v":0},{"$f":"SUMIFS(別添!R$5:R$29,別添!$B$5:$B$29,$B24)","v":0},0,{"$f":"SUMIFS(別添!T$5:T$29,別添!$B$5:$B$29,$B24)","v":0},{"$f":"SUMIFS(別添!U$5:U$29,別添!$B$5:$B$29,$B24)","v":0},{"$f":"SUMIFS(別添!V$5:V$29,別添!$B$5:$B$29,$B24)","v":0},{"$f":"SUMIFS(別添!W$5:W$29,別添!$B$5:$B$29,$B24)","v":0},0]
[21,null,{"$f":"IFERROR(VLOOKUP($B25,別添!$B$5:$G$29,2,FALSE),\"\")","v":0},{"$f":"IFERROR(VLOOKUP($B25,別添!$B$5:$G$29,4,FALSE),\"\")","v":0},{"$f":"IFERROR(VLOOKUP($B25,別添!$B$5:$G$29,5,FALSE),\"\")","v":0},{"$f":"IFERROR(VLOOKUP($B25,別添!$B$5:$G$29,6,FALSE),\"\")","v":""},{"$f":"IF(M25>0,実績報告書!$W$7,\"\")","v":""},{"$f":"SUMIFS(別添!I$5:I$29,別添!$B$5:$B$29,$B25)","v":0},{"$f":"IFERROR(IF(COUNTIFS(別添!$B$5:$B$29,B25,別添!$J$5:$J$29,\"有\")>0,\"有\",\"\"),\"\")","v":""},{"$f":"SUMIFS(別添!K$5:K$29,別添!$B$5:$B$29,$B25)","v":0},{"$f":"SUMIFS(別添!L$5:L$29,別添!$B$5:$B$29,$B25)","v":0},{"$f":"SUMIFS(別添!M$5:M$29,別添!$B$5:$B$29,$B25)","v":0},0,{"$f":"SUMIFS(別添!O$5:O$29,別添!$B$5:$B$29,$B25)","v":0},{"$f":"SUMIFS(別添!P$5:P$29,別添!$B$5:$B$29,$B25)","v":0},{"$f":"SUMIFS(別添!Q$5:Q$29,別添!$B$5:$B$29,$B25)","v":0},{"$f":"SUMIFS(別添!R$5:R$29,別添!$B$5:$B$29,$B25)","v":0},0,{"$f":"SUMIFS(別添!T$5:T$29,別添!$B$5:$B$29,$B25)","v":0},{"$f":"SUMIFS(別添!U$5:U$29,別添!$B$5:$B$29,$B25)","v":0},{"$f":"SUMIFS(別添!V$5:V$29,別添!$B$5:$B$29,$B25)","v":0},{"$f":"SUMIFS(別添!W$5:W$29,別添!$B$5:$B$29,$B25)","v":0},0]
[22,null,{"$f":"IFERROR(VLOOKUP($B26,別添!$B$5:$G$29,2,FALSE),\"\")","v":0},{"$f":"IFERROR(VLOOKUP($B26,別添!$B$5:$G$29,4,FALSE),\"\")","v":0},{"$f":"IFERROR(VLOOKUP($B26,別添!$B$5:$G$29,5,FALSE),\"\")","v":0},{"$f":"IFERROR(VLOOKUP($B26,別添!$B$5:$G$29,6,FALSE),\"\")","v":""},{"$f":"IF(M26>0,実績報告書!$W$7,\"\")","v":""},{"$f":"SUMIFS(別添!I$5:I$29,別添!$B$5:$B$29,$B26)","v":0},{"$f":"IFERROR(IF(COUNTIFS(別添!$B$5:$B$29,B26,別添!$J$5:$J$29,\"有\")>0,\"有\",\"\"),\"\")","v":""},{"$f":"SUMIFS(別添!K$5:K$29,別添!$B$5:$B$29,$B26)","v":0},{"$f":"SUMIFS(別添!L$5:L$29,別添!$B$5:$B$29,$B26)","v":0},{"$f":"SUMIFS(別添!M$5:M$29,別添!$B$5:$B$29,$B26)","v":0},0,{"$f":"SUMIFS(別添!O$5:O$29,別添!$B$5:$B$29,$B26)","v":0},{"$f":"SUMIFS(別添!P$5:P$29,別添!$B$5:$B$29,$B26)","v":0},{"$f":"SUMIFS(別添!Q$5:Q$29,別添!$B$5:$B$29,$B26)","v":0},{"$f":"SUMIFS(別添!R$5:R$29,別添!$B$5:$B$29,$B26)","v":0},0,{"$f":"SUMIFS(別添!T$5:T$29,別添!$B$5:$B$29,$B26)","v":0},{"$f":"SUMIFS(別添!U$5:U$29,別添!$B$5:$B$29,$B26)","v":0},{"$f":"SUMIFS(別添!V$5:V$29,別添!$B$5:$B$29,$B26)","v":0},{"$f":"SUMIFS(別添!W$5:W$29,別添!$B$5:$B$29,$B26)","v":0},0]
[23,null,{"$f":"IFERROR(VLOOKUP($B27,別添!$B$5:$G$29,2,FALSE),\"\")","v":0},{"$f":"IFERROR(VLOOKUP($B27,別添!$B$5:$G$29,4,FALSE),\"\")","v":0},{"$f":"IFERROR(VLOOKUP($B27,別添!$B$5:$G$29,5,FALSE),\"\")","v":0},{"$f":"IFERROR(VLOOKUP($B27,別添!$B$5:$G$29,6,FALSE),\"\")","v":""},{"$f":"IF(M27>0,実績報告書!$W$7,\"\")","v":""},{"$f":"SUMIFS(別添!I$5:I$29,別添!$B$5:$B$29,$B27)","v":0},{"$f":"IFERROR(IF(COUNTIFS(別添!$B$5:$B$29,B27,別添!$J$5:$J$29,\"有\")>0,\"有\",\"\"),\"\")","v":""},{"$f":"SUMIFS(別添!K$5:K$29,別添!$B$5:$B$29,$B27)","v":0},{"$f":"SUMIFS(別添!L$5:L$29,別添!$B$5:$B$29,$B27)","v":0},{"$f":"SUMIFS(別添!M$5:M$29,別添!$B$5:$B$29,$B27)","v":0},0,{"$f":"SUMIFS(別添!O$5:O$29,別添!$B$5:$B$29,$B27)","v":0},{"$f":"SUMIFS(別添!P$5:P$29,別添!$B$5:$B$29,$B27)","v":0},{"$f":"SUMIFS(別添!Q$5:Q$29,別添!$B$5:$B$29,$B27)","v":0},{"$f":"SUMIFS(別添!R$5:R$29,別添!$B$5:$B$29,$B27)","v":0},0,{"$f":"SUMIFS(別添!T$5:T$29,別添!$B$5:$B$29,$B27)","v":0},{"$f":"SUMIFS(別添!U$5:U$29,別添!$B$5:$B$29,$B27)","v":0},{"$f":"SUMIFS(別添!V$5:V$29,別添!$B$5:$B$29,$B27)","v":0},{"$f":"SUMIFS(別添!W$5:W$29,別添!$B$5:$B$29,$B27)","v":0},0]
[24,null,{"$f":"IFERROR(VLOOKUP($B28,別添!$B$5:$G$29,2,FALSE),\"\")","v":0},{"$f":"IFERROR(VLOOKUP($B28,別添!$B$5:$G$29,4,FALSE),\"\")","v":0},{"$f":"IFERROR(VLOOKUP($B28,別添!$B$5:$G$29,5,FALSE),\"\")","v":0},{"$f":"IFERROR(VLOOKUP($B28,別添!$B$5:$G$29,6,FALSE),\"\")","v":""},{"$f":"IF(M28>0,実績報告書!$W$7,\"\")","v":""},{"$f":"SUMIFS(別添!I$5:I$29,別添!$B$5:$B$29,$B28)","v":0},{"$f":"IFERROR(IF(COUNTIFS(別添!$B$5:$B$29,B28,別添!$J$5:$J$29,\"有\")>0,\"有\",\"\"),\"\")","v":""},{"$f":"SUMIFS(別添!K$5:K$29,別添!$B$5:$B$29,$B28)","v":0},{"$f":"SUMIFS(別添!L$5:L$29,別添!$B$5:$B$29,$B28)","v":0},{"$f":"SUMIFS(別添!M$5:M$29,別添!$B$5:$B$29,$B28)","v":0},0,{"$f":"SUMIFS(別添!O$5:O$29,別添!$B$5:$B$29,$B28)","v":0},{"$f":"SUMIFS(別添!P$5:P$29,別添!$B$5:$B$29,$B28)","v":0},{"$f":"SUMIFS(別添!Q$5:Q$29,別添!$B$5:$B$29,$B28)","v":0},{"$f":"SUMIFS(別添!R$5:R$29,別添!$B$5:$B$29,$B28)","v":0},0,{"$f":"SUMIFS(別添!T$5:T$29,別添!$B$5:$B$29,$B28)","v":0},{"$f":"SUMIFS(別添!U$5:U$29,別添!$B$5:$B$29,$B28)","v":0},{"$f":"SUMIFS(別添!V$5:V$29,別添!$B$5:$B$29,$B28)","v":0},{"$f":"SUMIFS(別添!W$5:W$29,別添!$B$5:$B$29,$B28)","v":0},0]
[25,null,{"$f":"IFERROR(VLOOKUP($B29,別添!$B$5:$G$29,2,FALSE),\"\")","v":0},{"$f":"IFERROR(VLOOKUP($B29,別添!$B$5:$G$29,4,FALSE),\"\")","v":0},{"$f":"IFERROR(VLOOKUP($B29,別添!$B$5:$G$29,5,FALSE),\"\")","v":0},{"$f":"IFERROR(VLOOKUP($B29,別添!$B$5:$G$29,6,FALSE),\"\")","v":""},{"$f":"IF(M29>0,実績報告書!$W$7,\"\")","v":""},{"$f":"SUMIFS(別添!I$5:I$29,別添!$B$5:$B$29,$B29)","v":0},{"$f":"IFERROR(IF(COUNTIFS(別添!$B$5:$B$29,B29,別添!$J$5:$J$29,\"有\")>0,\"有\",\"\"),\"\")","v":""},{"$f":"SUMIFS(別添!K$5:K$29,別添!$B$5:$B$29,$B29)","v":0},{"$f":"SUMIFS(別添!L$5:L$29,別添!$B$5:$B$29,$B29)","v":0},{"$f":"SUMIFS(別添!M$5:M$29,別添!$B$5:$B$29,$B29)","v":0},0,{"$f":"SUMIFS(別添!O$5:O$29,別添!$B$5:$B$29,$B29)","v":0},{"$f":"SUMIFS(別添!P$5:P$29,別添!$B$5:$B$29,$B29)","v":0},{"$f":"SUMIFS(別添!Q$5:Q$29,別添!$B$5:$B$29,$B29)","v":0},{"$f":"SUMIFS(別添!R$5:R$29,別添!$B$5:$B$29,$B29)","v":0},0,{"$f":"SUMIFS(別添!T$5:T$29,別添!$B$5:$B$29,$B29)","v":0},{"$f":"SUMIFS(別添!U$5:U$29,別添!$B$5:$B$29,$B29)","v":0},{"$f":"SUMIFS(別添!V$5:V$29,別添!$B$5:$B$29,$B29)","v":0},{"$f":"SUMIFS(別添!W$5:W$29,別添!$B$5:$B$29,$B29)","v":0},0]
[26,null,{"$f":"IFERROR(VLOOKUP($B30,別添!$B$5:$G$29,2,FALSE),\"\")","v":0},{"$f":"IFERROR(VLOOKUP($B30,別添!$B$5:$G$29,4,FALSE),\"\")","v":0},{"$f":"IFERROR(VLOOKUP($B30,別添!$B$5:$G$29,5,FALSE),\"\")","v":0},{"$f":"IFERROR(VLOOKUP($B30,別添!$B$5:$G$29,6,FALSE),\"\")","v":""},{"$f":"IF(M30>0,実績報告書!$W$7,\"\")","v":""},{"$f":"SUMIFS(別添!I$5:I$29,別添!$B$5:$B$29,$B30)","v":0},{"$f":"IFERROR(IF(COUNTIFS(別添!$B$5:$B$29,B30,別添!$J$5:$J$29,\"有\")>0,\"有\",\"\"),\"\")","v":""},{"$f":"SUMIFS(別添!K$5:K$29,別添!$B$5:$B$29,$B30)","v":0},{"$f":"SUMIFS(別添!L$5:L$29,別添!$B$5:$B$29,$B30)","v":0},{"$f":"SUMIFS(別添!M$5:M$29,別添!$B$5:$B$29,$B30)","v":0},{"$f":"SUM(H30,J30,K30,L30)","v":0},{"$f":"SUMIFS(別添!O$5:O$29,別添!$B$5:$B$29,$B30)","v":0},{"$f":"SUMIFS(別添!P$5:P$29,別添!$B$5:$B$29,$B30)","v":0},{"$f":"SUMIFS(別添!Q$5:Q$29,別添!$B$5:$B$29,$B30)","v":0},{"$f":"SUMIFS(別添!R$5:R$29,別添!$B$5:$B$29,$B30)","v":0},0,{"$f":"SUMIFS(別添!T$5:T$29,別添!$B$5:$B$29,$B30)","v":0},{"$f":"SUMIFS(別添!U$5:U$29,別添!$B$5:$B$29,$B30)","v":0},{"$f":"SUMIFS(別添!V$5:V$29,別添!$B$5:$B$29,$B30)","v":0},{"$f":"SUMIFS(別添!W$5:W$29,別添!$B$5:$B$29,$B30)","v":0},0]
[27,null,{"$f":"IFERROR(VLOOKUP($B31,別添!$B$5:$G$29,2,FALSE),\"\")","v":0},{"$f":"IFERROR(VLOOKUP($B31,別添!$B$5:$G$29,4,FALSE),\"\")","v":0},{"$f":"IFERROR(VLOOKUP($B31,別添!$B$5:$G$29,5,FALSE),\"\")","v":0},{"$f":"IFERROR(VLOOKUP($B31,別添!$B$5:$G$29,6,FALSE),\"\")","v":""},{"$f":"IF(M31>0,実績報告書!$W$7,\"\")","v":""},{"$f":"SUMIFS(別添!I$5:I$29,別添!$B$5:$B$29,$B31)","v":0},{"$f":"IFERROR(IF(COUNTIFS(別添!$B$5:$B$29,B31,別添!$J$5:$J$29,\"有\")>0,\"有\",\"\"),\"\")","v":""},{"$f":"SUMIFS(別添!K$5:K$29,別添!$B$5:$B$29,$B31)","v":0},{"$f":"SUMIFS(別添!L$5:L$29,別添!$B$5:$B$29,$B31)","v":0},{"$f":"SUMIFS(別添!M$5:M$29,別添!$B$5:$B$29,$B31)","v":0},0,{"$f":"SUMIFS(別添!O$5:O$29,別添!$B$5:$B$29,$B31)","v":0},{"$f":"SUMIFS(別添!P$5:P$29,別添!$B$5:$B$29,$B31)","v":0},{"$f":"SUMIFS(別添!Q$5:Q$29,別添!$B$5:$B$29,$B31)","v":0},{"$f":"SUMIFS(別添!R$5:R$29,別添!$B$5:$B$29,$B31)","v":0},0,{"$f":"SUMIFS(別添!T$5:T$29,別添!$B$5:$B$29,$B31)","v":0},{"$f":"SUMIFS(別添!U$5:U$29,別添!$B$5:$B$29,$B31)","v":0},{"$f":"SUMIFS(別添!V$5:V$29,別添!$B$5:$B$29,$B31)","v":0},{"$f":"SUMIFS(別添!W$5:W$29,別添!$B$5:$B$29,$B31)","v":0},0]
[28,null,{"$f":"IFERROR(VLOOKUP($B32,別添!$B$5:$G$29,2,FALSE),\"\")","v":0},{"$f":"IFERROR(VLOOKUP($B32,別添!$B$5:$G$29,4,FALSE),\"\")","v":0},{"$f":"IFERROR(VLOOKUP($B32,別添!$B$5:$G$29,5,FALSE),\"\")","v":0},{"$f":"IFERROR(VLOOKUP($B32,別添!$B$5:$G$29,6,FALSE),\"\")","v":""},{"$f":"IF(M32>0,実績報告書!$W$7,\"\")","v":""},{"$f":"SUMIFS(別添!I$5:I$29,別添!$B$5:$B$29,$B32)","v":0},{"$f":"IFERROR(IF(COUNTIFS(別添!$B$5:$B$29,B32,別添!$J$5:$J$29,\"有\")>0,\"有\",\"\"),\"\")","v":""},{"$f":"SUMIFS(別添!K$5:K$29,別添!$B$5:$B$29,$B32)","v":0},{"$f":"SUMIFS(別添!L$5:L$29,別添!$B$5:$B$29,$B32)","v":0},{"$f":"SUMIFS(別添!M$5:M$29,別添!$B$5:$B$29,$B32)","v":0},0,{"$f":"SUMIFS(別添!O$5:O$29,別添!$B$5:$B$29,$B32)","v":0},{"$f":"SUMIFS(別添!P$5:P$29,別添!$B$5:$B$29,$B32)","v":0},{"$f":"SUMIFS(別添!Q$5:Q$29,別添!$B$5:$B$29,$B32)","v":0},{"$f":"SUMIFS(別添!R$5:R$29,別添!$B$5:$B$29,$B32)","v":0},0,{"$f":"SUMIFS(別添!T$5:T$29,別添!$B$5:$B$29,$B32)","v":0},{"$f":"SUMIFS(別添!U$5:U$29,別添!$B$5:$B$29,$B32)","v":0},{"$f":"SUMIFS(別添!V$5:V$29,別添!$B$5:$B$29,$B32)","v":0},{"$f":"SUMIFS(別添!W$5:W$29,別添!$B$5:$B$29,$B32)","v":0},0]
[29,null,{"$f":"IFERROR(VLOOKUP($B33,別添!$B$5:$G$29,2,FALSE),\"\")","v":0},{"$f":"IFERROR(VLOOKUP($B33,別添!$B$5:$G$29,4,FALSE),\"\")","v":0},{"$f":"IFERROR(VLOOKUP($B33,別添!$B$5:$G$29,5,FALSE),\"\")","v":0},{"$f":"IFERROR(VLOOKUP($B33,別添!$B$5:$G$29,6,FALSE),\"\")","v":""},{"$f":"IF(M33>0,実績報告書!$W$7,\"\")","v":""},{"$f":"SUMIFS(別添!I$5:I$29,別添!$B$5:$B$29,$B33)","v":0},{"$f":"IFERROR(IF(COUNTIFS(別添!$B$5:$B$29,B33,別添!$J$5:$J$29,\"有\")>0,\"有\",\"\"),\"\")","v":""},{"$f":"SUMIFS(別添!K$5:K$29,別添!$B$5:$B$29,$B33)","v":0},{"$f":"SUMIFS(別添!L$5:L$29,別添!$B$5:$B$29,$B33)","v":0},{"$f":"SUMIFS(別添!M$5:M$29,別添!$B$5:$B$29,$B33)","v":0},0,{"$f":"SUMIFS(別添!O$5:O$29,別添!$B$5:$B$29,$B33)","v":0},{"$f":"SUMIFS(別添!P$5:P$29,別添!$B$5:$B$29,$B33)","v":0},{"$f":"SUMIFS(別添!Q$5:Q$29,別添!$B$5:$B$29,$B33)","v":0},{"$f":"SUMIFS(別添!R$5:R$29,別添!$B$5:$B$29,$B33)","v":0},0,{"$f":"SUMIFS(別添!T$5:T$29,別添!$B$5:$B$29,$B33)","v":0},{"$f":"SUMIFS(別添!U$5:U$29,別添!$B$5:$B$29,$B33)","v":0},{"$f":"SUMIFS(別添!V$5:V$29,別添!$B$5:$B$29,$B33)","v":0},{"$f":"SUMIFS(別添!W$5:W$29,別添!$B$5:$B$29,$B33)","v":0},0]
[30,null,{"$f":"IFERROR(VLOOKUP($B34,別添!$B$5:$G$29,2,FALSE),\"\")","v":0},{"$f":"IFERROR(VLOOKUP($B34,別添!$B$5:$G$29,4,FALSE),\"\")","v":0},{"$f":"IFERROR(VLOOKUP($B34,別添!$B$5:$G$29,5,FALSE),\"\")","v":0},{"$f":"IFERROR(VLOOKUP($B34,別添!$B$5:$G$29,6,FALSE),\"\")","v":""},{"$f":"IF(M34>0,実績報告書!$W$7,\"\")","v":""},{"$f":"SUMIFS(別添!I$5:I$29,別添!$B$5:$B$29,$B34)","v":0},{"$f":"IFERROR(IF(COUNTIFS(別添!$B$5:$B$29,B34,別添!$J$5:$J$29,\"有\")>0,\"有\",\"\"),\"\")","v":""},{"$f":"SUMIFS(別添!K$5:K$29,別添!$B$5:$B$29,$B34)","v":0},{"$f":"SUMIFS(別添!L$5:L$29,別添!$B$5:$B$29,$B34)","v":0},{"$f":"SUMIFS(別添!M$5:M$29,別添!$B$5:$B$29,$B34)","v":0},0,{"$f":"SUMIFS(別添!O$5:O$29,別添!$B$5:$B$29,$B34)","v":0},{"$f":"SUMIFS(別添!P$5:P$29,別添!$B$5:$B$29,$B34)","v":0},{"$f":"SUMIFS(別添!Q$5:Q$29,別添!$B$5:$B$29,$B34)","v":0},{"$f":"SUMIFS(別添!R$5:R$29,別添!$B$5:$B$29,$B34)","v":0},0,{"$f":"SUMIFS(別添!T$5:T$29,別添!$B$5:$B$29,$B34)","v":0},{"$f":"SUMIFS(別添!U$5:U$29,別添!$B$5:$B$29,$B34)","v":0},{"$f":"SUMIFS(別添!V$5:V$29,別添!$B$5:$B$29,$B34)","v":0},{"$f":"SUMIFS(別添!W$5:W$29,別添!$B$5:$B$29,$B34)","v":0},0]
[31,null,{"$f":"IFERROR(VLOOKUP($B35,別添!$B$5:$G$29,2,FALSE),\"\")","v":0},{"$f":"IFERROR(VLOOKUP($B35,別添!$B$5:$G$29,4,FALSE),\"\")","v":0},{"$f":"IFERROR(VLOOKUP($B35,別添!$B$5:$G$29,5,FALSE),\"\")","v":0},{"$f":"IFERROR(VLOOKUP($B35,別添!$B$5:$G$29,6,FALSE),\"\")","v":""},{"$f":"IF(M35>0,実績報告書!$W$7,\"\")","v":""},{"$f":"SUMIFS(別添!I$5:I$29,別添!$B$5:$B$29,$B35)","v":0},{"$f":"IFERROR(IF(COUNTIFS(別添!$B$5:$B$29,B35,別添!$J$5:$J$29,\"有\")>0,\"有\",\"\"),\"\")","v":""},{"$f":"SUMIFS(別添!K$5:K$29,別添!$B$5:$B$29,$B35)","v":0},{"$f":"SUMIFS(別添!L$5:L$29,別添!$B$5:$B$29,$B35)","v":0},{"$f":"SUMIFS(別添!M$5:M$29,別添!$B$5:$B$29,$B35)","v":0},0,{"$f":"SUMIFS(別添!O$5:O$29,別添!$B$5:$B$29,$B35)","v":0},{"$f":"SUMIFS(別添!P$5:P$29,別添!$B$5:$B$29,$B35)","v":0},{"$f":"SUMIFS(別添!Q$5:Q$29,別添!$B$5:$B$29,$B35)","v":0},{"$f":"SUMIFS(別添!R$5:R$29,別添!$B$5:$B$29,$B35)","v":0},0,{"$f":"SUMIFS(別添!T$5:T$29,別添!$B$5:$B$29,$B35)","v":0},{"$f":"SUMIFS(別添!U$5:U$29,別添!$B$5:$B$29,$B35)","v":0},{"$f":"SUMIFS(別添!V$5:V$29,別添!$B$5:$B$29,$B35)","v":0},{"$f":"SUMIFS(別添!W$5:W$29,別添!$B$5:$B$29,$B35)","v":0},0]
[32,null,{"$f":"IFERROR(VLOOKUP($B36,別添!$B$5:$G$29,2,FALSE),\"\")","v":0},{"$f":"IFERROR(VLOOKUP($B36,別添!$B$5:$G$29,4,FALSE),\"\")","v":0},{"$f":"IFERROR(VLOOKUP($B36,別添!$B$5:$G$29,5,FALSE),\"\")","v":0},{"$f":"IFERROR(VLOOKUP($B36,別添!$B$5:$G$29,6,FALSE),\"\")","v":""},{"$f":"IF(M36>0,実績報告書!$W$7,\"\")","v":""},{"$f":"SUMIFS(別添!I$5:I$29,別添!$B$5:$B$29,$B36)","v":0},{"$f":"IFERROR(IF(COUNTIFS(別添!$B$5:$B$29,B36,別添!$J$5:$J$29,\"有\")>0,\"有\",\"\"),\"\")","v":""},{"$f":"SUMIFS(別添!K$5:K$29,別添!$B$5:$B$29,$B36)","v":0},{"$f":"SUMIFS(別添!L$5:L$29,別添!$B$5:$B$29,$B36)","v":0},{"$f":"SUMIFS(別添!M$5:M$29,別添!$B$5:$B$29,$B36)","v":0},0,{"$f":"SUMIFS(別添!O$5:O$29,別添!$B$5:$B$29,$B36)","v":0},{"$f":"SUMIFS(別添!P$5:P$29,別添!$B$5:$B$29,$B36)","v":0},{"$f":"SUMIFS(別添!Q$5:Q$29,別添!$B$5:$B$29,$B36)","v":0},{"$f":"SUMIFS(別添!R$5:R$29,別添!$B$5:$B$29,$B36)","v":0},0,{"$f":"SUMIFS(別添!T$5:T$29,別添!$B$5:$B$29,$B36)","v":0},{"$f":"SUMIFS(別添!U$5:U$29,別添!$B$5:$B$29,$B36)","v":0},{"$f":"SUMIFS(別添!V$5:V$29,別添!$B$5:$B$29,$B36)","v":0},{"$f":"SUMIFS(別添!W$5:W$29,別添!$B$5:$B$29,$B36)","v":0},0]
[33,null,{"$f":"IFERROR(VLOOKUP($B37,別添!$B$5:$G$29,2,FALSE),\"\")","v":0},{"$f":"IFERROR(VLOOKUP($B37,別添!$B$5:$G$29,4,FALSE),\"\")","v":0},{"$f":"IFERROR(VLOOKUP($B37,別添!$B$5:$G$29,5,FALSE),\"\")","v":0},{"$f":"IFERROR(VLOOKUP($B37,別添!$B$5:$G$29,6,FALSE),\"\")","v":""},{"$f":"IF(M37>0,実績報告書!$W$7,\"\")","v":""},{"$f":"SUMIFS(別添!I$5:I$29,別添!$B$5:$B$29,$B37)","v":0},{"$f":"IFERROR(IF(COUNTIFS(別添!$B$5:$B$29,B37,別添!$J$5:$J$29,\"有\")>0,\"有\",\"\"),\"\")","v":""},{"$f":"SUMIFS(別添!K$5:K$29,別添!$B$5:$B$29,$B37)","v":0},{"$f":"SUMIFS(別添!L$5:L$29,別添!$B$5:$B$29,$B37)","v":0},{"$f":"SUMIFS(別添!M$5:M$29,別添!$B$5:$B$29,$B37)","v":0},0,{"$f":"SUMIFS(別添!O$5:O$29,別添!$B$5:$B$29,$B37)","v":0},{"$f":"SUMIFS(別添!P$5:P$29,別添!$B$5:$B$29,$B37)","v":0},{"$f":"SUMIFS(別添!Q$5:Q$29,別添!$B$5:$B$29,$B37)","v":0},{"$f":"SUMIFS(別添!R$5:R$29,別添!$B$5:$B$29,$B37)","v":0},0,{"$f":"SUMIFS(別添!T$5:T$29,別添!$B$5:$B$29,$B37)","v":0},{"$f":"SUMIFS(別添!U$5:U$29,別添!$B$5:$B$29,$B37)","v":0},{"$f":"SUMIFS(別添!V$5:V$29,別添!$B$5:$B$29,$B37)","v":0},{"$f":"SUMIFS(別添!W$5:W$29,別添!$B$5:$B$29,$B37)","v":0},0]
[34,null,{"$f":"IFERROR(VLOOKUP($B38,別添!$B$5:$G$29,2,FALSE),\"\")","v":0},{"$f":"IFERROR(VLOOKUP($B38,別添!$B$5:$G$29,4,FALSE),\"\")","v":0},{"$f":"IFERROR(VLOOKUP($B38,別添!$B$5:$G$29,5,FALSE),\"\")","v":0},{"$f":"IFERROR(VLOOKUP($B38,別添!$B$5:$G$29,6,FALSE),\"\")","v":""},{"$f":"IF(M38>0,実績報告書!$W$7,\"\")","v":""},{"$f":"SUMIFS(別添!I$5:I$29,別添!$B$5:$B$29,$B38)","v":0},{"$f":"IFERROR(IF(COUNTIFS(別添!$B$5:$B$29,B38,別添!$J$5:$J$29,\"有\")>0,\"有\",\"\"),\"\")","v":""},{"$f":"SUMIFS(別添!K$5:K$29,別添!$B$5:$B$29,$B38)","v":0},{"$f":"SUMIFS(別添!L$5:L$29,別添!$B$5:$B$29,$B38)","v":0},{"$f":"SUMIFS(別添!M$5:M$29,別添!$B$5:$B$29,$B38)","v":0},0,{"$f":"SUMIFS(別添!O$5:O$29,別添!$B$5:$B$29,$B38)","v":0},{"$f":"SUMIFS(別添!P$5:P$29,別添!$B$5:$B$29,$B38)","v":0},{"$f":"SUMIFS(別添!Q$5:Q$29,別添!$B$5:$B$29,$B38)","v":0},{"$f":"SUMIFS(別添!R$5:R$29,別添!$B$5:$B$29,$B38)","v":0},0,{"$f":"SUMIFS(別添!T$5:T$29,別添!$B$5:$B$29,$B38)","v":0},{"$f":"SUMIFS(別添!U$5:U$29,別添!$B$5:$B$29,$B38)","v":0},{"$f":"SUMIFS(別添!V$5:V$29,別添!$B$5:$B$29,$B38)","v":0},{"$f":"SUMIFS(別添!W$5:W$29,別添!$B$5:$B$29,$B38)","v":0},0]
[35,null,{"$f":"IFERROR(VLOOKUP($B39,別添!$B$5:$G$29,2,FALSE),\"\")","v":0},{"$f":"IFERROR(VLOOKUP($B39,別添!$B$5:$G$29,4,FALSE),\"\")","v":0},{"$f":"IFERROR(VLOOKUP($B39,別添!$B$5:$G$29,5,FALSE),\"\")","v":0},{"$f":"IFERROR(VLOOKUP($B39,別添!$B$5:$G$29,6,FALSE),\"\")","v":""},{"$f":"IF(M39>0,実績報告書!$W$7,\"\")","v":""},{"$f":"SUMIFS(別添!I$5:I$29,別添!$B$5:$B$29,$B39)","v":0},{"$f":"IFERROR(IF(COUNTIFS(別添!$B$5:$B$29,B39,別添!$J$5:$J$29,\"有\")>0,\"有\",\"\"),\"\")","v":""},{"$f":"SUMIFS(別添!K$5:K$29,別添!$B$5:$B$29,$B39)","v":0},{"$f":"SUMIFS(別添!L$5:L$29,別添!$B$5:$B$29,$B39)","v":0},{"$f":"SUMIFS(別添!M$5:M$29,別添!$B$5:$B$29,$B39)","v":0},0,{"$f":"SUMIFS(別添!O$5:O$29,別添!$B$5:$B$29,$B39)","v":0},{"$f":"SUMIFS(別添!P$5:P$29,別添!$B$5:$B$29,$B39)","v":0},{"$f":"SUMIFS(別添!Q$5:Q$29,別添!$B$5:$B$29,$B39)","v":0},{"$f":"SUMIFS(別添!R$5:R$29,別添!$B$5:$B$29,$B39)","v":0},0,{"$f":"SUMIFS(別添!T$5:T$29,別添!$B$5:$B$29,$B39)","v":0},{"$f":"SUMIFS(別添!U$5:U$29,別添!$B$5:$B$29,$B39)","v":0},{"$f":"SUMIFS(別添!V$5:V$29,別添!$B$5:$B$29,$B39)","v":0},{"$f":"SUMIFS(別添!W$5:W$29,別添!$B$5:$B$29,$B39)","v":0},0]
[36,null,{"$f":"IFERROR(VLOOKUP($B40,別添!$B$5:$G$29,2,FALSE),\"\")","v":0},{"$f":"IFERROR(VLOOKUP($B40,別添!$B$5:$G$29,4,FALSE),\"\")","v":0},{"$f":"IFERROR(VLOOKUP($B40,別添!$B$5:$G$29,5,FALSE),\"\")","v":0},{"$f":"IFERROR(VLOOKUP($B40,別添!$B$5:$G$29,6,FALSE),\"\")","v":""},{"$f":"IF(M40>0,実績報告書!$W$7,\"\")","v":""},{"$f":"SUMIFS(別添!I$5:I$29,別添!$B$5:$B$29,$B40)","v":0},{"$f":"IFERROR(IF(COUNTIFS(別添!$B$5:$B$29,B40,別添!$J$5:$J$29,\"有\")>0,\"有\",\"\"),\"\")","v":""},{"$f":"SUMIFS(別添!K$5:K$29,別添!$B$5:$B$29,$B40)","v":0},{"$f":"SUMIFS(別添!L$5:L$29,別添!$B$5:$B$29,$B40)","v":0},{"$f":"SUMIFS(別添!M$5:M$29,別添!$B$5:$B$29,$B40)","v":0},0,{"$f":"SUMIFS(別添!O$5:O$29,別添!$B$5:$B$29,$B40)","v":0},{"$f":"SUMIFS(別添!P$5:P$29,別添!$B$5:$B$29,$B40)","v":0},{"$f":"SUMIFS(別添!Q$5:Q$29,別添!$B$5:$B$29,$B40)","v":0},{"$f":"SUMIFS(別添!R$5:R$29,別添!$B$5:$B$29,$B40)","v":0},0,{"$f":"SUMIFS(別添!T$5:T$29,別添!$B$5:$B$29,$B40)","v":0},{"$f":"SUMIFS(別添!U$5:U$29,別添!$B$5:$B$29,$B40)","v":0},{"$f":"SUMIFS(別添!V$5:V$29,別添!$B$5:$B$29,$B40)","v":0},{"$f":"SUMIFS(別添!W$5:W$29,別添!$B$5:$B$29,$B40)","v":0},0]
[37,null,{"$f":"IFERROR(VLOOKUP($B41,別添!$B$5:$G$29,2,FALSE),\"\")","v":0},{"$f":"IFERROR(VLOOKUP($B41,別添!$B$5:$G$29,4,FALSE),\"\")","v":0},{"$f":"IFERROR(VLOOKUP($B41,別添!$B$5:$G$29,5,FALSE),\"\")","v":0},{"$f":"IFERROR(VLOOKUP($B41,別添!$B$5:$G$29,6,FALSE),\"\")","v":""},{"$f":"IF(M41>0,実績報告書!$W$7,\"\")","v":""},{"$f":"SUMIFS(別添!I$5:I$29,別添!$B$5:$B$29,$B41)","v":0},{"$f":"IFERROR(IF(COUNTIFS(別添!$B$5:$B$29,B41,別添!$J$5:$J$29,\"有\")>0,\"有\",\"\"),\"\")","v":""},{"$f":"SUMIFS(別添!K$5:K$29,別添!$B$5:$B$29,$B41)","v":0},{"$f":"SUMIFS(別添!L$5:L$29,別添!$B$5:$B$29,$B41)","v":0},{"$f":"SUMIFS(別添!M$5:M$29,別添!$B$5:$B$29,$B41)","v":0},0,{"$f":"SUMIFS(別添!O$5:O$29,別添!$B$5:$B$29,$B41)","v":0},{"$f":"SUMIFS(別添!P$5:P$29,別添!$B$5:$B$29,$B41)","v":0},{"$f":"SUMIFS(別添!Q$5:Q$29,別添!$B$5:$B$29,$B41)","v":0},{"$f":"SUMIFS(別添!R$5:R$29,別添!$B$5:$B$29,$B41)","v":0},0,{"$f":"SUMIFS(別添!T$5:T$29,別添!$B$5:$B$29,$B41)","v":0},{"$f":"SUMIFS(別添!U$5:U$29,別添!$B$5:$B$29,$B41)","v":0},{"$f":"SUMIFS(別添!V$5:V$29,別添!$B$5:$B$29,$B41)","v":0},{"$f":"SUMIFS(別添!W$5:W$29,別添!$B$5:$B$29,$B41)","v":0},0]
[38,null,{"$f":"IFERROR(VLOOKUP($B42,別添!$B$5:$G$29,2,FALSE),\"\")","v":0},{"$f":"IFERROR(VLOOKUP($B42,別添!$B$5:$G$29,4,FALSE),\"\")","v":0},{"$f":"IFERROR(VLOOKUP($B42,別添!$B$5:$G$29,5,FALSE),\"\")","v":0},{"$f":"IFERROR(VLOOKUP($B42,別添!$B$5:$G$29,6,FALSE),\"\")","v":""},{"$f":"IF(M42>0,実績報告書!$W$7,\"\")","v":""},{"$f":"SUMIFS(別添!I$5:I$29,別添!$B$5:$B$29,$B42)","v":0},{"$f":"IFERROR(IF(COUNTIFS(別添!$B$5:$B$29,B42,別添!$J$5:$J$29,\"有\")>0,\"有\",\"\"),\"\")","v":""},{"$f":"SUMIFS(別添!K$5:K$29,別添!$B$5:$B$29,$B42)","v":0},{"$f":"SUMIFS(別添!L$5:L$29,別添!$B$5:$B$29,$B42)","v":0},{"$f":"SUMIFS(別添!M$5:M$29,別添!$B$5:$B$29,$B42)","v":0},0,{"$f":"SUMIFS(別添!O$5:O$29,別添!$B$5:$B$29,$B42)","v":0},{"$f":"SUMIFS(別添!P$5:P$29,別添!$B$5:$B$29,$B42)","v":0},{"$f":"SUMIFS(別添!Q$5:Q$29,別添!$B$5:$B$29,$B42)","v":0},{"$f":"SUMIFS(別添!R$5:R$29,別添!$B$5:$B$29,$B42)","v":0},0,{"$f":"SUMIFS(別添!T$5:T$29,別添!$B$5:$B$29,$B42)","v":0},{"$f":"SUMIFS(別添!U$5:U$29,別添!$B$5:$B$29,$B42)","v":0},{"$f":"SUMIFS(別添!V$5:V$29,別添!$B$5:$B$29,$B42)","v":0},{"$f":"SUMIFS(別添!W$5:W$29,別添!$B$5:$B$29,$B42)","v":0},0]
[39,null,{"$f":"IFERROR(VLOOKUP($B43,別添!$B$5:$G$29,2,FALSE),\"\")","v":0},{"$f":"IFERROR(VLOOKUP($B43,別添!$B$5:$G$29,4,FALSE),\"\")","v":0},{"$f":"IFERROR(VLOOKUP($B43,別添!$B$5:$G$29,5,FALSE),\"\")","v":0},{"$f":"IFERROR(VLOOKUP($B43,別添!$B$5:$G$29,6,FALSE),\"\")","v":""},{"$f":"IF(M43>0,実績報告書!$W$7,\"\")","v":""},{"$f":"SUMIFS(別添!I$5:I$29,別添!$B$5:$B$29,$B43)","v":0},{"$f":"IFERROR(IF(COUNTIFS(別添!$B$5:$B$29,B43,別添!$J$5:$J$29,\"有\")>0,\"有\",\"\"),\"\")","v":""},{"$f":"SUMIFS(別添!K$5:K$29,別添!$B$5:$B$29,$B43)","v":0},{"$f":"SUMIFS(別添!L$5:L$29,別添!$B$5:$B$29,$B43)","v":0},{"$f":"SUMIFS(別添!M$5:M$29,別添!$B$5:$B$29,$B43)","v":0},0,{"$f":"SUMIFS(別添!O$5:O$29,別添!$B$5:$B$29,$B43)","v":0},{"$f":"SUMIFS(別添!P$5:P$29,別添!$B$5:$B$29,$B43)","v":0},{"$f":"SUMIFS(別添!Q$5:Q$29,別添!$B$5:$B$29,$B43)","v":0},{"$f":"SUMIFS(別添!R$5:R$29,別添!$B$5:$B$29,$B43)","v":0},0,{"$f":"SUMIFS(別添!T$5:T$29,別添!$B$5:$B$29,$B43)","v":0},{"$f":"SUMIFS(別添!U$5:U$29,別添!$B$5:$B$29,$B43)","v":0},{"$f":"SUMIFS(別添!V$5:V$29,別添!$B$5:$B$29,$B43)","v":0},{"$f":"SUMIFS(別添!W$5:W$29,別添!$B$5:$B$29,$B43)","v":0},0]
[40,null,{"$f":"IFERROR(VLOOKUP($B44,別添!$B$5:$G$29,2,FALSE),\"\")","v":0},{"$f":"IFERROR(VLOOKUP($B44,別添!$B$5:$G$29,4,FALSE),\"\")","v":0},{"$f":"IFERROR(VLOOKUP($B44,別添!$B$5:$G$29,5,FALSE),\"\")","v":0},{"$f":"IFERROR(VLOOKUP($B44,別添!$B$5:$G$29,6,FALSE),\"\")","v":""},{"$f":"IF(M44>0,実績報告書!$W$7,\"\")","v":""},{"$f":"SUMIFS(別添!I$5:I$29,別添!$B$5:$B$29,$B44)","v":0},{"$f":"IFERROR(IF(COUNTIFS(別添!$B$5:$B$29,B44,別添!$J$5:$J$29,\"有\")>0,\"有\",\"\"),\"\")","v":""},{"$f":"SUMIFS(別添!K$5:K$29,別添!$B$5:$B$29,$B44)","v":0},{"$f":"SUMIFS(別添!L$5:L$29,別添!$B$5:$B$29,$B44)","v":0},{"$f":"SUMIFS(別添!M$5:M$29,別添!$B$5:$B$29,$B44)","v":0},0,{"$f":"SUMIFS(別添!O$5:O$29,別添!$B$5:$B$29,$B44)","v":0},{"$f":"SUMIFS(別添!P$5:P$29,別添!$B$5:$B$29,$B44)","v":0},{"$f":"SUMIFS(別添!Q$5:Q$29,別添!$B$5:$B$29,$B44)","v":0},{"$f":"SUMIFS(別添!R$5:R$29,別添!$B$5:$B$29,$B44)","v":0},0,{"$f":"SUMIFS(別添!T$5:T$29,別添!$B$5:$B$29,$B44)","v":0},{"$f":"SUMIFS(別添!U$5:U$29,別添!$B$5:$B$29,$B44)","v":0},{"$f":"SUMIFS(別添!V$5:V$29,別添!$B$5:$B$29,$B44)","v":0},{"$f":"SUMIFS(別添!W$5:W$29,別添!$B$5:$B$29,$B44)","v":0},0]
[41,null,{"$f":"IFERROR(VLOOKUP($B45,別添!$B$5:$G$29,2,FALSE),\"\")","v":0},{"$f":"IFERROR(VLOOKUP($B45,別添!$B$5:$G$29,4,FALSE),\"\")","v":0},{"$f":"IFERROR(VLOOKUP($B45,別添!$B$5:$G$29,5,FALSE),\"\")","v":0},{"$f":"IFERROR(VLOOKUP($B45,別添!$B$5:$G$29,6,FALSE),\"\")","v":""},{"$f":"IF(M45>0,実績報告書!$W$7,\"\")","v":""},{"$f":"SUMIFS(別添!I$5:I$29,別添!$B$5:$B$29,$B45)","v":0},{"$f":"IFERROR(IF(COUNTIFS(別添!$B$5:$B$29,B45,別添!$J$5:$J$29,\"有\")>0,\"有\",\"\"),\"\")","v":""},{"$f":"SUMIFS(別添!K$5:K$29,別添!$B$5:$B$29,$B45)","v":0},{"$f":"SUMIFS(別添!L$5:L$29,別添!$B$5:$B$29,$B45)","v":0},{"$f":"SUMIFS(別添!M$5:M$29,別添!$B$5:$B$29,$B45)","v":0},0,{"$f":"SUMIFS(別添!O$5:O$29,別添!$B$5:$B$29,$B45)","v":0},{"$f":"SUMIFS(別添!P$5:P$29,別添!$B$5:$B$29,$B45)","v":0},{"$f":"SUMIFS(別添!Q$5:Q$29,別添!$B$5:$B$29,$B45)","v":0},{"$f":"SUMIFS(別添!R$5:R$29,別添!$B$5:$B$29,$B45)","v":0},0,{"$f":"SUMIFS(別添!T$5:T$29,別添!$B$5:$B$29,$B45)","v":0},{"$f":"SUMIFS(別添!U$5:U$29,別添!$B$5:$B$29,$B45)","v":0},{"$f":"SUMIFS(別添!V$5:V$29,別添!$B$5:$B$29,$B45)","v":0},{"$f":"SUMIFS(別添!W$5:W$29,別添!$B$5:$B$29,$B45)","v":0},0]
[42,null,{"$f":"IFERROR(VLOOKUP($B46,別添!$B$5:$G$29,2,FALSE),\"\")","v":0},{"$f":"IFERROR(VLOOKUP($B46,別添!$B$5:$G$29,4,FALSE),\"\")","v":0},{"$f":"IFERROR(VLOOKUP($B46,別添!$B$5:$G$29,5,FALSE),\"\")","v":0},{"$f":"IFERROR(VLOOKUP($B46,別添!$B$5:$G$29,6,FALSE),\"\")","v":""},{"$f":"IF(M46>0,実績報告書!$W$7,\"\")","v":""},{"$f":"SUMIFS(別添!I$5:I$29,別添!$B$5:$B$29,$B46)","v":0},{"$f":"IFERROR(IF(COUNTIFS(別添!$B$5:$B$29,B46,別添!$J$5:$J$29,\"有\")>0,\"有\",\"\"),\"\")","v":""},{"$f":"SUMIFS(別添!K$5:K$29,別添!$B$5:$B$29,$B46)","v":0},{"$f":"SUMIFS(別添!L$5:L$29,別添!$B$5:$B$29,$B46)","v":0},{"$f":"SUMIFS(別添!M$5:M$29,別添!$B$5:$B$29,$B46)","v":0},0,{"$f":"SUMIFS(別添!O$5:O$29,別添!$B$5:$B$29,$B46)","v":0},{"$f":"SUMIFS(別添!P$5:P$29,別添!$B$5:$B$29,$B46)","v":0},{"$f":"SUMIFS(別添!Q$5:Q$29,別添!$B$5:$B$29,$B46)","v":0},{"$f":"SUMIFS(別添!R$5:R$29,別添!$B$5:$B$29,$B46)","v":0},0,{"$f":"SUMIFS(別添!T$5:T$29,別添!$B$5:$B$29,$B46)","v":0},{"$f":"SUMIFS(別添!U$5:U$29,別添!$B$5:$B$29,$B46)","v":0},{"$f":"SUMIFS(別添!V$5:V$29,別添!$B$5:$B$29,$B46)","v":0},{"$f":"SUMIFS(別添!W$5:W$29,別添!$B$5:$B$29,$B46)","v":0},0]
[43,null,{"$f":"IFERROR(VLOOKUP($B47,別添!$B$5:$G$29,2,FALSE),\"\")","v":0},{"$f":"IFERROR(VLOOKUP($B47,別添!$B$5:$G$29,4,FALSE),\"\")","v":0},{"$f":"IFERROR(VLOOKUP($B47,別添!$B$5:$G$29,5,FALSE),\"\")","v":0},{"$f":"IFERROR(VLOOKUP($B47,別添!$B$5:$G$29,6,FALSE),\"\")","v":""},{"$f":"IF(M47>0,実績報告書!$W$7,\"\")","v":""},{"$f":"SUMIFS(別添!I$5:I$29,別添!$B$5:$B$29,$B47)","v":0},{"$f":"IFERROR(IF(COUNTIFS(別添!$B$5:$B$29,B47,別添!$J$5:$J$29,\"有\")>0,\"有\",\"\"),\"\")","v":""},{"$f":"SUMIFS(別添!K$5:K$29,別添!$B$5:$B$29,$B47)","v":0},{"$f":"SUMIFS(別添!L$5:L$29,別添!$B$5:$B$29,$B47)","v":0},{"$f":"SUMIFS(別添!M$5:M$29,別添!$B$5:$B$29,$B47)","v":0},0,{"$f":"SUMIFS(別添!O$5:O$29,別添!$B$5:$B$29,$B47)","v":0},{"$f":"SUMIFS(別添!P$5:P$29,別添!$B$5:$B$29,$B47)","v":0},{"$f":"SUMIFS(別添!Q$5:Q$29,別添!$B$5:$B$29,$B47)","v":0},{"$f":"SUMIFS(別添!R$5:R$29,別添!$B$5:$B$29,$B47)","v":0},0,{"$f":"SUMIFS(別添!T$5:T$29,別添!$B$5:$B$29,$B47)","v":0},{"$f":"SUMIFS(別添!U$5:U$29,別添!$B$5:$B$29,$B47)","v":0},{"$f":"SUMIFS(別添!V$5:V$29,別添!$B$5:$B$29,$B47)","v":0},{"$f":"SUMIFS(別添!W$5:W$29,別添!$B$5:$B$29,$B47)","v":0},0]
[44,null,{"$f":"IFERROR(VLOOKUP($B48,別添!$B$5:$G$29,2,FALSE),\"\")","v":0},{"$f":"IFERROR(VLOOKUP($B48,別添!$B$5:$G$29,4,FALSE),\"\")","v":0},{"$f":"IFERROR(VLOOKUP($B48,別添!$B$5:$G$29,5,FALSE),\"\")","v":0},{"$f":"IFERROR(VLOOKUP($B48,別添!$B$5:$G$29,6,FALSE),\"\")","v":""},{"$f":"IF(M48>0,実績報告書!$W$7,\"\")","v":""},{"$f":"SUMIFS(別添!I$5:I$29,別添!$B$5:$B$29,$B48)","v":0},{"$f":"IFERROR(IF(COUNTIFS(別添!$B$5:$B$29,B48,別添!$J$5:$J$29,\"有\")>0,\"有\",\"\"),\"\")","v":""},{"$f":"SUMIFS(別添!K$5:K$29,別添!$B$5:$B$29,$B48)","v":0},{"$f":"SUMIFS(別添!L$5:L$29,別添!$B$5:$B$29,$B48)","v":0},{"$f":"SUMIFS(別添!M$5:M$29,別添!$B$5:$B$29,$B48)","v":0},0,{"$f":"SUMIFS(別添!O$5:O$29,別添!$B$5:$B$29,$B48)","v":0},{"$f":"SUMIFS(別添!P$5:P$29,別添!$B$5:$B$29,$B48)","v":0},{"$f":"SUMIFS(別添!Q$5:Q$29,別添!$B$5:$B$29,$B48)","v":0},{"$f":"SUMIFS(別添!R$5:R$29,別添!$B$5:$B$29,$B48)","v":0},0,{"$f":"SUMIFS(別添!T$5:T$29,別添!$B$5:$B$29,$B48)","v":0},{"$f":"SUMIFS(別添!U$5:U$29,別添!$B$5:$B$29,$B48)","v":0},{"$f":"SUMIFS(別添!V$5:V$29,別添!$B$5:$B$29,$B48)","v":0},{"$f":"SUMIFS(別添!W$5:W$29,別添!$B$5:$B$29,$B48)","v":0},0]
[45,null,{"$f":"IFERROR(VLOOKUP($B49,別添!$B$5:$G$29,2,FALSE),\"\")","v":0},{"$f":"IFERROR(VLOOKUP($B49,別添!$B$5:$G$29,4,FALSE),\"\")","v":0},{"$f":"IFERROR(VLOOKUP($B49,別添!$B$5:$G$29,5,FALSE),\"\")","v":0},{"$f":"IFERROR(VLOOKUP($B49,別添!$B$5:$G$29,6,FALSE),\"\")","v":""},{"$f":"IF(M49>0,実績報告書!$W$7,\"\")","v":""},{"$f":"SUMIFS(別添!I$5:I$29,別添!$B$5:$B$29,$B49)","v":0},{"$f":"IFERROR(IF(COUNTIFS(別添!$B$5:$B$29,B49,別添!$J$5:$J$29,\"有\")>0,\"有\",\"\"),\"\")","v":""},{"$f":"SUMIFS(別添!K$5:K$29,別添!$B$5:$B$29,$B49)","v":0},{"$f":"SUMIFS(別添!L$5:L$29,別添!$B$5:$B$29,$B49)","v":0},{"$f":"SUMIFS(別添!M$5:M$29,別添!$B$5:$B$29,$B49)","v":0},0,{"$f":"SUMIFS(別添!O$5:O$29,別添!$B$5:$B$29,$B49)","v":0},{"$f":"SUMIFS(別添!P$5:P$29,別添!$B$5:$B$29,$B49)","v":0},{"$f":"SUMIFS(別添!Q$5:Q$29,別添!$B$5:$B$29,$B49)","v":0},{"$f":"SUMIFS(別添!R$5:R$29,別添!$B$5:$B$29,$B49)","v":0},0,{"$f":"SUMIFS(別添!T$5:T$29,別添!$B$5:$B$29,$B49)","v":0},{"$f":"SUMIFS(別添!U$5:U$29,別添!$B$5:$B$29,$B49)","v":0},{"$f":"SUMIFS(別添!V$5:V$29,別添!$B$5:$B$29,$B49)","v":0},{"$f":"SUMIFS(別添!W$5:W$29,別添!$B$5:$B$29,$B49)","v":0},0]
[46,null,{"$f":"IFERROR(VLOOKUP($B50,別添!$B$5:$G$29,2,FALSE),\"\")","v":0},{"$f":"IFERROR(VLOOKUP($B50,別添!$B$5:$G$29,4,FALSE),\"\")","v":0},{"$f":"IFERROR(VLOOKUP($B50,別添!$B$5:$G$29,5,FALSE),\"\")","v":0},{"$f":"IFERROR(VLOOKUP($B50,別添!$B$5:$G$29,6,FALSE),\"\")","v":""},{"$f":"IF(M50>0,実績報告書!$W$7,\"\")","v":""},{"$f":"SUMIFS(別添!I$5:I$29,別添!$B$5:$B$29,$B50)","v":0},{"$f":"IFERROR(IF(COUNTIFS(別添!$B$5:$B$29,B50,別添!$J$5:$J$29,\"有\")>0,\"有\",\"\"),\"\")","v":""},{"$f":"SUMIFS(別添!K$5:K$29,別添!$B$5:$B$29,$B50)","v":0},{"$f":"SUMIFS(別添!L$5:L$29,別添!$B$5:$B$29,$B50)","v":0},{"$f":"SUMIFS(別添!M$5:M$29,別添!$B$5:$B$29,$B50)","v":0},0,{"$f":"SUMIFS(別添!O$5:O$29,別添!$B$5:$B$29,$B50)","v":0},{"$f":"SUMIFS(別添!P$5:P$29,別添!$B$5:$B$29,$B50)","v":0},{"$f":"SUMIFS(別添!Q$5:Q$29,別添!$B$5:$B$29,$B50)","v":0},{"$f":"SUMIFS(別添!R$5:R$29,別添!$B$5:$B$29,$B50)","v":0},0,{"$f":"SUMIFS(別添!T$5:T$29,別添!$B$5:$B$29,$B50)","v":0},{"$f":"SUMIFS(別添!U$5:U$29,別添!$B$5:$B$29,$B50)","v":0},{"$f":"SUMIFS(別添!V$5:V$29,別添!$B$5:$B$29,$B50)","v":0},{"$f":"SUMIFS(別添!W$5:W$29,別添!$B$5:$B$29,$B50)","v":0},0]
[47,null,{"$f":"IFERROR(VLOOKUP($B51,別添!$B$5:$G$29,2,FALSE),\"\")","v":0},{"$f":"IFERROR(VLOOKUP($B51,別添!$B$5:$G$29,4,FALSE),\"\")","v":0},{"$f":"IFERROR(VLOOKUP($B51,別添!$B$5:$G$29,5,FALSE),\"\")","v":0},{"$f":"IFERROR(VLOOKUP($B51,別添!$B$5:$G$29,6,FALSE),\"\")","v":""},{"$f":"IF(M51>0,実績報告書!$W$7,\"\")","v":""},{"$f":"SUMIFS(別添!I$5:I$29,別添!$B$5:$B$29,$B51)","v":0},{"$f":"IFERROR(IF(COUNTIFS(別添!$B$5:$B$29,B51,別添!$J$5:$J$29,\"有\")>0,\"有\",\"\"),\"\")","v":""},{"$f":"SUMIFS(別添!K$5:K$29,別添!$B$5:$B$29,$B51)","v":0},{"$f":"SUMIFS(別添!L$5:L$29,別添!$B$5:$B$29,$B51)","v":0},{"$f":"SUMIFS(別添!M$5:M$29,別添!$B$5:$B$29,$B51)","v":0},0,{"$f":"SUMIFS(別添!O$5:O$29,別添!$B$5:$B$29,$B51)","v":0},{"$f":"SUMIFS(別添!P$5:P$29,別添!$B$5:$B$29,$B51)","v":0},{"$f":"SUMIFS(別添!Q$5:Q$29,別添!$B$5:$B$29,$B51)","v":0},{"$f":"SUMIFS(別添!R$5:R$29,別添!$B$5:$B$29,$B51)","v":0},0,{"$f":"SUMIFS(別添!T$5:T$29,別添!$B$5:$B$29,$B51)","v":0},{"$f":"SUMIFS(別添!U$5:U$29,別添!$B$5:$B$29,$B51)","v":0},{"$f":"SUMIFS(別添!V$5:V$29,別添!$B$5:$B$29,$B51)","v":0},{"$f":"SUMIFS(別添!W$5:W$29,別添!$B$5:$B$29,$B51)","v":0},0]
[48,null,{"$f":"IFERROR(VLOOKUP($B52,別添!$B$5:$G$29,2,FALSE),\"\")","v":0},{"$f":"IFERROR(VLOOKUP($B52,別添!$B$5:$G$29,4,FALSE),\"\")","v":0},{"$f":"IFERROR(VLOOKUP($B52,別添!$B$5:$G$29,5,FALSE),\"\")","v":0},{"$f":"IFERROR(VLOOKUP($B52,別添!$B$5:$G$29,6,FALSE),\"\")","v":""},{"$f":"IF(M52>0,実績報告書!$W$7,\"\")","v":""},{"$f":"SUMIFS(別添!I$5:I$29,別添!$B$5:$B$29,$B52)","v":0},{"$f":"IFERROR(IF(COUNTIFS(別添!$B$5:$B$29,B52,別添!$J$5:$J$29,\"有\")>0,\"有\",\"\"),\"\")","v":""},{"$f":"SUMIFS(別添!K$5:K$29,別添!$B$5:$B$29,$B52)","v":0},{"$f":"SUMIFS(別添!L$5:L$29,別添!$B$5:$B$29,$B52)","v":0},{"$f":"SUMIFS(別添!M$5:M$29,別添!$B$5:$B$29,$B52)","v":0},0,{"$f":"SUMIFS(別添!O$5:O$29,別添!$B$5:$B$29,$B52)","v":0},{"$f":"SUMIFS(別添!P$5:P$29,別添!$B$5:$B$29,$B52)","v":0},{"$f":"SUMIFS(別添!Q$5:Q$29,別添!$B$5:$B$29,$B52)","v":0},{"$f":"SUMIFS(別添!R$5:R$29,別添!$B$5:$B$29,$B52)","v":0},0,{"$f":"SUMIFS(別添!T$5:T$29,別添!$B$5:$B$29,$B52)","v":0},{"$f":"SUMIFS(別添!U$5:U$29,別添!$B$5:$B$29,$B52)","v":0},{"$f":"SUMIFS(別添!V$5:V$29,別添!$B$5:$B$29,$B52)","v":0},{"$f":"SUMIFS(別添!W$5:W$29,別添!$B$5:$B$29,$B52)","v":0},0]
[49,null,{"$f":"IFERROR(VLOOKUP($B53,別添!$B$5:$G$29,2,FALSE),\"\")","v":0},{"$f":"IFERROR(VLOOKUP($B53,別添!$B$5:$G$29,4,FALSE),\"\")","v":0},{"$f":"IFERROR(VLOOKUP($B53,別添!$B$5:$G$29,5,FALSE),\"\")","v":0},{"$f":"IFERROR(VLOOKUP($B53,別添!$B$5:$G$29,6,FALSE),\"\")","v":""},{"$f":"IF(M53>0,実績報告書!$W$7,\"\")","v":""},{"$f":"SUMIFS(別添!I$5:I$29,別添!$B$5:$B$29,$B53)","v":0},{"$f":"IFERROR(IF(COUNTIFS(別添!$B$5:$B$29,B53,別添!$J$5:$J$29,\"有\")>0,\"有\",\"\"),\"\")","v":""},{"$f":"SUMIFS(別添!K$5:K$29,別添!$B$5:$B$29,$B53)","v":0},{"$f":"SUMIFS(別添!L$5:L$29,別添!$B$5:$B$29,$B53)","v":0},{"$f":"SUMIFS(別添!M$5:M$29,別添!$B$5:$B$29,$B53)","v":0},0,{"$f":"SUMIFS(別添!O$5:O$29,別添!$B$5:$B$29,$B53)","v":0},{"$f":"SUMIFS(別添!P$5:P$29,別添!$B$5:$B$29,$B53)","v":0},{"$f":"SUMIFS(別添!Q$5:Q$29,別添!$B$5:$B$29,$B53)","v":0},{"$f":"SUMIFS(別添!R$5:R$29,別添!$B$5:$B$29,$B53)","v":0},0,{"$f":"SUMIFS(別添!T$5:T$29,別添!$B$5:$B$29,$B53)","v":0},{"$f":"SUMIFS(別添!U$5:U$29,別添!$B$5:$B$29,$B53)","v":0},{"$f":"SUMIFS(別添!V$5:V$29,別添!$B$5:$B$29,$B53)","v":0},{"$f":"SUMIFS(別添!W$5:W$29,別添!$B$5:$B$29,$B53)","v":0},0]
[50,null,{"$f":"IFERROR(VLOOKUP($B54,別添!$B$5:$G$29,2,FALSE),\"\")","v":0},{"$f":"IFERROR(VLOOKUP($B54,別添!$B$5:$G$29,4,FALSE),\"\")","v":0},{"$f":"IFERROR(VLOOKUP($B54,別添!$B$5:$G$29,5,FALSE),\"\")","v":0},{"$f":"IFERROR(VLOOKUP($B54,別添!$B$5:$G$29,6,FALSE),\"\")","v":""},{"$f":"IF(M54>0,実績報告書!$W$7,\"\")","v":""},{"$f":"SUMIFS(別添!I$5:I$29,別添!$B$5:$B$29,$B54)","v":0},{"$f":"IFERROR(IF(COUNTIFS(別添!$B$5:$B$29,B54,別添!$J$5:$J$29,\"有\")>0,\"有\",\"\"),\"\")","v":""},{"$f":"SUMIFS(別添!K$5:K$29,別添!$B$5:$B$29,$B54)","v":0},{"$f":"SUMIFS(別添!L$5:L$29,別添!$B$5:$B$29,$B54)","v":0},{"$f":"SUMIFS(別添!M$5:M$29,別添!$B$5:$B$29,$B54)","v":0},0,{"$f":"SUMIFS(別添!O$5:O$29,別添!$B$5:$B$29,$B54)","v":0},{"$f":"SUMIFS(別添!P$5:P$29,別添!$B$5:$B$29,$B54)","v":0},{"$f":"SUMIFS(別添!Q$5:Q$29,別添!$B$5:$B$29,$B54)","v":0},{"$f":"SUMIFS(別添!R$5:R$29,別添!$B$5:$B$29,$B54)","v":0},0,{"$f":"SUMIFS(別添!T$5:T$29,別添!$B$5:$B$29,$B54)","v":0},{"$f":"SUMIFS(別添!U$5:U$29,別添!$B$5:$B$29,$B54)","v":0},{"$f":"SUMIFS(別添!V$5:V$29,別添!$B$5:$B$29,$B54)","v":0},{"$f":"SUMIFS(別添!W$5:W$29,別添!$B$5:$B$29,$B54)","v":0},0]
[51,null,{"$f":"IFERROR(VLOOKUP($B55,別添!$B$5:$G$29,2,FALSE),\"\")","v":0},{"$f":"IFERROR(VLOOKUP($B55,別添!$B$5:$G$29,4,FALSE),\"\")","v":0},{"$f":"IFERROR(VLOOKUP($B55,別添!$B$5:$G$29,5,FALSE),\"\")","v":0},{"$f":"IFERROR(VLOOKUP($B55,別添!$B$5:$G$29,6,FALSE),\"\")","v":""},{"$f":"IF(M55>0,実績報告書!$W$7,\"\")","v":""},{"$f":"SUMIFS(別添!I$5:I$29,別添!$B$5:$B$29,$B55)","v":0},{"$f":"IFERROR(IF(COUNTIFS(別添!$B$5:$B$29,B55,別添!$J$5:$J$29,\"有\")>0,\"有\",\"\"),\"\")","v":""},{"$f":"SUMIFS(別添!K$5:K$29,別添!$B$5:$B$29,$B55)","v":0},{"$f":"SUMIFS(別添!L$5:L$29,別添!$B$5:$B$29,$B55)","v":0},{"$f":"SUMIFS(別添!M$5:M$29,別添!$B$5:$B$29,$B55)","v":0},0,{"$f":"SUMIFS(別添!O$5:O$29,別添!$B$5:$B$29,$B55)","v":0},{"$f":"SUMIFS(別添!P$5:P$29,別添!$B$5:$B$29,$B55)","v":0},{"$f":"SUMIFS(別添!Q$5:Q$29,別添!$B$5:$B$29,$B55)","v":0},{"$f":"SUMIFS(別添!R$5:R$29,別添!$B$5:$B$29,$B55)","v":0},0,{"$f":"SUMIFS(別添!T$5:T$29,別添!$B$5:$B$29,$B55)","v":0},{"$f":"SUMIFS(別添!U$5:U$29,別添!$B$5:$B$29,$B55)","v":0},{"$f":"SUMIFS(別添!V$5:V$29,別添!$B$5:$B$29,$B55)","v":0},{"$f":"SUMIFS(別添!W$5:W$29,別添!$B$5:$B$29,$B55)","v":0},0]
[52,null,{"$f":"IFERROR(VLOOKUP($B56,別添!$B$5:$G$29,2,FALSE),\"\")","v":0},{"$f":"IFERROR(VLOOKUP($B56,別添!$B$5:$G$29,4,FALSE),\"\")","v":0},{"$f":"IFERROR(VLOOKUP($B56,別添!$B$5:$G$29,5,FALSE),\"\")","v":0},{"$f":"IFERROR(VLOOKUP($B56,別添!$B$5:$G$29,6,FALSE),\"\")","v":""},{"$f":"IF(M56>0,実績報告書!$W$7,\"\")","v":""},{"$f":"SUMIFS(別添!I$5:I$29,別添!$B$5:$B$29,$B56)","v":0},{"$f":"IFERROR(IF(COUNTIFS(別添!$B$5:$B$29,B56,別添!$J$5:$J$29,\"有\")>0,\"有\",\"\"),\"\")","v":""},{"$f":"SUMIFS(別添!K$5:K$29,別添!$B$5:$B$29,$B56)","v":0},{"$f":"SUMIFS(別添!L$5:L$29,別添!$B$5:$B$29,$B56)","v":0},{"$f":"SUMIFS(別添!M$5:M$29,別添!$B$5:$B$29,$B56)","v":0},0,{"$f":"SUMIFS(別添!O$5:O$29,別添!$B$5:$B$29,$B56)","v":0},{"$f":"SUMIFS(別添!P$5:P$29,別添!$B$5:$B$29,$B56)","v":0},{"$f":"SUMIFS(別添!Q$5:Q$29,別添!$B$5:$B$29,$B56)","v":0},{"$f":"SUMIFS(別添!R$5:R$29,別添!$B$5:$B$29,$B56)","v":0},0,{"$f":"SUMIFS(別添!T$5:T$29,別添!$B$5:$B$29,$B56)","v":0},{"$f":"SUMIFS(別添!U$5:U$29,別添!$B$5:$B$29,$B56)","v":0},{"$f":"SUMIFS(別添!V$5:V$29,別添!$B$5:$B$29,$B56)","v":0},{"$f":"SUMIFS(別添!W$5:W$29,別添!$B$5:$B$29,$B56)","v":0},0]
[53,null,{"$f":"IFERROR(VLOOKUP($B57,別添!$B$5:$G$29,2,FALSE),\"\")","v":0},{"$f":"IFERROR(VLOOKUP($B57,別添!$B$5:$G$29,4,FALSE),\"\")","v":0},{"$f":"IFERROR(VLOOKUP($B57,別添!$B$5:$G$29,5,FALSE),\"\")","v":0},{"$f":"IFERROR(VLOOKUP($B57,別添!$B$5:$G$29,6,FALSE),\"\")","v":""},{"$f":"IF(M57>0,実績報告書!$W$7,\"\")","v":""},{"$f":"SUMIFS(別添!I$5:I$29,別添!$B$5:$B$29,$B57)","v":0},{"$f":"IFERROR(IF(COUNTIFS(別添!$B$5:$B$29,B57,別添!$J$5:$J$29,\"有\")>0,\"有\",\"\"),\"\")","v":""},{"$f":"SUMIFS(別添!K$5:K$29,別添!$B$5:$B$29,$B57)","v":0},{"$f":"SUMIFS(別添!L$5:L$29,別添!$B$5:$B$29,$B57)","v":0},{"$f":"SUMIFS(別添!M$5:M$29,別添!$B$5:$B$29,$B57)","v":0},0,{"$f":"SUMIFS(別添!O$5:O$29,別添!$B$5:$B$29,$B57)","v":0},{"$f":"SUMIFS(別添!P$5:P$29,別添!$B$5:$B$29,$B57)","v":0},{"$f":"SUMIFS(別添!Q$5:Q$29,別添!$B$5:$B$29,$B57)","v":0},{"$f":"SUMIFS(別添!R$5:R$29,別添!$B$5:$B$29,$B57)","v":0},0,{"$f":"SUMIFS(別添!T$5:T$29,別添!$B$5:$B$29,$B57)","v":0},{"$f":"SUMIFS(別添!U$5:U$29,別添!$B$5:$B$29,$B57)","v":0},{"$f":"SUMIFS(別添!V$5:V$29,別添!$B$5:$B$29,$B57)","v":0},{"$f":"SUMIFS(別添!W$5:W$29,別添!$B$5:$B$29,$B57)","v":0},0]
[54,null,{"$f":"IFERROR(VLOOKUP($B58,別添!$B$5:$G$29,2,FALSE),\"\")","v":0},{"$f":"IFERROR(VLOOKUP($B58,別添!$B$5:$G$29,4,FALSE),\"\")","v":0},{"$f":"IFERROR(VLOOKUP($B58,別添!$B$5:$G$29,5,FALSE),\"\")","v":0},{"$f":"IFERROR(VLOOKUP($B58,別添!$B$5:$G$29,6,FALSE),\"\")","v":""},{"$f":"IF(M58>0,実績報告書!$W$7,\"\")","v":""},{"$f":"SUMIFS(別添!I$5:I$29,別添!$B$5:$B$29,$B58)","v":0},{"$f":"IFERROR(IF(COUNTIFS(別添!$B$5:$B$29,B58,別添!$J$5:$J$29,\"有\")>0,\"有\",\"\"),\"\")","v":""},{"$f":"SUMIFS(別添!K$5:K$29,別添!$B$5:$B$29,$B58)","v":0},{"$f":"SUMIFS(別添!L$5:L$29,別添!$B$5:$B$29,$B58)","v":0},{"$f":"SUMIFS(別添!M$5:M$29,別添!$B$5:$B$29,$B58)","v":0},0,{"$f":"SUMIFS(別添!O$5:O$29,別添!$B$5:$B$29,$B58)","v":0},{"$f":"SUMIFS(別添!P$5:P$29,別添!$B$5:$B$29,$B58)","v":0},{"$f":"SUMIFS(別添!Q$5:Q$29,別添!$B$5:$B$29,$B58)","v":0},{"$f":"SUMIFS(別添!R$5:R$29,別添!$B$5:$B$29,$B58)","v":0},0,{"$f":"SUMIFS(別添!T$5:T$29,別添!$B$5:$B$29,$B58)","v":0},{"$f":"SUMIFS(別添!U$5:U$29,別添!$B$5:$B$29,$B58)","v":0},{"$f":"SUMIFS(別添!V$5:V$29,別添!$B$5:$B$29,$B58)","v":0},{"$f":"SUMIFS(別添!W$5:W$29,別添!$B$5:$B$29,$B58)","v":0},0]
[55,null,{"$f":"IFERROR(VLOOKUP($B59,別添!$B$5:$G$29,2,FALSE),\"\")","v":0},{"$f":"IFERROR(VLOOKUP($B59,別添!$B$5:$G$29,4,FALSE),\"\")","v":0},{"$f":"IFERROR(VLOOKUP($B59,別添!$B$5:$G$29,5,FALSE),\"\")","v":0},{"$f":"IFERROR(VLOOKUP($B59,別添!$B$5:$G$29,6,FALSE),\"\")","v":""},{"$f":"IF(M59>0,実績報告書!$W$7,\"\")","v":""},{"$f":"SUMIFS(別添!I$5:I$29,別添!$B$5:$B$29,$B59)","v":0},{"$f":"IFERROR(IF(COUNTIFS(別添!$B$5:$B$29,B59,別添!$J$5:$J$29,\"有\")>0,\"有\",\"\"),\"\")","v":""},{"$f":"SUMIFS(別添!K$5:K$29,別添!$B$5:$B$29,$B59)","v":0},{"$f":"SUMIFS(別添!L$5:L$29,別添!$B$5:$B$29,$B59)","v":0},{"$f":"SUMIFS(別添!M$5:M$29,別添!$B$5:$B$29,$B59)","v":0},0,{"$f":"SUMIFS(別添!O$5:O$29,別添!$B$5:$B$29,$B59)","v":0},{"$f":"SUMIFS(別添!P$5:P$29,別添!$B$5:$B$29,$B59)","v":0},{"$f":"SUMIFS(別添!Q$5:Q$29,別添!$B$5:$B$29,$B59)","v":0},{"$f":"SUMIFS(別添!R$5:R$29,別添!$B$5:$B$29,$B59)","v":0},0,{"$f":"SUMIFS(別添!T$5:T$29,別添!$B$5:$B$29,$B59)","v":0},{"$f":"SUMIFS(別添!U$5:U$29,別添!$B$5:$B$29,$B59)","v":0},{"$f":"SUMIFS(別添!V$5:V$29,別添!$B$5:$B$29,$B59)","v":0},{"$f":"SUMIFS(別添!W$5:W$29,別添!$B$5:$B$29,$B59)","v":0},0]
[56,null,{"$f":"IFERROR(VLOOKUP($B60,別添!$B$5:$G$29,2,FALSE),\"\")","v":0},{"$f":"IFERROR(VLOOKUP($B60,別添!$B$5:$G$29,4,FALSE),\"\")","v":0},{"$f":"IFERROR(VLOOKUP($B60,別添!$B$5:$G$29,5,FALSE),\"\")","v":0},{"$f":"IFERROR(VLOOKUP($B60,別添!$B$5:$G$29,6,FALSE),\"\")","v":""},{"$f":"IF(M60>0,実績報告書!$W$7,\"\")","v":""},{"$f":"SUMIFS(別添!I$5:I$29,別添!$B$5:$B$29,$B60)","v":0},{"$f":"IFERROR(IF(COUNTIFS(別添!$B$5:$B$29,B60,別添!$J$5:$J$29,\"有\")>0,\"有\",\"\"),\"\")","v":""},{"$f":"SUMIFS(別添!K$5:K$29,別添!$B$5:$B$29,$B60)","v":0},{"$f":"SUMIFS(別添!L$5:L$29,別添!$B$5:$B$29,$B60)","v":0},{"$f":"SUMIFS(別添!M$5:M$29,別添!$B$5:$B$29,$B60)","v":0},0,{"$f":"SUMIFS(別添!O$5:O$29,別添!$B$5:$B$29,$B60)","v":0},{"$f":"SUMIFS(別添!P$5:P$29,別添!$B$5:$B$29,$B60)","v":0},{"$f":"SUMIFS(別添!Q$5:Q$29,別添!$B$5:$B$29,$B60)","v":0},{"$f":"SUMIFS(別添!R$5:R$29,別添!$B$5:$B$29,$B60)","v":0},0,{"$f":"SUMIFS(別添!T$5:T$29,別添!$B$5:$B$29,$B60)","v":0},{"$f":"SUMIFS(別添!U$5:U$29,別添!$B$5:$B$29,$B60)","v":0},{"$f":"SUMIFS(別添!V$5:V$29,別添!$B$5:$B$29,$B60)","v":0},{"$f":"SUMIFS(別添!W$5:W$29,別添!$B$5:$B$29,$B60)","v":0},0]
[57,null,{"$f":"IFERROR(VLOOKUP($B61,別添!$B$5:$G$29,2,FALSE),\"\")","v":0},{"$f":"IFERROR(VLOOKUP($B61,別添!$B$5:$G$29,4,FALSE),\"\")","v":0},{"$f":"IFERROR(VLOOKUP($B61,別添!$B$5:$G$29,5,FALSE),\"\")","v":0},{"$f":"IFERROR(VLOOKUP($B61,別添!$B$5:$G$29,6,FALSE),\"\")","v":""},{"$f":"IF(M61>0,実績報告書!$W$7,\"\")","v":""},{"$f":"SUMIFS(別添!I$5:I$29,別添!$B$5:$B$29,$B61)","v":0},{"$f":"IFERROR(IF(COUNTIFS(別添!$B$5:$B$29,B61,別添!$J$5:$J$29,\"有\")>0,\"有\",\"\"),\"\")","v":""},{"$f":"SUMIFS(別添!K$5:K$29,別添!$B$5:$B$29,$B61)","v":0},{"$f":"SUMIFS(別添!L$5:L$29,別添!$B$5:$B$29,$B61)","v":0},{"$f":"SUMIFS(別添!M$5:M$29,別添!$B$5:$B$29,$B61)","v":0},0,{"$f":"SUMIFS(別添!O$5:O$29,別添!$B$5:$B$29,$B61)","v":0},{"$f":"SUMIFS(別添!P$5:P$29,別添!$B$5:$B$29,$B61)","v":0},{"$f":"SUMIFS(別添!Q$5:Q$29,別添!$B$5:$B$29,$B61)","v":0},{"$f":"SUMIFS(別添!R$5:R$29,別添!$B$5:$B$29,$B61)","v":0},0,{"$f":"SUMIFS(別添!T$5:T$29,別添!$B$5:$B$29,$B61)","v":0},{"$f":"SUMIFS(別添!U$5:U$29,別添!$B$5:$B$29,$B61)","v":0},{"$f":"SUMIFS(別添!V$5:V$29,別添!$B$5:$B$29,$B61)","v":0},{"$f":"SUMIFS(別添!W$5:W$29,別添!$B$5:$B$29,$B61)","v":0},0]
[58,null,{"$f":"IFERROR(VLOOKUP($B62,別添!$B$5:$G$29,2,FALSE),\"\")","v":0},{"$f":"IFERROR(VLOOKUP($B62,別添!$B$5:$G$29,4,FALSE),\"\")","v":0},{"$f":"IFERROR(VLOOKUP($B62,別添!$B$5:$G$29,5,FALSE),\"\")","v":0},{"$f":"IFERROR(VLOOKUP($B62,別添!$B$5:$G$29,6,FALSE),\"\")","v":""},{"$f":"IF(M62>0,実績報告書!$W$7,\"\")","v":""},{"$f":"SUMIFS(別添!I$5:I$29,別添!$B$5:$B$29,$B62)","v":0},{"$f":"IFERROR(IF(COUNTIFS(別添!$B$5:$B$29,B62,別添!$J$5:$J$29,\"有\")>0,\"有\",\"\"),\"\")","v":""},{"$f":"SUMIFS(別添!K$5:K$29,別添!$B$5:$B$29,$B62)","v":0},{"$f":"SUMIFS(別添!L$5:L$29,別添!$B$5:$B$29,$B62)","v":0},{"$f":"SUMIFS(別添!M$5:M$29,別添!$B$5:$B$29,$B62)","v":0},0,{"$f":"SUMIFS(別添!O$5:O$29,別添!$B$5:$B$29,$B62)","v":0},{"$f":"SUMIFS(別添!P$5:P$29,別添!$B$5:$B$29,$B62)","v":0},{"$f":"SUMIFS(別添!Q$5:Q$29,別添!$B$5:$B$29,$B62)","v":0},{"$f":"SUMIFS(別添!R$5:R$29,別添!$B$5:$B$29,$B62)","v":0},0,{"$f":"SUMIFS(別添!T$5:T$29,別添!$B$5:$B$29,$B62)","v":0},{"$f":"SUMIFS(別添!U$5:U$29,別添!$B$5:$B$29,$B62)","v":0},{"$f":"SUMIFS(別添!V$5:V$29,別添!$B$5:$B$29,$B62)","v":0},{"$f":"SUMIFS(別添!W$5:W$29,別添!$B$5:$B$29,$B62)","v":0},0]
[59,null,{"$f":"IFERROR(VLOOKUP($B63,別添!$B$5:$G$29,2,FALSE),\"\")","v":0},{"$f":"IFERROR(VLOOKUP($B63,別添!$B$5:$G$29,4,FALSE),\"\")","v":0},{"$f":"IFERROR(VLOOKUP($B63,別添!$B$5:$G$29,5,FALSE),\"\")","v":0},{"$f":"IFERROR(VLOOKUP($B63,別添!$B$5:$G$29,6,FALSE),\"\")","v":""},{"$f":"IF(M63>0,実績報告書!$W$7,\"\")","v":""},{"$f":"SUMIFS(別添!I$5:I$29,別添!$B$5:$B$29,$B63)","v":0},{"$f":"IFERROR(IF(COUNTIFS(別添!$B$5:$B$29,B63,別添!$J$5:$J$29,\"有\")>0,\"有\",\"\"),\"\")","v":""},{"$f":"SUMIFS(別添!K$5:K$29,別添!$B$5:$B$29,$B63)","v":0},{"$f":"SUMIFS(別添!L$5:L$29,別添!$B$5:$B$29,$B63)","v":0},{"$f":"SUMIFS(別添!M$5:M$29,別添!$B$5:$B$29,$B63)","v":0},0,{"$f":"SUMIFS(別添!O$5:O$29,別添!$B$5:$B$29,$B63)","v":0},{"$f":"SUMIFS(別添!P$5:P$29,別添!$B$5:$B$29,$B63)","v":0},{"$f":"SUMIFS(別添!Q$5:Q$29,別添!$B$5:$B$29,$B63)","v":0},{"$f":"SUMIFS(別添!R$5:R$29,別添!$B$5:$B$29,$B63)","v":0},0,{"$f":"SUMIFS(別添!T$5:T$29,別添!$B$5:$B$29,$B63)","v":0},{"$f":"SUMIFS(別添!U$5:U$29,別添!$B$5:$B$29,$B63)","v":0},{"$f":"SUMIFS(別添!V$5:V$29,別添!$B$5:$B$29,$B63)","v":0},{"$f":"SUMIFS(別添!W$5:W$29,別添!$B$5:$B$29,$B63)","v":0},0]
[60,null,{"$f":"IFERROR(VLOOKUP($B64,別添!$B$5:$G$29,2,FALSE),\"\")","v":0},{"$f":"IFERROR(VLOOKUP($B64,別添!$B$5:$G$29,4,FALSE),\"\")","v":0},{"$f":"IFERROR(VLOOKUP($B64,別添!$B$5:$G$29,5,FALSE),\"\")","v":0},{"$f":"IFERROR(VLOOKUP($B64,別添!$B$5:$G$29,6,FALSE),\"\")","v":""},{"$f":"IF(M64>0,実績報告書!$W$7,\"\")","v":""},{"$f":"SUMIFS(別添!I$5:I$29,別添!$B$5:$B$29,$B64)","v":0},{"$f":"IFERROR(IF(COUNTIFS(別添!$B$5:$B$29,B64,別添!$J$5:$J$29,\"有\")>0,\"有\",\"\"),\"\")","v":""},{"$f":"SUMIFS(別添!K$5:K$29,別添!$B$5:$B$29,$B64)","v":0},{"$f":"SUMIFS(別添!L$5:L$29,別添!$B$5:$B$29,$B64)","v":0},{"$f":"SUMIFS(別添!M$5:M$29,別添!$B$5:$B$29,$B64)","v":0},0,{"$f":"SUMIFS(別添!O$5:O$29,別添!$B$5:$B$29,$B64)","v":0},{"$f":"SUMIFS(別添!P$5:P$29,別添!$B$5:$B$29,$B64)","v":0},{"$f":"SUMIFS(別添!Q$5:Q$29,別添!$B$5:$B$29,$B64)","v":0},{"$f":"SUMIFS(別添!R$5:R$29,別添!$B$5:$B$29,$B64)","v":0},0,{"$f":"SUMIFS(別添!T$5:T$29,別添!$B$5:$B$29,$B64)","v":0},{"$f":"SUMIFS(別添!U$5:U$29,別添!$B$5:$B$29,$B64)","v":0},{"$f":"SUMIFS(別添!V$5:V$29,別添!$B$5:$B$29,$B64)","v":0},{"$f":"SUMIFS(別添!W$5:W$29,別添!$B$5:$B$29,$B64)","v":0},0]
[61,null,{"$f":"IFERROR(VLOOKUP($B65,別添!$B$5:$G$29,2,FALSE),\"\")","v":0},{"$f":"IFERROR(VLOOKUP($B65,別添!$B$5:$G$29,4,FALSE),\"\")","v":0},{"$f":"IFERROR(VLOOKUP($B65,別添!$B$5:$G$29,5,FALSE),\"\")","v":0},{"$f":"IFERROR(VLOOKUP($B65,別添!$B$5:$G$29,6,FALSE),\"\")","v":""},{"$f":"IF(M65>0,実績報告書!$W$7,\"\")","v":""},{"$f":"SUMIFS(別添!I$5:I$29,別添!$B$5:$B$29,$B65)","v":0},{"$f":"IFERROR(IF(COUNTIFS(別添!$B$5:$B$29,B65,別添!$J$5:$J$29,\"有\")>0,\"有\",\"\"),\"\")","v":""},{"$f":"SUMIFS(別添!K$5:K$29,別添!$B$5:$B$29,$B65)","v":0},{"$f":"SUMIFS(別添!L$5:L$29,別添!$B$5:$B$29,$B65)","v":0},{"$f":"SUMIFS(別添!M$5:M$29,別添!$B$5:$B$29,$B65)","v":0},0,{"$f":"SUMIFS(別添!O$5:O$29,別添!$B$5:$B$29,$B65)","v":0},{"$f":"SUMIFS(別添!P$5:P$29,別添!$B$5:$B$29,$B65)","v":0},{"$f":"SUMIFS(別添!Q$5:Q$29,別添!$B$5:$B$29,$B65)","v":0},{"$f":"SUMIFS(別添!R$5:R$29,別添!$B$5:$B$29,$B65)","v":0},0,{"$f":"SUMIFS(別添!T$5:T$29,別添!$B$5:$B$29,$B65)","v":0},{"$f":"SUMIFS(別添!U$5:U$29,別添!$B$5:$B$29,$B65)","v":0},{"$f":"SUMIFS(別添!V$5:V$29,別添!$B$5:$B$29,$B65)","v":0},{"$f":"SUMIFS(別添!W$5:W$29,別添!$B$5:$B$29,$B65)","v":0},0]
[62,null,{"$f":"IFERROR(VLOOKUP($B66,別添!$B$5:$G$29,2,FALSE),\"\")","v":0},{"$f":"IFERROR(VLOOKUP($B66,別添!$B$5:$G$29,4,FALSE),\"\")","v":0},{"$f":"IFERROR(VLOOKUP($B66,別添!$B$5:$G$29,5,FALSE),\"\")","v":0},{"$f":"IFERROR(VLOOKUP($B66,別添!$B$5:$G$29,6,FALSE),\"\")","v":""},{"$f":"IF(M66>0,実績報告書!$W$7,\"\")","v":""},{"$f":"SUMIFS(別添!I$5:I$29,別添!$B$5:$B$29,$B66)","v":0},{"$f":"IFERROR(IF(COUNTIFS(別添!$B$5:$B$29,B66,別添!$J$5:$J$29,\"有\")>0,\"有\",\"\"),\"\")","v":""},{"$f":"SUMIFS(別添!K$5:K$29,別添!$B$5:$B$29,$B66)","v":0},{"$f":"SUMIFS(別添!L$5:L$29,別添!$B$5:$B$29,$B66)","v":0},{"$f":"SUMIFS(別添!M$5:M$29,別添!$B$5:$B$29,$B66)","v":0},0,{"$f":"SUMIFS(別添!O$5:O$29,別添!$B$5:$B$29,$B66)","v":0},{"$f":"SUMIFS(別添!P$5:P$29,別添!$B$5:$B$29,$B66)","v":0},{"$f":"SUMIFS(別添!Q$5:Q$29,別添!$B$5:$B$29,$B66)","v":0},{"$f":"SUMIFS(別添!R$5:R$29,別添!$B$5:$B$29,$B66)","v":0},0,{"$f":"SUMIFS(別添!T$5:T$29,別添!$B$5:$B$29,$B66)","v":0},{"$f":"SUMIFS(別添!U$5:U$29,別添!$B$5:$B$29,$B66)","v":0},{"$f":"SUMIFS(別添!V$5:V$29,別添!$B$5:$B$29,$B66)","v":0},{"$f":"SUMIFS(別添!W$5:W$29,別添!$B$5:$B$29,$B66)","v":0},0]
[63,null,{"$f":"IFERROR(VLOOKUP($B67,別添!$B$5:$G$29,2,FALSE),\"\")","v":0},{"$f":"IFERROR(VLOOKUP($B67,別添!$B$5:$G$29,4,FALSE),\"\")","v":0},{"$f":"IFERROR(VLOOKUP($B67,別添!$B$5:$G$29,5,FALSE),\"\")","v":0},{"$f":"IFERROR(VLOOKUP($B67,別添!$B$5:$G$29,6,FALSE),\"\")","v":""},{"$f":"IF(M67>0,実績報告書!$W$7,\"\")","v":""},{"$f":"SUMIFS(別添!I$5:I$29,別添!$B$5:$B$29,$B67)","v":0},{"$f":"IFERROR(IF(COUNTIFS(別添!$B$5:$B$29,B67,別添!$J$5:$J$29,\"有\")>0,\"有\",\"\"),\"\")","v":""},{"$f":"SUMIFS(別添!K$5:K$29,別添!$B$5:$B$29,$B67)","v":0},{"$f":"SUMIFS(別添!L$5:L$29,別添!$B$5:$B$29,$B67)","v":0},{"$f":"SUMIFS(別添!M$5:M$29,別添!$B$5:$B$29,$B67)","v":0},0,{"$f":"SUMIFS(別添!O$5:O$29,別添!$B$5:$B$29,$B67)","v":0},{"$f":"SUMIFS(別添!P$5:P$29,別添!$B$5:$B$29,$B67)","v":0},{"$f":"SUMIFS(別添!Q$5:Q$29,別添!$B$5:$B$29,$B67)","v":0},{"$f":"SUMIFS(別添!R$5:R$29,別添!$B$5:$B$29,$B67)","v":0},0,{"$f":"SUMIFS(別添!T$5:T$29,別添!$B$5:$B$29,$B67)","v":0},{"$f":"SUMIFS(別添!U$5:U$29,別添!$B$5:$B$29,$B67)","v":0},{"$f":"SUMIFS(別添!V$5:V$29,別添!$B$5:$B$29,$B67)","v":0},{"$f":"SUMIFS(別添!W$5:W$29,別添!$B$5:$B$29,$B67)","v":0},0]
[64,null,{"$f":"IFERROR(VLOOKUP($B68,別添!$B$5:$G$29,2,FALSE),\"\")","v":0},{"$f":"IFERROR(VLOOKUP($B68,別添!$B$5:$G$29,4,FALSE),\"\")","v":0},{"$f":"IFERROR(VLOOKUP($B68,別添!$B$5:$G$29,5,FALSE),\"\")","v":0},{"$f":"IFERROR(VLOOKUP($B68,別添!$B$5:$G$29,6,FALSE),\"\")","v":""},{"$f":"IF(M68>0,実績報告書!$W$7,\"\")","v":""},{"$f":"SUMIFS(別添!I$5:I$29,別添!$B$5:$B$29,$B68)","v":0},{"$f":"IFERROR(IF(COUNTIFS(別添!$B$5:$B$29,B68,別添!$J$5:$J$29,\"有\")>0,\"有\",\"\"),\"\")","v":""},{"$f":"SUMIFS(別添!K$5:K$29,別添!$B$5:$B$29,$B68)","v":0},{"$f":"SUMIFS(別添!L$5:L$29,別添!$B$5:$B$29,$B68)","v":0},{"$f":"SUMIFS(別添!M$5:M$29,別添!$B$5:$B$29,$B68)","v":0},0,{"$f":"SUMIFS(別添!O$5:O$29,別添!$B$5:$B$29,$B68)","v":0},{"$f":"SUMIFS(別添!P$5:P$29,別添!$B$5:$B$29,$B68)","v":0},{"$f":"SUMIFS(別添!Q$5:Q$29,別添!$B$5:$B$29,$B68)","v":0},{"$f":"SUMIFS(別添!R$5:R$29,別添!$B$5:$B$29,$B68)","v":0},0,{"$f":"SUMIFS(別添!T$5:T$29,別添!$B$5:$B$29,$B68)","v":0},{"$f":"SUMIFS(別添!U$5:U$29,別添!$B$5:$B$29,$B68)","v":0},{"$f":"SUMIFS(別添!V$5:V$29,別添!$B$5:$B$29,$B68)","v":0},{"$f":"SUMIFS(別添!W$5:W$29,別添!$B$5:$B$29,$B68)","v":0},0]
[65,null,{"$f":"IFERROR(VLOOKUP($B69,別添!$B$5:$G$29,2,FALSE),\"\")","v":0},{"$f":"IFERROR(VLOOKUP($B69,別添!$B$5:$G$29,4,FALSE),\"\")","v":0},{"$f":"IFERROR(VLOOKUP($B69,別添!$B$5:$G$29,5,FALSE),\"\")","v":0},{"$f":"IFERROR(VLOOKUP($B69,別添!$B$5:$G$29,6,FALSE),\"\")","v":""},{"$f":"IF(M69>0,実績報告書!$W$7,\"\")","v":""},{"$f":"SUMIFS(別添!I$5:I$29,別添!$B$5:$B$29,$B69)","v":0},{"$f":"IFERROR(IF(COUNTIFS(別添!$B$5:$B$29,B69,別添!$J$5:$J$29,\"有\")>0,\"有\",\"\"),\"\")","v":""},{"$f":"SUMIFS(別添!K$5:K$29,別添!$B$5:$B$29,$B69)","v":0},{"$f":"SUMIFS(別添!L$5:L$29,別添!$B$5:$B$29,$B69)","v":0},{"$f":"SUMIFS(別添!M$5:M$29,別添!$B$5:$B$29,$B69)","v":0},0,{"$f":"SUMIFS(別添!O$5:O$29,別添!$B$5:$B$29,$B69)","v":0},{"$f":"SUMIFS(別添!P$5:P$29,別添!$B$5:$B$29,$B69)","v":0},{"$f":"SUMIFS(別添!Q$5:Q$29,別添!$B$5:$B$29,$B69)","v":0},{"$f":"SUMIFS(別添!R$5:R$29,別添!$B$5:$B$29,$B69)","v":0},0,{"$f":"SUMIFS(別添!T$5:T$29,別添!$B$5:$B$29,$B69)","v":0},{"$f":"SUMIFS(別添!U$5:U$29,別添!$B$5:$B$29,$B69)","v":0},{"$f":"SUMIFS(別添!V$5:V$29,別添!$B$5:$B$29,$B69)","v":0},{"$f":"SUMIFS(別添!W$5:W$29,別添!$B$5:$B$29,$B69)","v":0},0]
[{"$f":"ROW()-4","v":66},null,{"$f":"IFERROR(VLOOKUP($B70,別添!$B$5:$G$29,2,FALSE),\"\")","v":0},{"$f":"IFERROR(VLOOKUP($B70,別添!$B$5:$G$29,4,FALSE),\"\")","v":0},{"$f":"IFERROR(VLOOKUP($B70,別添!$B$5:$G$29,5,FALSE),\"\")","v":0},{"$f":"IFERROR(VLOOKUP($B70,別添!$B$5:$G$29,6,FALSE),\"\")","v":""},{"$f":"IF(M70>0,実績報告書!$W$7,\"\")","v":""},{"$f":"SUMIFS(別添!I$5:I$29,別添!$B$5:$B$29,$B70)","v":0},{"$f":"IFERROR(IF(COUNTIFS(別添!$B$5:$B$29,B70,別添!$J$5:$J$29,\"有\")>0,\"有\",\"\"),\"\")","v":""},{"$f":"SUMIFS(別添!K$5:K$29,別添!$B$5:$B$29,$B70)","v":0},{"$f":"SUMIFS(別添!L$5:L$29,別添!$B$5:$B$29,$B70)","v":0},{"$f":"SUMIFS(別添!M$5:M$29,別添!$B$5:$B$29,$B70)","v":0},0,{"$f":"SUMIFS(別添!O$5:O$29,別添!$B$5:$B$29,$B70)","v":0},{"$f":"SUMIFS(別添!P$5:P$29,別添!$B$5:$B$29,$B70)","v":0},{"$f":"SUMIFS(別添!Q$5:Q$29,別添!$B$5:$B$29,$B70)","v":0},{"$f":"SUMIFS(別添!R$5:R$29,別添!$B$5:$B$29,$B70)","v":0},{"$f":"SUM(N70,O70,P70,Q70)","v":0},{"$f":"SUMIFS(別添!T$5:T$29,別添!$B$5:$B$29,$B70)","v":0},{"$f":"SUMIFS(別添!U$5:U$29,別添!$B$5:$B$29,$B70)","v":0},{"$f":"SUMIFS(別添!V$5:V$29,別添!$B$5:$B$29,$B70)","v":0},{"$f":"SUMIFS(別添!W$5:W$29,別添!$B$5:$B$29,$B70)","v":0},{"$f":"SUM(S70,T70,U70,V70)","v":0}]
[67,null,{"$f":"IFERROR(VLOOKUP($B71,別添!$B$5:$G$29,2,FALSE),\"\")","v":0},{"$f":"IFERROR(VLOOKUP($B71,別添!$B$5:$G$29,4,FALSE),\"\")","v":0},{"$f":"IFERROR(VLOOKUP($B71,別添!$B$5:$G$29,5,FALSE),\"\")","v":0},{"$f":"IFERROR(VLOOKUP($B71,別添!$B$5:$G$29,6,FALSE),\"\")","v":""},{"$f":"IF(M71>0,実績報告書!$W$7,\"\")","v":""},{"$f":"SUMIFS(別添!I$5:I$29,別添!$B$5:$B$29,$B71)","v":0},{"$f":"IFERROR(IF(COUNTIFS(別添!$B$5:$B$29,B71,別添!$J$5:$J$29,\"有\")>0,\"有\",\"\"),\"\")","v":""},{"$f":"SUMIFS(別添!K$5:K$29,別添!$B$5:$B$29,$B71)","v":0},{"$f":"SUMIFS(別添!L$5:L$29,別添!$B$5:$B$29,$B71)","v":0},{"$f":"SUMIFS(別添!M$5:M$29,別添!$B$5:$B$29,$B71)","v":0},0,{"$f":"SUMIFS(別添!O$5:O$29,別添!$B$5:$B$29,$B71)","v":0},{"$f":"SUMIFS(別添!P$5:P$29,別添!$B$5:$B$29,$B71)","v":0},{"$f":"SUMIFS(別添!Q$5:Q$29,別添!$B$5:$B$29,$B71)","v":0},{"$f":"SUMIFS(別添!R$5:R$29,別添!$B$5:$B$29,$B71)","v":0},0,{"$f":"SUMIFS(別添!T$5:T$29,別添!$B$5:$B$29,$B71)","v":0},{"$f":"SUMIFS(別添!U$5:U$29,別添!$B$5:$B$29,$B71)","v":0},{"$f":"SUMIFS(別添!V$5:V$29,別添!$B$5:$B$29,$B71)","v":0},{"$f":"SUMIFS(別添!W$5:W$29,別添!$B$5:$B$29,$B71)","v":0},0]
[68,null,{"$f":"IFERROR(VLOOKUP($B72,別添!$B$5:$G$29,2,FALSE),\"\")","v":0},{"$f":"IFERROR(VLOOKUP($B72,別添!$B$5:$G$29,4,FALSE),\"\")","v":0},{"$f":"IFERROR(VLOOKUP($B72,別添!$B$5:$G$29,5,FALSE),\"\")","v":0},{"$f":"IFERROR(VLOOKUP($B72,別添!$B$5:$G$29,6,FALSE),\"\")","v":""},{"$f":"IF(M72>0,実績報告書!$W$7,\"\")","v":""},{"$f":"SUMIFS(別添!I$5:I$29,別添!$B$5:$B$29,$B72)","v":0},{"$f":"IFERROR(IF(COUNTIFS(別添!$B$5:$B$29,B72,別添!$J$5:$J$29,\"有\")>0,\"有\",\"\"),\"\")","v":""},{"$f":"SUMIFS(別添!K$5:K$29,別添!$B$5:$B$29,$B72)","v":0},{"$f":"SUMIFS(別添!L$5:L$29,別添!$B$5:$B$29,$B72)","v":0},{"$f":"SUMIFS(別添!M$5:M$29,別添!$B$5:$B$29,$B72)","v":0},0,{"$f":"SUMIFS(別添!O$5:O$29,別添!$B$5:$B$29,$B72)","v":0},{"$f":"SUMIFS(別添!P$5:P$29,別添!$B$5:$B$29,$B72)","v":0},{"$f":"SUMIFS(別添!Q$5:Q$29,別添!$B$5:$B$29,$B72)","v":0},{"$f":"SUMIFS(別添!R$5:R$29,別添!$B$5:$B$29,$B72)","v":0},0,{"$f":"SUMIFS(別添!T$5:T$29,別添!$B$5:$B$29,$B72)","v":0},{"$f":"SUMIFS(別添!U$5:U$29,別添!$B$5:$B$29,$B72)","v":0},{"$f":"SUMIFS(別添!V$5:V$29,別添!$B$5:$B$29,$B72)","v":0},{"$f":"SUMIFS(別添!W$5:W$29,別添!$B$5:$B$29,$B72)","v":0},0]
[69,null,{"$f":"IFERROR(VLOOKUP($B73,別添!$B$5:$G$29,2,FALSE),\"\")","v":0},{"$f":"IFERROR(VLOOKUP($B73,別添!$B$5:$G$29,4,FALSE),\"\")","v":0},{"$f":"IFERROR(VLOOKUP($B73,別添!$B$5:$G$29,5,FALSE),\"\")","v":0},{"$f":"IFERROR(VLOOKUP($B73,別添!$B$5:$G$29,6,FALSE),\"\")","v":""},{"$f":"IF(M73>0,実績報告書!$W$7,\"\")","v":""},{"$f":"SUMIFS(別添!I$5:I$29,別添!$B$5:$B$29,$B73)","v":0},{"$f":"IFERROR(IF(COUNTIFS(別添!$B$5:$B$29,B73,別添!$J$5:$J$29,\"有\")>0,\"有\",\"\"),\"\")","v":""},{"$f":"SUMIFS(別添!K$5:K$29,別添!$B$5:$B$29,$B73)","v":0},{"$f":"SUMIFS(別添!L$5:L$29,別添!$B$5:$B$29,$B73)","v":0},{"$f":"SUMIFS(別添!M$5:M$29,別添!$B$5:$B$29,$B73)","v":0},0,{"$f":"SUMIFS(別添!O$5:O$29,別添!$B$5:$B$29,$B73)","v":0},{"$f":"SUMIFS(別添!P$5:P$29,別添!$B$5:$B$29,$B73)","v":0},{"$f":"SUMIFS(別添!Q$5:Q$29,別添!$B$5:$B$29,$B73)","v":0},{"$f":"SUMIFS(別添!R$5:R$29,別添!$B$5:$B$29,$B73)","v":0},0,{"$f":"SUMIFS(別添!T$5:T$29,別添!$B$5:$B$29,$B73)","v":0},{"$f":"SUMIFS(別添!U$5:U$29,別添!$B$5:$B$29,$B73)","v":0},{"$f":"SUMIFS(別添!V$5:V$29,別添!$B$5:$B$29,$B73)","v":0},{"$f":"SUMIFS(別添!W$5:W$29,別添!$B$5:$B$29,$B73)","v":0},0]
[70,null,{"$f":"IFERROR(VLOOKUP($B74,別添!$B$5:$G$29,2,FALSE),\"\")","v":0},{"$f":"IFERROR(VLOOKUP($B74,別添!$B$5:$G$29,4,FALSE),\"\")","v":0},{"$f":"IFERROR(VLOOKUP($B74,別添!$B$5:$G$29,5,FALSE),\"\")","v":0},{"$f":"IFERROR(VLOOKUP($B74,別添!$B$5:$G$29,6,FALSE),\"\")","v":""},{"$f":"IF(M74>0,実績報告書!$W$7,\"\")","v":""},{"$f":"SUMIFS(別添!I$5:I$29,別添!$B$5:$B$29,$B74)","v":0},{"$f":"IFERROR(IF(COUNTIFS(別添!$B$5:$B$29,B74,別添!$J$5:$J$29,\"有\")>0,\"有\",\"\"),\"\")","v":""},{"$f":"SUMIFS(別添!K$5:K$29,別添!$B$5:$B$29,$B74)","v":0},{"$f":"SUMIFS(別添!L$5:L$29,別添!$B$5:$B$29,$B74)","v":0},{"$f":"SUMIFS(別添!M$5:M$29,別添!$B$5:$B$29,$B74)","v":0},0,{"$f":"SUMIFS(別添!O$5:O$29,別添!$B$5:$B$29,$B74)","v":0},{"$f":"SUMIFS(別添!P$5:P$29,別添!$B$5:$B$29,$B74)","v":0},{"$f":"SUMIFS(別添!Q$5:Q$29,別添!$B$5:$B$29,$B74)","v":0},{"$f":"SUMIFS(別添!R$5:R$29,別添!$B$5:$B$29,$B74)","v":0},0,{"$f":"SUMIFS(別添!T$5:T$29,別添!$B$5:$B$29,$B74)","v":0},{"$f":"SUMIFS(別添!U$5:U$29,別添!$B$5:$B$29,$B74)","v":0},{"$f":"SUMIFS(別添!V$5:V$29,別添!$B$5:$B$29,$B74)","v":0},{"$f":"SUMIFS(別添!W$5:W$29,別添!$B$5:$B$29,$B74)","v":0},0]
[71,null,{"$f":"IFERROR(VLOOKUP($B75,別添!$B$5:$G$29,2,FALSE),\"\")","v":0},{"$f":"IFERROR(VLOOKUP($B75,別添!$B$5:$G$29,4,FALSE),\"\")","v":0},{"$f":"IFERROR(VLOOKUP($B75,別添!$B$5:$G$29,5,FALSE),\"\")","v":0},{"$f":"IFERROR(VLOOKUP($B75,別添!$B$5:$G$29,6,FALSE),\"\")","v":""},{"$f":"IF(M75>0,実績報告書!$W$7,\"\")","v":""},{"$f":"SUMIFS(別添!I$5:I$29,別添!$B$5:$B$29,$B75)","v":0},{"$f":"IFERROR(IF(COUNTIFS(別添!$B$5:$B$29,B75,別添!$J$5:$J$29,\"有\")>0,\"有\",\"\"),\"\")","v":""},{"$f":"SUMIFS(別添!K$5:K$29,別添!$B$5:$B$29,$B75)","v":0},{"$f":"SUMIFS(別添!L$5:L$29,別添!$B$5:$B$29,$B75)","v":0},{"$f":"SUMIFS(別添!M$5:M$29,別添!$B$5:$B$29,$B75)","v":0},0,{"$f":"SUMIFS(別添!O$5:O$29,別添!$B$5:$B$29,$B75)","v":0},{"$f":"SUMIFS(別添!P$5:P$29,別添!$B$5:$B$29,$B75)","v":0},{"$f":"SUMIFS(別添!Q$5:Q$29,別添!$B$5:$B$29,$B75)","v":0},{"$f":"SUMIFS(別添!R$5:R$29,別添!$B$5:$B$29,$B75)","v":0},0,{"$f":"SUMIFS(別添!T$5:T$29,別添!$B$5:$B$29,$B75)","v":0},{"$f":"SUMIFS(別添!U$5:U$29,別添!$B$5:$B$29,$B75)","v":0},{"$f":"SUMIFS(別添!V$5:V$29,別添!$B$5:$B$29,$B75)","v":0},{"$f":"SUMIFS(別添!W$5:W$29,別添!$B$5:$B$29,$B75)","v":0},0]
[72,null,{"$f":"IFERROR(VLOOKUP($B76,別添!$B$5:$G$29,2,FALSE),\"\")","v":0},{"$f":"IFERROR(VLOOKUP($B76,別添!$B$5:$G$29,4,FALSE),\"\")","v":0},{"$f":"IFERROR(VLOOKUP($B76,別添!$B$5:$G$29,5,FALSE),\"\")","v":0},{"$f":"IFERROR(VLOOKUP($B76,別添!$B$5:$G$29,6,FALSE),\"\")","v":""},{"$f":"IF(M76>0,実績報告書!$W$7,\"\")","v":""},{"$f":"SUMIFS(別添!I$5:I$29,別添!$B$5:$B$29,$B76)","v":0},{"$f":"IFERROR(IF(COUNTIFS(別添!$B$5:$B$29,B76,別添!$J$5:$J$29,\"有\")>0,\"有\",\"\"),\"\")","v":""},{"$f":"SUMIFS(別添!K$5:K$29,別添!$B$5:$B$29,$B76)","v":0},{"$f":"SUMIFS(別添!L$5:L$29,別添!$B$5:$B$29,$B76)","v":0},{"$f":"SUMIFS(別添!M$5:M$29,別添!$B$5:$B$29,$B76)","v":0},0,{"$f":"SUMIFS(別添!O$5:O$29,別添!$B$5:$B$29,$B76)","v":0},{"$f":"SUMIFS(別添!P$5:P$29,別添!$B$5:$B$29,$B76)","v":0},{"$f":"SUMIFS(別添!Q$5:Q$29,別添!$B$5:$B$29,$B76)","v":0},{"$f":"SUMIFS(別添!R$5:R$29,別添!$B$5:$B$29,$B76)","v":0},0,{"$f":"SUMIFS(別添!T$5:T$29,別添!$B$5:$B$29,$B76)","v":0},{"$f":"SUMIFS(別添!U$5:U$29,別添!$B$5:$B$29,$B76)","v":0},{"$f":"SUMIFS(別添!V$5:V$29,別添!$B$5:$B$29,$B76)","v":0},{"$f":"SUMIFS(別添!W$5:W$29,別添!$B$5:$B$29,$B76)","v":0},0]
[73,null,{"$f":"IFERROR(VLOOKUP($B77,別添!$B$5:$G$29,2,FALSE),\"\")","v":0},{"$f":"IFERROR(VLOOKUP($B77,別添!$B$5:$G$29,4,FALSE),\"\")","v":0},{"$f":"IFERROR(VLOOKUP($B77,別添!$B$5:$G$29,5,FALSE),\"\")","v":0},{"$f":"IFERROR(VLOOKUP($B77,別添!$B$5:$G$29,6,FALSE),\"\")","v":""},{"$f":"IF(M77>0,実績報告書!$W$7,\"\")","v":""},{"$f":"SUMIFS(別添!I$5:I$29,別添!$B$5:$B$29,$B77)","v":0},{"$f":"IFERROR(IF(COUNTIFS(別添!$B$5:$B$29,B77,別添!$J$5:$J$29,\"有\")>0,\"有\",\"\"),\"\")","v":""},{"$f":"SUMIFS(別添!K$5:K$29,別添!$B$5:$B$29,$B77)","v":0},{"$f":"SUMIFS(別添!L$5:L$29,別添!$B$5:$B$29,$B77)","v":0},{"$f":"SUMIFS(別添!M$5:M$29,別添!$B$5:$B$29,$B77)","v":0},0,{"$f":"SUMIFS(別添!O$5:O$29,別添!$B$5:$B$29,$B77)","v":0},{"$f":"SUMIFS(別添!P$5:P$29,別添!$B$5:$B$29,$B77)","v":0},{"$f":"SUMIFS(別添!Q$5:Q$29,別添!$B$5:$B$29,$B77)","v":0},{"$f":"SUMIFS(別添!R$5:R$29,別添!$B$5:$B$29,$B77)","v":0},0,{"$f":"SUMIFS(別添!T$5:T$29,別添!$B$5:$B$29,$B77)","v":0},{"$f":"SUMIFS(別添!U$5:U$29,別添!$B$5:$B$29,$B77)","v":0},{"$f":"SUMIFS(別添!V$5:V$29,別添!$B$5:$B$29,$B77)","v":0},{"$f":"SUMIFS(別添!W$5:W$29,別添!$B$5:$B$29,$B77)","v":0},0]
[74,null,{"$f":"IFERROR(VLOOKUP($B78,別添!$B$5:$G$29,2,FALSE),\"\")","v":0},{"$f":"IFERROR(VLOOKUP($B78,別添!$B$5:$G$29,4,FALSE),\"\")","v":0},{"$f":"IFERROR(VLOOKUP($B78,別添!$B$5:$G$29,5,FALSE),\"\")","v":0},{"$f":"IFERROR(VLOOKUP($B78,別添!$B$5:$G$29,6,FALSE),\"\")","v":""},{"$f":"IF(M78>0,実績報告書!$W$7,\"\")","v":""},{"$f":"SUMIFS(別添!I$5:I$29,別添!$B$5:$B$29,$B78)","v":0},{"$f":"IFERROR(IF(COUNTIFS(別添!$B$5:$B$29,B78,別添!$J$5:$J$29,\"有\")>0,\"有\",\"\"),\"\")","v":""},{"$f":"SUMIFS(別添!K$5:K$29,別添!$B$5:$B$29,$B78)","v":0},{"$f":"SUMIFS(別添!L$5:L$29,別添!$B$5:$B$29,$B78)","v":0},{"$f":"SUMIFS(別添!M$5:M$29,別添!$B$5:$B$29,$B78)","v":0},0,{"$f":"SUMIFS(別添!O$5:O$29,別添!$B$5:$B$29,$B78)","v":0},{"$f":"SUMIFS(別添!P$5:P$29,別添!$B$5:$B$29,$B78)","v":0},{"$f":"SUMIFS(別添!Q$5:Q$29,別添!$B$5:$B$29,$B78)","v":0},{"$f":"SUMIFS(別添!R$5:R$29,別添!$B$5:$B$29,$B78)","v":0},0,{"$f":"SUMIFS(別添!T$5:T$29,別添!$B$5:$B$29,$B78)","v":0},{"$f":"SUMIFS(別添!U$5:U$29,別添!$B$5:$B$29,$B78)","v":0},{"$f":"SUMIFS(別添!V$5:V$29,別添!$B$5:$B$29,$B78)","v":0},{"$f":"SUMIFS(別添!W$5:W$29,別添!$B$5:$B$29,$B78)","v":0},0]
[75,null,{"$f":"IFERROR(VLOOKUP($B79,別添!$B$5:$G$29,2,FALSE),\"\")","v":0},{"$f":"IFERROR(VLOOKUP($B79,別添!$B$5:$G$29,4,FALSE),\"\")","v":0},{"$f":"IFERROR(VLOOKUP($B79,別添!$B$5:$G$29,5,FALSE),\"\")","v":0},{"$f":"IFERROR(VLOOKUP($B79,別添!$B$5:$G$29,6,FALSE),\"\")","v":""},{"$f":"IF(M79>0,実績報告書!$W$7,\"\")","v":""},{"$f":"SUMIFS(別添!I$5:I$29,別添!$B$5:$B$29,$B79)","v":0},{"$f":"IFERROR(IF(COUNTIFS(別添!$B$5:$B$29,B79,別添!$J$5:$J$29,\"有\")>0,\"有\",\"\"),\"\")","v":""},{"$f":"SUMIFS(別添!K$5:K$29,別添!$B$5:$B$29,$B79)","v":0},{"$f":"SUMIFS(別添!L$5:L$29,別添!$B$5:$B$29,$B79)","v":0},{"$f":"SUMIFS(別添!M$5:M$29,別添!$B$5:$B$29,$B79)","v":0},0,{"$f":"SUMIFS(別添!O$5:O$29,別添!$B$5:$B$29,$B79)","v":0},{"$f":"SUMIFS(別添!P$5:P$29,別添!$B$5:$B$29,$B79)","v":0},{"$f":"SUMIFS(別添!Q$5:Q$29,別添!$B$5:$B$29,$B79)","v":0},{"$f":"SUMIFS(別添!R$5:R$29,別添!$B$5:$B$29,$B79)","v":0},0,{"$f":"SUMIFS(別添!T$5:T$29,別添!$B$5:$B$29,$B79)","v":0},{"$f":"SUMIFS(別添!U$5:U$29,別添!$B$5:$B$29,$B79)","v":0},{"$f":"SUMIFS(別添!V$5:V$29,別添!$B$5:$B$29,$B79)","v":0},{"$f":"SUMIFS(別添!W$5:W$29,別添!$B$5:$B$29,$B79)","v":0},0]
[76,null,{"$f":"IFERROR(VLOOKUP($B80,別添!$B$5:$G$29,2,FALSE),\"\")","v":0},{"$f":"IFERROR(VLOOKUP($B80,別添!$B$5:$G$29,4,FALSE),\"\")","v":0},{"$f":"IFERROR(VLOOKUP($B80,別添!$B$5:$G$29,5,FALSE),\"\")","v":0},{"$f":"IFERROR(VLOOKUP($B80,別添!$B$5:$G$29,6,FALSE),\"\")","v":""},{"$f":"IF(M80>0,実績報告書!$W$7,\"\")","v":""},{"$f":"SUMIFS(別添!I$5:I$29,別添!$B$5:$B$29,$B80)","v":0},{"$f":"IFERROR(IF(COUNTIFS(別添!$B$5:$B$29,B80,別添!$J$5:$J$29,\"有\")>0,\"有\",\"\"),\"\")","v":""},{"$f":"SUMIFS(別添!K$5:K$29,別添!$B$5:$B$29,$B80)","v":0},{"$f":"SUMIFS(別添!L$5:L$29,別添!$B$5:$B$29,$B80)","v":0},{"$f":"SUMIFS(別添!M$5:M$29,別添!$B$5:$B$29,$B80)","v":0},0,{"$f":"SUMIFS(別添!O$5:O$29,別添!$B$5:$B$29,$B80)","v":0},{"$f":"SUMIFS(別添!P$5:P$29,別添!$B$5:$B$29,$B80)","v":0},{"$f":"SUMIFS(別添!Q$5:Q$29,別添!$B$5:$B$29,$B80)","v":0},{"$f":"SUMIFS(別添!R$5:R$29,別添!$B$5:$B$29,$B80)","v":0},0,{"$f":"SUMIFS(別添!T$5:T$29,別添!$B$5:$B$29,$B80)","v":0},{"$f":"SUMIFS(別添!U$5:U$29,別添!$B$5:$B$29,$B80)","v":0},{"$f":"SUMIFS(別添!V$5:V$29,別添!$B$5:$B$29,$B80)","v":0},{"$f":"SUMIFS(別添!W$5:W$29,別添!$B$5:$B$29,$B80)","v":0},0]
[77,null,{"$f":"IFERROR(VLOOKUP($B81,別添!$B$5:$G$29,2,FALSE),\"\")","v":0},{"$f":"IFERROR(VLOOKUP($B81,別添!$B$5:$G$29,4,FALSE),\"\")","v":0},{"$f":"IFERROR(VLOOKUP($B81,別添!$B$5:$G$29,5,FALSE),\"\")","v":0},{"$f":"IFERROR(VLOOKUP($B81,別添!$B$5:$G$29,6,FALSE),\"\")","v":""},{"$f":"IF(M81>0,実績報告書!$W$7,\"\")","v":""},{"$f":"SUMIFS(別添!I$5:I$29,別添!$B$5:$B$29,$B81)","v":0},{"$f":"IFERROR(IF(COUNTIFS(別添!$B$5:$B$29,B81,別添!$J$5:$J$29,\"有\")>0,\"有\",\"\"),\"\")","v":""},{"$f":"SUMIFS(別添!K$5:K$29,別添!$B$5:$B$29,$B81)","v":0},{"$f":"SUMIFS(別添!L$5:L$29,別添!$B$5:$B$29,$B81)","v":0},{"$f":"SUMIFS(別添!M$5:M$29,別添!$B$5:$B$29,$B81)","v":0},0,{"$f":"SUMIFS(別添!O$5:O$29,別添!$B$5:$B$29,$B81)","v":0},{"$f":"SUMIFS(別添!P$5:P$29,別添!$B$5:$B$29,$B81)","v":0},{"$f":"SUMIFS(別添!Q$5:Q$29,別添!$B$5:$B$29,$B81)","v":0},{"$f":"SUMIFS(別添!R$5:R$29,別添!$B$5:$B$29,$B81)","v":0},0,{"$f":"SUMIFS(別添!T$5:T$29,別添!$B$5:$B$29,$B81)","v":0},{"$f":"SUMIFS(別添!U$5:U$29,別添!$B$5:$B$29,$B81)","v":0},{"$f":"SUMIFS(別添!V$5:V$29,別添!$B$5:$B$29,$B81)","v":0},{"$f":"SUMIFS(別添!W$5:W$29,別添!$B$5:$B$29,$B81)","v":0},0]
[78,null,{"$f":"IFERROR(VLOOKUP($B82,別添!$B$5:$G$29,2,FALSE),\"\")","v":0},{"$f":"IFERROR(VLOOKUP($B82,別添!$B$5:$G$29,4,FALSE),\"\")","v":0},{"$f":"IFERROR(VLOOKUP($B82,別添!$B$5:$G$29,5,FALSE),\"\")","v":0},{"$f":"IFERROR(VLOOKUP($B82,別添!$B$5:$G$29,6,FALSE),\"\")","v":""},{"$f":"IF(M82>0,実績報告書!$W$7,\"\")","v":""},{"$f":"SUMIFS(別添!I$5:I$29,別添!$B$5:$B$29,$B82)","v":0},{"$f":"IFERROR(IF(COUNTIFS(別添!$B$5:$B$29,B82,別添!$J$5:$J$29,\"有\")>0,\"有\",\"\"),\"\")","v":""},{"$f":"SUMIFS(別添!K$5:K$29,別添!$B$5:$B$29,$B82)","v":0},{"$f":"SUMIFS(別添!L$5:L$29,別添!$B$5:$B$29,$B82)","v":0},{"$f":"SUMIFS(別添!M$5:M$29,別添!$B$5:$B$29,$B82)","v":0},0,{"$f":"SUMIFS(別添!O$5:O$29,別添!$B$5:$B$29,$B82)","v":0},{"$f":"SUMIFS(別添!P$5:P$29,別添!$B$5:$B$29,$B82)","v":0},{"$f":"SUMIFS(別添!Q$5:Q$29,別添!$B$5:$B$29,$B82)","v":0},{"$f":"SUMIFS(別添!R$5:R$29,別添!$B$5:$B$29,$B82)","v":0},0,{"$f":"SUMIFS(別添!T$5:T$29,別添!$B$5:$B$29,$B82)","v":0},{"$f":"SUMIFS(別添!U$5:U$29,別添!$B$5:$B$29,$B82)","v":0},{"$f":"SUMIFS(別添!V$5:V$29,別添!$B$5:$B$29,$B82)","v":0},{"$f":"SUMIFS(別添!W$5:W$29,別添!$B$5:$B$29,$B82)","v":0},0]
[79,null,{"$f":"IFERROR(VLOOKUP($B83,別添!$B$5:$G$29,2,FALSE),\"\")","v":0},{"$f":"IFERROR(VLOOKUP($B83,別添!$B$5:$G$29,4,FALSE),\"\")","v":0},{"$f":"IFERROR(VLOOKUP($B83,別添!$B$5:$G$29,5,FALSE),\"\")","v":0},{"$f":"IFERROR(VLOOKUP($B83,別添!$B$5:$G$29,6,FALSE),\"\")","v":""},{"$f":"IF(M83>0,実績報告書!$W$7,\"\")","v":""},{"$f":"SUMIFS(別添!I$5:I$29,別添!$B$5:$B$29,$B83)","v":0},{"$f":"IFERROR(IF(COUNTIFS(別添!$B$5:$B$29,B83,別添!$J$5:$J$29,\"有\")>0,\"有\",\"\"),\"\")","v":""},{"$f":"SUMIFS(別添!K$5:K$29,別添!$B$5:$B$29,$B83)","v":0},{"$f":"SUMIFS(別添!L$5:L$29,別添!$B$5:$B$29,$B83)","v":0},{"$f":"SUMIFS(別添!M$5:M$29,別添!$B$5:$B$29,$B83)","v":0},0,{"$f":"SUMIFS(別添!O$5:O$29,別添!$B$5:$B$29,$B83)","v":0},{"$f":"SUMIFS(別添!P$5:P$29,別添!$B$5:$B$29,$B83)","v":0},{"$f":"SUMIFS(別添!Q$5:Q$29,別添!$B$5:$B$29,$B83)","v":0},{"$f":"SUMIFS(別添!R$5:R$29,別添!$B$5:$B$29,$B83)","v":0},0,{"$f":"SUMIFS(別添!T$5:T$29,別添!$B$5:$B$29,$B83)","v":0},{"$f":"SUMIFS(別添!U$5:U$29,別添!$B$5:$B$29,$B83)","v":0},{"$f":"SUMIFS(別添!V$5:V$29,別添!$B$5:$B$29,$B83)","v":0},{"$f":"SUMIFS(別添!W$5:W$29,別添!$B$5:$B$29,$B83)","v":0},0]
[80,null,{"$f":"IFERROR(VLOOKUP($B84,別添!$B$5:$G$29,2,FALSE),\"\")","v":0},{"$f":"IFERROR(VLOOKUP($B84,別添!$B$5:$G$29,4,FALSE),\"\")","v":0},{"$f":"IFERROR(VLOOKUP($B84,別添!$B$5:$G$29,5,FALSE),\"\")","v":0},{"$f":"IFERROR(VLOOKUP($B84,別添!$B$5:$G$29,6,FALSE),\"\")","v":""},{"$f":"IF(M84>0,実績報告書!$W$7,\"\")","v":""},{"$f":"SUMIFS(別添!I$5:I$29,別添!$B$5:$B$29,$B84)","v":0},{"$f":"IFERROR(IF(COUNTIFS(別添!$B$5:$B$29,B84,別添!$J$5:$J$29,\"有\")>0,\"有\",\"\"),\"\")","v":""},{"$f":"SUMIFS(別添!K$5:K$29,別添!$B$5:$B$29,$B84)","v":0},{"$f":"SUMIFS(別添!L$5:L$29,別添!$B$5:$B$29,$B84)","v":0},{"$f":"SUMIFS(別添!M$5:M$29,別添!$B$5:$B$29,$B84)","v":0},0,{"$f":"SUMIFS(別添!O$5:O$29,別添!$B$5:$B$29,$B84)","v":0},{"$f":"SUMIFS(別添!P$5:P$29,別添!$B$5:$B$29,$B84)","v":0},{"$f":"SUMIFS(別添!Q$5:Q$29,別添!$B$5:$B$29,$B84)","v":0},{"$f":"SUMIFS(別添!R$5:R$29,別添!$B$5:$B$29,$B84)","v":0},0,{"$f":"SUMIFS(別添!T$5:T$29,別添!$B$5:$B$29,$B84)","v":0},{"$f":"SUMIFS(別添!U$5:U$29,別添!$B$5:$B$29,$B84)","v":0},{"$f":"SUMIFS(別添!V$5:V$29,別添!$B$5:$B$29,$B84)","v":0},{"$f":"SUMIFS(別添!W$5:W$29,別添!$B$5:$B$29,$B84)","v":0},0]
[81,null,{"$f":"IFERROR(VLOOKUP($B85,別添!$B$5:$G$29,2,FALSE),\"\")","v":0},{"$f":"IFERROR(VLOOKUP($B85,別添!$B$5:$G$29,4,FALSE),\"\")","v":0},{"$f":"IFERROR(VLOOKUP($B85,別添!$B$5:$G$29,5,FALSE),\"\")","v":0},{"$f":"IFERROR(VLOOKUP($B85,別添!$B$5:$G$29,6,FALSE),\"\")","v":""},{"$f":"IF(M85>0,実績報告書!$W$7,\"\")","v":""},{"$f":"SUMIFS(別添!I$5:I$29,別添!$B$5:$B$29,$B85)","v":0},{"$f":"IFERROR(IF(COUNTIFS(別添!$B$5:$B$29,B85,別添!$J$5:$J$29,\"有\")>0,\"有\",\"\"),\"\")","v":""},{"$f":"SUMIFS(別添!K$5:K$29,別添!$B$5:$B$29,$B85)","v":0},{"$f":"SUMIFS(別添!L$5:L$29,別添!$B$5:$B$29,$B85)","v":0},{"$f":"SUMIFS(別添!M$5:M$29,別添!$B$5:$B$29,$B85)","v":0},0,{"$f":"SUMIFS(別添!O$5:O$29,別添!$B$5:$B$29,$B85)","v":0},{"$f":"SUMIFS(別添!P$5:P$29,別添!$B$5:$B$29,$B85)","v":0},{"$f":"SUMIFS(別添!Q$5:Q$29,別添!$B$5:$B$29,$B85)","v":0},{"$f":"SUMIFS(別添!R$5:R$29,別添!$B$5:$B$29,$B85)","v":0},0,{"$f":"SUMIFS(別添!T$5:T$29,別添!$B$5:$B$29,$B85)","v":0},{"$f":"SUMIFS(別添!U$5:U$29,別添!$B$5:$B$29,$B85)","v":0},{"$f":"SUMIFS(別添!V$5:V$29,別添!$B$5:$B$29,$B85)","v":0},{"$f":"SUMIFS(別添!W$5:W$29,別添!$B$5:$B$29,$B85)","v":0},0]
[82,null,{"$f":"IFERROR(VLOOKUP($B86,別添!$B$5:$G$29,2,FALSE),\"\")","v":0},{"$f":"IFERROR(VLOOKUP($B86,別添!$B$5:$G$29,4,FALSE),\"\")","v":0},{"$f":"IFERROR(VLOOKUP($B86,別添!$B$5:$G$29,5,FALSE),\"\")","v":0},{"$f":"IFERROR(VLOOKUP($B86,別添!$B$5:$G$29,6,FALSE),\"\")","v":""},{"$f":"IF(M86>0,実績報告書!$W$7,\"\")","v":""},{"$f":"SUMIFS(別添!I$5:I$29,別添!$B$5:$B$29,$B86)","v":0},{"$f":"IFERROR(IF(COUNTIFS(別添!$B$5:$B$29,B86,別添!$J$5:$J$29,\"有\")>0,\"有\",\"\"),\"\")","v":""},{"$f":"SUMIFS(別添!K$5:K$29,別添!$B$5:$B$29,$B86)","v":0},{"$f":"SUMIFS(別添!L$5:L$29,別添!$B$5:$B$29,$B86)","v":0},{"$f":"SUMIFS(別添!M$5:M$29,別添!$B$5:$B$29,$B86)","v":0},0,{"$f":"SUMIFS(別添!O$5:O$29,別添!$B$5:$B$29,$B86)","v":0},{"$f":"SUMIFS(別添!P$5:P$29,別添!$B$5:$B$29,$B86)","v":0},{"$f":"SUMIFS(別添!Q$5:Q$29,別添!$B$5:$B$29,$B86)","v":0},{"$f":"SUMIFS(別添!R$5:R$29,別添!$B$5:$B$29,$B86)","v":0},0,{"$f":"SUMIFS(別添!T$5:T$29,別添!$B$5:$B$29,$B86)","v":0},{"$f":"SUMIFS(別添!U$5:U$29,別添!$B$5:$B$29,$B86)","v":0},{"$f":"SUMIFS(別添!V$5:V$29,別添!$B$5:$B$29,$B86)","v":0},{"$f":"SUMIFS(別添!W$5:W$29,別添!$B$5:$B$29,$B86)","v":0},0]
[83,null,{"$f":"IFERROR(VLOOKUP($B87,別添!$B$5:$G$29,2,FALSE),\"\")","v":0},{"$f":"IFERROR(VLOOKUP($B87,別添!$B$5:$G$29,4,FALSE),\"\")","v":0},{"$f":"IFERROR(VLOOKUP($B87,別添!$B$5:$G$29,5,FALSE),\"\")","v":0},{"$f":"IFERROR(VLOOKUP($B87,別添!$B$5:$G$29,6,FALSE),\"\")","v":""},{"$f":"IF(M87>0,実績報告書!$W$7,\"\")","v":""},{"$f":"SUMIFS(別添!I$5:I$29,別添!$B$5:$B$29,$B87)","v":0},{"$f":"IFERROR(IF(COUNTIFS(別添!$B$5:$B$29,B87,別添!$J$5:$J$29,\"有\")>0,\"有\",\"\"),\"\")","v":""},{"$f":"SUMIFS(別添!K$5:K$29,別添!$B$5:$B$29,$B87)","v":0},{"$f":"SUMIFS(別添!L$5:L$29,別添!$B$5:$B$29,$B87)","v":0},{"$f":"SUMIFS(別添!M$5:M$29,別添!$B$5:$B$29,$B87)","v":0},0,{"$f":"SUMIFS(別添!O$5:O$29,別添!$B$5:$B$29,$B87)","v":0},{"$f":"SUMIFS(別添!P$5:P$29,別添!$B$5:$B$29,$B87)","v":0},{"$f":"SUMIFS(別添!Q$5:Q$29,別添!$B$5:$B$29,$B87)","v":0},{"$f":"SUMIFS(別添!R$5:R$29,別添!$B$5:$B$29,$B87)","v":0},0,{"$f":"SUMIFS(別添!T$5:T$29,別添!$B$5:$B$29,$B87)","v":0},{"$f":"SUMIFS(別添!U$5:U$29,別添!$B$5:$B$29,$B87)","v":0},{"$f":"SUMIFS(別添!V$5:V$29,別添!$B$5:$B$29,$B87)","v":0},{"$f":"SUMIFS(別添!W$5:W$29,別添!$B$5:$B$29,$B87)","v":0},0]
[84,null,{"$f":"IFERROR(VLOOKUP($B88,別添!$B$5:$G$29,2,FALSE),\"\")","v":0},{"$f":"IFERROR(VLOOKUP($B88,別添!$B$5:$G$29,4,FALSE),\"\")","v":0},{"$f":"IFERROR(VLOOKUP($B88,別添!$B$5:$G$29,5,FALSE),\"\")","v":0},{"$f":"IFERROR(VLOOKUP($B88,別添!$B$5:$G$29,6,FALSE),\"\")","v":""},{"$f":"IF(M88>0,実績報告書!$W$7,\"\")","v":""},{"$f":"SUMIFS(別添!I$5:I$29,別添!$B$5:$B$29,$B88)","v":0},{"$f":"IFERROR(IF(COUNTIFS(別添!$B$5:$B$29,B88,別添!$J$5:$J$29,\"有\")>0,\"有\",\"\"),\"\")","v":""},{"$f":"SUMIFS(別添!K$5:K$29,別添!$B$5:$B$29,$B88)","v":0},{"$f":"SUMIFS(別添!L$5:L$29,別添!$B$5:$B$29,$B88)","v":0},{"$f":"SUMIFS(別添!M$5:M$29,別添!$B$5:$B$29,$B88)","v":0},0,{"$f":"SUMIFS(別添!O$5:O$29,別添!$B$5:$B$29,$B88)","v":0},{"$f":"SUMIFS(別添!P$5:P$29,別添!$B$5:$B$29,$B88)","v":0},{"$f":"SUMIFS(別添!Q$5:Q$29,別添!$B$5:$B$29,$B88)","v":0},{"$f":"SUMIFS(別添!R$5:R$29,別添!$B$5:$B$29,$B88)","v":0},0,{"$f":"SUMIFS(別添!T$5:T$29,別添!$B$5:$B$29,$B88)","v":0},{"$f":"SUMIFS(別添!U$5:U$29,別添!$B$5:$B$29,$B88)","v":0},{"$f":"SUMIFS(別添!V$5:V$29,別添!$B$5:$B$29,$B88)","v":0},{"$f":"SUMIFS(別添!W$5:W$29,別添!$B$5:$B$29,$B88)","v":0},0]
[85,null,{"$f":"IFERROR(VLOOKUP($B89,別添!$B$5:$G$29,2,FALSE),\"\")","v":0},{"$f":"IFERROR(VLOOKUP($B89,別添!$B$5:$G$29,4,FALSE),\"\")","v":0},{"$f":"IFERROR(VLOOKUP($B89,別添!$B$5:$G$29,5,FALSE),\"\")","v":0},{"$f":"IFERROR(VLOOKUP($B89,別添!$B$5:$G$29,6,FALSE),\"\")","v":""},{"$f":"IF(M89>0,実績報告書!$W$7,\"\")","v":""},{"$f":"SUMIFS(別添!I$5:I$29,別添!$B$5:$B$29,$B89)","v":0},{"$f":"IFERROR(IF(COUNTIFS(別添!$B$5:$B$29,B89,別添!$J$5:$J$29,\"有\")>0,\"有\",\"\"),\"\")","v":""},{"$f":"SUMIFS(別添!K$5:K$29,別添!$B$5:$B$29,$B89)","v":0},{"$f":"SUMIFS(別添!L$5:L$29,別添!$B$5:$B$29,$B89)","v":0},{"$f":"SUMIFS(別添!M$5:M$29,別添!$B$5:$B$29,$B89)","v":0},0,{"$f":"SUMIFS(別添!O$5:O$29,別添!$B$5:$B$29,$B89)","v":0},{"$f":"SUMIFS(別添!P$5:P$29,別添!$B$5:$B$29,$B89)","v":0},{"$f":"SUMIFS(別添!Q$5:Q$29,別添!$B$5:$B$29,$B89)","v":0},{"$f":"SUMIFS(別添!R$5:R$29,別添!$B$5:$B$29,$B89)","v":0},0,{"$f":"SUMIFS(別添!T$5:T$29,別添!$B$5:$B$29,$B89)","v":0},{"$f":"SUMIFS(別添!U$5:U$29,別添!$B$5:$B$29,$B89)","v":0},{"$f":"SUMIFS(別添!V$5:V$29,別添!$B$5:$B$29,$B89)","v":0},{"$f":"SUMIFS(別添!W$5:W$29,別添!$B$5:$B$29,$B89)","v":0},0]
[86,null,{"$f":"IFERROR(VLOOKUP($B90,別添!$B$5:$G$29,2,FALSE),\"\")","v":0},{"$f":"IFERROR(VLOOKUP($B90,別添!$B$5:$G$29,4,FALSE),\"\")","v":0},{"$f":"IFERROR(VLOOKUP($B90,別添!$B$5:$G$29,5,FALSE),\"\")","v":0},{"$f":"IFERROR(VLOOKUP($B90,別添!$B$5:$G$29,6,FALSE),\"\")","v":""},{"$f":"IF(M90>0,実績報告書!$W$7,\"\")","v":""},{"$f":"SUMIFS(別添!I$5:I$29,別添!$B$5:$B$29,$B90)","v":0},{"$f":"IFERROR(IF(COUNTIFS(別添!$B$5:$B$29,B90,別添!$J$5:$J$29,\"有\")>0,\"有\",\"\"),\"\")","v":""},{"$f":"SUMIFS(別添!K$5:K$29,別添!$B$5:$B$29,$B90)","v":0},{"$f":"SUMIFS(別添!L$5:L$29,別添!$B$5:$B$29,$B90)","v":0},{"$f":"SUMIFS(別添!M$5:M$29,別添!$B$5:$B$29,$B90)","v":0},0,{"$f":"SUMIFS(別添!O$5:O$29,別添!$B$5:$B$29,$B90)","v":0},{"$f":"SUMIFS(別添!P$5:P$29,別添!$B$5:$B$29,$B90)","v":0},{"$f":"SUMIFS(別添!Q$5:Q$29,別添!$B$5:$B$29,$B90)","v":0},{"$f":"SUMIFS(別添!R$5:R$29,別添!$B$5:$B$29,$B90)","v":0},0,{"$f":"SUMIFS(別添!T$5:T$29,別添!$B$5:$B$29,$B90)","v":0},{"$f":"SUMIFS(別添!U$5:U$29,別添!$B$5:$B$29,$B90)","v":0},{"$f":"SUMIFS(別添!V$5:V$29,別添!$B$5:$B$29,$B90)","v":0},{"$f":"SUMIFS(別添!W$5:W$29,別添!$B$5:$B$29,$B90)","v":0},0]
[87,null,{"$f":"IFERROR(VLOOKUP($B91,別添!$B$5:$G$29,2,FALSE),\"\")","v":0},{"$f":"IFERROR(VLOOKUP($B91,別添!$B$5:$G$29,4,FALSE),\"\")","v":0},{"$f":"IFERROR(VLOOKUP($B91,別添!$B$5:$G$29,5,FALSE),\"\")","v":0},{"$f":"IFERROR(VLOOKUP($B91,別添!$B$5:$G$29,6,FALSE),\"\")","v":""},{"$f":"IF(M91>0,実績報告書!$W$7,\"\")","v":""},{"$f":"SUMIFS(別添!I$5:I$29,別添!$B$5:$B$29,$B91)","v":0},{"$f":"IFERROR(IF(COUNTIFS(別添!$B$5:$B$29,B91,別添!$J$5:$J$29,\"有\")>0,\"有\",\"\"),\"\")","v":""},{"$f":"SUMIFS(別添!K$5:K$29,別添!$B$5:$B$29,$B91)","v":0},{"$f":"SUMIFS(別添!L$5:L$29,別添!$B$5:$B$29,$B91)","v":0},{"$f":"SUMIFS(別添!M$5:M$29,別添!$B$5:$B$29,$B91)","v":0},0,{"$f":"SUMIFS(別添!O$5:O$29,別添!$B$5:$B$29,$B91)","v":0},{"$f":"SUMIFS(別添!P$5:P$29,別添!$B$5:$B$29,$B91)","v":0},{"$f":"SUMIFS(別添!Q$5:Q$29,別添!$B$5:$B$29,$B91)","v":0},{"$f":"SUMIFS(別添!R$5:R$29,別添!$B$5:$B$29,$B91)","v":0},0,{"$f":"SUMIFS(別添!T$5:T$29,別添!$B$5:$B$29,$B91)","v":0},{"$f":"SUMIFS(別添!U$5:U$29,別添!$B$5:$B$29,$B91)","v":0},{"$f":"SUMIFS(別添!V$5:V$29,別添!$B$5:$B$29,$B91)","v":0},{"$f":"SUMIFS(別添!W$5:W$29,別添!$B$5:$B$29,$B91)","v":0},0]
[88,null,{"$f":"IFERROR(VLOOKUP($B92,別添!$B$5:$G$29,2,FALSE),\"\")","v":0},{"$f":"IFERROR(VLOOKUP($B92,別添!$B$5:$G$29,4,FALSE),\"\")","v":0},{"$f":"IFERROR(VLOOKUP($B92,別添!$B$5:$G$29,5,FALSE),\"\")","v":0},{"$f":"IFERROR(VLOOKUP($B92,別添!$B$5:$G$29,6,FALSE),\"\")","v":""},{"$f":"IF(M92>0,実績報告書!$W$7,\"\")","v":""},{"$f":"SUMIFS(別添!I$5:I$29,別添!$B$5:$B$29,$B92)","v":0},{"$f":"IFERROR(IF(COUNTIFS(別添!$B$5:$B$29,B92,別添!$J$5:$J$29,\"有\")>0,\"有\",\"\"),\"\")","v":""},{"$f":"SUMIFS(別添!K$5:K$29,別添!$B$5:$B$29,$B92)","v":0},{"$f":"SUMIFS(別添!L$5:L$29,別添!$B$5:$B$29,$B92)","v":0},{"$f":"SUMIFS(別添!M$5:M$29,別添!$B$5:$B$29,$B92)","v":0},0,{"$f":"SUMIFS(別添!O$5:O$29,別添!$B$5:$B$29,$B92)","v":0},{"$f":"SUMIFS(別添!P$5:P$29,別添!$B$5:$B$29,$B92)","v":0},{"$f":"SUMIFS(別添!Q$5:Q$29,別添!$B$5:$B$29,$B92)","v":0},{"$f":"SUMIFS(別添!R$5:R$29,別添!$B$5:$B$29,$B92)","v":0},0,{"$f":"SUMIFS(別添!T$5:T$29,別添!$B$5:$B$29,$B92)","v":0},{"$f":"SUMIFS(別添!U$5:U$29,別添!$B$5:$B$29,$B92)","v":0},{"$f":"SUMIFS(別添!V$5:V$29,別添!$B$5:$B$29,$B92)","v":0},{"$f":"SUMIFS(別添!W$5:W$29,別添!$B$5:$B$29,$B92)","v":0},0]
[89,null,{"$f":"IFERROR(VLOOKUP($B93,別添!$B$5:$G$29,2,FALSE),\"\")","v":0},{"$f":"IFERROR(VLOOKUP($B93,別添!$B$5:$G$29,4,FALSE),\"\")","v":0},{"$f":"IFERROR(VLOOKUP($B93,別添!$B$5:$G$29,5,FALSE),\"\")","v":0},{"$f":"IFERROR(VLOOKUP($B93,別添!$B$5:$G$29,6,FALSE),\"\")","v":""},{"$f":"IF(M93>0,実績報告書!$W$7,\"\")","v":""},{"$f":"SUMIFS(別添!I$5:I$29,別添!$B$5:$B$29,$B93)","v":0},{"$f":"IFERROR(IF(COUNTIFS(別添!$B$5:$B$29,B93,別添!$J$5:$J$29,\"有\")>0,\"有\",\"\"),\"\")","v":""},{"$f":"SUMIFS(別添!K$5:K$29,別添!$B$5:$B$29,$B93)","v":0},{"$f":"SUMIFS(別添!L$5:L$29,別添!$B$5:$B$29,$B93)","v":0},{"$f":"SUMIFS(別添!M$5:M$29,別添!$B$5:$B$29,$B93)","v":0},0,{"$f":"SUMIFS(別添!O$5:O$29,別添!$B$5:$B$29,$B93)","v":0},{"$f":"SUMIFS(別添!P$5:P$29,別添!$B$5:$B$29,$B93)","v":0},{"$f":"SUMIFS(別添!Q$5:Q$29,別添!$B$5:$B$29,$B93)","v":0},{"$f":"SUMIFS(別添!R$5:R$29,別添!$B$5:$B$29,$B93)","v":0},0,{"$f":"SUMIFS(別添!T$5:T$29,別添!$B$5:$B$29,$B93)","v":0},{"$f":"SUMIFS(別添!U$5:U$29,別添!$B$5:$B$29,$B93)","v":0},{"$f":"SUMIFS(別添!V$5:V$29,別添!$B$5:$B$29,$B93)","v":0},{"$f":"SUMIFS(別添!W$5:W$29,別添!$B$5:$B$29,$B93)","v":0},0]
[90,null,{"$f":"IFERROR(VLOOKUP($B94,別添!$B$5:$G$29,2,FALSE),\"\")","v":0},{"$f":"IFERROR(VLOOKUP($B94,別添!$B$5:$G$29,4,FALSE),\"\")","v":0},{"$f":"IFERROR(VLOOKUP($B94,別添!$B$5:$G$29,5,FALSE),\"\")","v":0},{"$f":"IFERROR(VLOOKUP($B94,別添!$B$5:$G$29,6,FALSE),\"\")","v":""},{"$f":"IF(M94>0,実績報告書!$W$7,\"\")","v":""},{"$f":"SUMIFS(別添!I$5:I$29,別添!$B$5:$B$29,$B94)","v":0},{"$f":"IFERROR(IF(COUNTIFS(別添!$B$5:$B$29,B94,別添!$J$5:$J$29,\"有\")>0,\"有\",\"\"),\"\")","v":""},{"$f":"SUMIFS(別添!K$5:K$29,別添!$B$5:$B$29,$B94)","v":0},{"$f":"SUMIFS(別添!L$5:L$29,別添!$B$5:$B$29,$B94)","v":0},{"$f":"SUMIFS(別添!M$5:M$29,別添!$B$5:$B$29,$B94)","v":0},{"$f":"SUM(H94,J94,K94,L94)","v":0},{"$f":"SUMIFS(別添!O$5:O$29,別添!$B$5:$B$29,$B94)","v":0},{"$f":"SUMIFS(別添!P$5:P$29,別添!$B$5:$B$29,$B94)","v":0},{"$f":"SUMIFS(別添!Q$5:Q$29,別添!$B$5:$B$29,$B94)","v":0},{"$f":"SUMIFS(別添!R$5:R$29,別添!$B$5:$B$29,$B94)","v":0},0,{"$f":"SUMIFS(別添!T$5:T$29,別添!$B$5:$B$29,$B94)","v":0},{"$f":"SUMIFS(別添!U$5:U$29,別添!$B$5:$B$29,$B94)","v":0},{"$f":"SUMIFS(別添!V$5:V$29,別添!$B$5:$B$29,$B94)","v":0},{"$f":"SUMIFS(別添!W$5:W$29,別添!$B$5:$B$29,$B94)","v":0},0]
[91,null,{"$f":"IFERROR(VLOOKUP($B95,別添!$B$5:$G$29,2,FALSE),\"\")","v":0},{"$f":"IFERROR(VLOOKUP($B95,別添!$B$5:$G$29,4,FALSE),\"\")","v":0},{"$f":"IFERROR(VLOOKUP($B95,別添!$B$5:$G$29,5,FALSE),\"\")","v":0},{"$f":"IFERROR(VLOOKUP($B95,別添!$B$5:$G$29,6,FALSE),\"\")","v":""},{"$f":"IF(M95>0,実績報告書!$W$7,\"\")","v":""},{"$f":"SUMIFS(別添!I$5:I$29,別添!$B$5:$B$29,$B95)","v":0},{"$f":"IFERROR(IF(COUNTIFS(別添!$B$5:$B$29,B95,別添!$J$5:$J$29,\"有\")>0,\"有\",\"\"),\"\")","v":""},{"$f":"SUMIFS(別添!K$5:K$29,別添!$B$5:$B$29,$B95)","v":0},{"$f":"SUMIFS(別添!L$5:L$29,別添!$B$5:$B$29,$B95)","v":0},{"$f":"SUMIFS(別添!M$5:M$29,別添!$B$5:$B$29,$B95)","v":0},0,{"$f":"SUMIFS(別添!O$5:O$29,別添!$B$5:$B$29,$B95)","v":0},{"$f":"SUMIFS(別添!P$5:P$29,別添!$B$5:$B$29,$B95)","v":0},{"$f":"SUMIFS(別添!Q$5:Q$29,別添!$B$5:$B$29,$B95)","v":0},{"$f":"SUMIFS(別添!R$5:R$29,別添!$B$5:$B$29,$B95)","v":0},0,{"$f":"SUMIFS(別添!T$5:T$29,別添!$B$5:$B$29,$B95)","v":0},{"$f":"SUMIFS(別添!U$5:U$29,別添!$B$5:$B$29,$B95)","v":0},{"$f":"SUMIFS(別添!V$5:V$29,別添!$B$5:$B$29,$B95)","v":0},{"$f":"SUMIFS(別添!W$5:W$29,別添!$B$5:$B$29,$B95)","v":0},0]
[92,null,{"$f":"IFERROR(VLOOKUP($B96,別添!$B$5:$G$29,2,FALSE),\"\")","v":0},{"$f":"IFERROR(VLOOKUP($B96,別添!$B$5:$G$29,4,FALSE),\"\")","v":0},{"$f":"IFERROR(VLOOKUP($B96,別添!$B$5:$G$29,5,FALSE),\"\")","v":0},{"$f":"IFERROR(VLOOKUP($B96,別添!$B$5:$G$29,6,FALSE),\"\")","v":""},{"$f":"IF(M96>0,実績報告書!$W$7,\"\")","v":""},{"$f":"SUMIFS(別添!I$5:I$29,別添!$B$5:$B$29,$B96)","v":0},{"$f":"IFERROR(IF(COUNTIFS(別添!$B$5:$B$29,B96,別添!$J$5:$J$29,\"有\")>0,\"有\",\"\"),\"\")","v":""},{"$f":"SUMIFS(別添!K$5:K$29,別添!$B$5:$B$29,$B96)","v":0},{"$f":"SUMIFS(別添!L$5:L$29,別添!$B$5:$B$29,$B96)","v":0},{"$f":"SUMIFS(別添!M$5:M$29,別添!$B$5:$B$29,$B96)","v":0},0,{"$f":"SUMIFS(別添!O$5:O$29,別添!$B$5:$B$29,$B96)","v":0},{"$f":"SUMIFS(別添!P$5:P$29,別添!$B$5:$B$29,$B96)","v":0},{"$f":"SUMIFS(別添!Q$5:Q$29,別添!$B$5:$B$29,$B96)","v":0},{"$f":"SUMIFS(別添!R$5:R$29,別添!$B$5:$B$29,$B96)","v":0},0,{"$f":"SUMIFS(別添!T$5:T$29,別添!$B$5:$B$29,$B96)","v":0},{"$f":"SUMIFS(別添!U$5:U$29,別添!$B$5:$B$29,$B96)","v":0},{"$f":"SUMIFS(別添!V$5:V$29,別添!$B$5:$B$29,$B96)","v":0},{"$f":"SUMIFS(別添!W$5:W$29,別添!$B$5:$B$29,$B96)","v":0},0]
[93,null,{"$f":"IFERROR(VLOOKUP($B97,別添!$B$5:$G$29,2,FALSE),\"\")","v":0},{"$f":"IFERROR(VLOOKUP($B97,別添!$B$5:$G$29,4,FALSE),\"\")","v":0},{"$f":"IFERROR(VLOOKUP($B97,別添!$B$5:$G$29,5,FALSE),\"\")","v":0},{"$f":"IFERROR(VLOOKUP($B97,別添!$B$5:$G$29,6,FALSE),\"\")","v":""},{"$f":"IF(M97>0,実績報告書!$W$7,\"\")","v":""},{"$f":"SUMIFS(別添!I$5:I$29,別添!$B$5:$B$29,$B97)","v":0},{"$f":"IFERROR(IF(COUNTIFS(別添!$B$5:$B$29,B97,別添!$J$5:$J$29,\"有\")>0,\"有\",\"\"),\"\")","v":""},{"$f":"SUMIFS(別添!K$5:K$29,別添!$B$5:$B$29,$B97)","v":0},{"$f":"SUMIFS(別添!L$5:L$29,別添!$B$5:$B$29,$B97)","v":0},{"$f":"SUMIFS(別添!M$5:M$29,別添!$B$5:$B$29,$B97)","v":0},0,{"$f":"SUMIFS(別添!O$5:O$29,別添!$B$5:$B$29,$B97)","v":0},{"$f":"SUMIFS(別添!P$5:P$29,別添!$B$5:$B$29,$B97)","v":0},{"$f":"SUMIFS(別添!Q$5:Q$29,別添!$B$5:$B$29,$B97)","v":0},{"$f":"SUMIFS(別添!R$5:R$29,別添!$B$5:$B$29,$B97)","v":0},0,{"$f":"SUMIFS(別添!T$5:T$29,別添!$B$5:$B$29,$B97)","v":0},{"$f":"SUMIFS(別添!U$5:U$29,別添!$B$5:$B$29,$B97)","v":0},{"$f":"SUMIFS(別添!V$5:V$29,別添!$B$5:$B$29,$B97)","v":0},{"$f":"SUMIFS(別添!W$5:W$29,別添!$B$5:$B$29,$B97)","v":0},0]
[94,null,{"$f":"IFERROR(VLOOKUP($B98,別添!$B$5:$G$29,2,FALSE),\"\")","v":0},{"$f":"IFERROR(VLOOKUP($B98,別添!$B$5:$G$29,4,FALSE),\"\")","v":0},{"$f":"IFERROR(VLOOKUP($B98,別添!$B$5:$G$29,5,FALSE),\"\")","v":0},{"$f":"IFERROR(VLOOKUP($B98,別添!$B$5:$G$29,6,FALSE),\"\")","v":""},{"$f":"IF(M98>0,実績報告書!$W$7,\"\")","v":""},{"$f":"SUMIFS(別添!I$5:I$29,別添!$B$5:$B$29,$B98)","v":0},{"$f":"IFERROR(IF(COUNTIFS(別添!$B$5:$B$29,B98,別添!$J$5:$J$29,\"有\")>0,\"有\",\"\"),\"\")","v":""},{"$f":"SUMIFS(別添!K$5:K$29,別添!$B$5:$B$29,$B98)","v":0},{"$f":"SUMIFS(別添!L$5:L$29,別添!$B$5:$B$29,$B98)","v":0},{"$f":"SUMIFS(別添!M$5:M$29,別添!$B$5:$B$29,$B98)","v":0},0,{"$f":"SUMIFS(別添!O$5:O$29,別添!$B$5:$B$29,$B98)","v":0},{"$f":"SUMIFS(別添!P$5:P$29,別添!$B$5:$B$29,$B98)","v":0},{"$f":"SUMIFS(別添!Q$5:Q$29,別添!$B$5:$B$29,$B98)","v":0},{"$f":"SUMIFS(別添!R$5:R$29,別添!$B$5:$B$29,$B98)","v":0},0,{"$f":"SUMIFS(別添!T$5:T$29,別添!$B$5:$B$29,$B98)","v":0},{"$f":"SUMIFS(別添!U$5:U$29,別添!$B$5:$B$29,$B98)","v":0},{"$f":"SUMIFS(別添!V$5:V$29,別添!$B$5:$B$29,$B98)","v":0},{"$f":"SUMIFS(別添!W$5:W$29,別添!$B$5:$B$29,$B98)","v":0},0]
[95,null,{"$f":"IFERROR(VLOOKUP($B99,別添!$B$5:$G$29,2,FALSE),\"\")","v":0},{"$f":"IFERROR(VLOOKUP($B99,別添!$B$5:$G$29,4,FALSE),\"\")","v":0},{"$f":"IFERROR(VLOOKUP($B99,別添!$B$5:$G$29,5,FALSE),\"\")","v":0},{"$f":"IFERROR(VLOOKUP($B99,別添!$B$5:$G$29,6,FALSE),\"\")","v":""},{"$f":"IF(M99>0,実績報告書!$W$7,\"\")","v":""},{"$f":"SUMIFS(別添!I$5:I$29,別添!$B$5:$B$29,$B99)","v":0},{"$f":"IFERROR(IF(COUNTIFS(別添!$B$5:$B$29,B99,別添!$J$5:$J$29,\"有\")>0,\"有\",\"\"),\"\")","v":""},{"$f":"SUMIFS(別添!K$5:K$29,別添!$B$5:$B$29,$B99)","v":0},{"$f":"SUMIFS(別添!L$5:L$29,別添!$B$5:$B$29,$B99)","v":0},{"$f":"SUMIFS(別添!M$5:M$29,別添!$B$5:$B$29,$B99)","v":0},0,{"$f":"SUMIFS(別添!O$5:O$29,別添!$B$5:$B$29,$B99)","v":0},{"$f":"SUMIFS(別添!P$5:P$29,別添!$B$5:$B$29,$B99)","v":0},{"$f":"SUMIFS(別添!Q$5:Q$29,別添!$B$5:$B$29,$B99)","v":0},{"$f":"SUMIFS(別添!R$5:R$29,別添!$B$5:$B$29,$B99)","v":0},0,{"$f":"SUMIFS(別添!T$5:T$29,別添!$B$5:$B$29,$B99)","v":0},{"$f":"SUMIFS(別添!U$5:U$29,別添!$B$5:$B$29,$B99)","v":0},{"$f":"SUMIFS(別添!V$5:V$29,別添!$B$5:$B$29,$B99)","v":0},{"$f":"SUMIFS(別添!W$5:W$29,別添!$B$5:$B$29,$B99)","v":0},0]
[96,null,{"$f":"IFERROR(VLOOKUP($B100,別添!$B$5:$G$29,2,FALSE),\"\")","v":0},{"$f":"IFERROR(VLOOKUP($B100,別添!$B$5:$G$29,4,FALSE),\"\")","v":0},{"$f":"IFERROR(VLOOKUP($B100,別添!$B$5:$G$29,5,FALSE),\"\")","v":0},{"$f":"IFERROR(VLOOKUP($B100,別添!$B$5:$G$29,6,FALSE),\"\")","v":""},{"$f":"IF(M100>0,実績報告書!$W$7,\"\")","v":""},{"$f":"SUMIFS(別添!I$5:I$29,別添!$B$5:$B$29,$B100)","v":0},{"$f":"IFERROR(IF(COUNTIFS(別添!$B$5:$B$29,B100,別添!$J$5:$J$29,\"有\")>0,\"有\",\"\"),\"\")","v":""},{"$f":"SUMIFS(別添!K$5:K$29,別添!$B$5:$B$29,$B100)","v":0},{"$f":"SUMIFS(別添!L$5:L$29,別添!$B$5:$B$29,$B100)","v":0},{"$f":"SUMIFS(別添!M$5:M$29,別添!$B$5:$B$29,$B100)","v":0},0,{"$f":"SUMIFS(別添!O$5:O$29,別添!$B$5:$B$29,$B100)","v":0},{"$f":"SUMIFS(別添!P$5:P$29,別添!$B$5:$B$29,$B100)","v":0},{"$f":"SUMIFS(別添!Q$5:Q$29,別添!$B$5:$B$29,$B100)","v":0},{"$f":"SUMIFS(別添!R$5:R$29,別添!$B$5:$B$29,$B100)","v":0},0,{"$f":"SUMIFS(別添!T$5:T$29,別添!$B$5:$B$29,$B100)","v":0},{"$f":"SUMIFS(別添!U$5:U$29,別添!$B$5:$B$29,$B100)","v":0},{"$f":"SUMIFS(別添!V$5:V$29,別添!$B$5:$B$29,$B100)","v":0},{"$f":"SUMIFS(別添!W$5:W$29,別添!$B$5:$B$29,$B100)","v":0},0]
[97,null,{"$f":"IFERROR(VLOOKUP($B101,別添!$B$5:$G$29,2,FALSE),\"\")","v":0},{"$f":"IFERROR(VLOOKUP($B101,別添!$B$5:$G$29,4,FALSE),\"\")","v":0},{"$f":"IFERROR(VLOOKUP($B101,別添!$B$5:$G$29,5,FALSE),\"\")","v":0},{"$f":"IFERROR(VLOOKUP($B101,別添!$B$5:$G$29,6,FALSE),\"\")","v":""},{"$f":"IF(M101>0,実績報告書!$W$7,\"\")","v":""},{"$f":"SUMIFS(別添!I$5:I$29,別添!$B$5:$B$29,$B101)","v":0},{"$f":"IFERROR(IF(COUNTIFS(別添!$B$5:$B$29,B101,別添!$J$5:$J$29,\"有\")>0,\"有\",\"\"),\"\")","v":""},{"$f":"SUMIFS(別添!K$5:K$29,別添!$B$5:$B$29,$B101)","v":0},{"$f":"SUMIFS(別添!L$5:L$29,別添!$B$5:$B$29,$B101)","v":0},{"$f":"SUMIFS(別添!M$5:M$29,別添!$B$5:$B$29,$B101)","v":0},0,{"$f":"SUMIFS(別添!O$5:O$29,別添!$B$5:$B$29,$B101)","v":0},{"$f":"SUMIFS(別添!P$5:P$29,別添!$B$5:$B$29,$B101)","v":0},{"$f":"SUMIFS(別添!Q$5:Q$29,別添!$B$5:$B$29,$B101)","v":0},{"$f":"SUMIFS(別添!R$5:R$29,別添!$B$5:$B$29,$B101)","v":0},0,{"$f":"SUMIFS(別添!T$5:T$29,別添!$B$5:$B$29,$B101)","v":0},{"$f":"SUMIFS(別添!U$5:U$29,別添!$B$5:$B$29,$B101)","v":0},{"$f":"SUMIFS(別添!V$5:V$29,別添!$B$5:$B$29,$B101)","v":0},{"$f":"SUMIFS(別添!W$5:W$29,別添!$B$5:$B$29,$B101)","v":0},0]
[98,null,{"$f":"IFERROR(VLOOKUP($B102,別添!$B$5:$G$29,2,FALSE),\"\")","v":0},{"$f":"IFERROR(VLOOKUP($B102,別添!$B$5:$G$29,4,FALSE),\"\")","v":0},{"$f":"IFERROR(VLOOKUP($B102,別添!$B$5:$G$29,5,FALSE),\"\")","v":0},{"$f":"IFERROR(VLOOKUP($B102,別添!$B$5:$G$29,6,FALSE),\"\")","v":""},{"$f":"IF(M102>0,実績報告書!$W$7,\"\")","v":""},{"$f":"SUMIFS(別添!I$5:I$29,別添!$B$5:$B$29,$B102)","v":0},{"$f":"IFERROR(IF(COUNTIFS(別添!$B$5:$B$29,B102,別添!$J$5:$J$29,\"有\")>0,\"有\",\"\"),\"\")","v":""},{"$f":"SUMIFS(別添!K$5:K$29,別添!$B$5:$B$29,$B102)","v":0},{"$f":"SUMIFS(別添!L$5:L$29,別添!$B$5:$B$29,$B102)","v":0},{"$f":"SUMIFS(別添!M$5:M$29,別添!$B$5:$B$29,$B102)","v":0},0,{"$f":"SUMIFS(別添!O$5:O$29,別添!$B$5:$B$29,$B102)","v":0},{"$f":"SUMIFS(別添!P$5:P$29,別添!$B$5:$B$29,$B102)","v":0},{"$f":"SUMIFS(別添!Q$5:Q$29,別添!$B$5:$B$29,$B102)","v":0},{"$f":"SUMIFS(別添!R$5:R$29,別添!$B$5:$B$29,$B102)","v":0},0,{"$f":"SUMIFS(別添!T$5:T$29,別添!$B$5:$B$29,$B102)","v":0},{"$f":"SUMIFS(別添!U$5:U$29,別添!$B$5:$B$29,$B102)","v":0},{"$f":"SUMIFS(別添!V$5:V$29,別添!$B$5:$B$29,$B102)","v":0},{"$f":"SUMIFS(別添!W$5:W$29,別添!$B$5:$B$29,$B102)","v":0},0]
[99,null,{"$f":"IFERROR(VLOOKUP($B103,別添!$B$5:$G$29,2,FALSE),\"\")","v":0},{"$f":"IFERROR(VLOOKUP($B103,別添!$B$5:$G$29,4,FALSE),\"\")","v":0},{"$f":"IFERROR(VLOOKUP($B103,別添!$B$5:$G$29,5,FALSE),\"\")","v":0},{"$f":"IFERROR(VLOOKUP($B103,別添!$B$5:$G$29,6,FALSE),\"\")","v":""},{"$f":"IF(M103>0,実績報告書!$W$7,\"\")","v":""},{"$f":"SUMIFS(別添!I$5:I$29,別添!$B$5:$B$29,$B103)","v":0},{"$f":"IFERROR(IF(COUNTIFS(別添!$B$5:$B$29,B103,別添!$J$5:$J$29,\"有\")>0,\"有\",\"\"),\"\")","v":""},{"$f":"SUMIFS(別添!K$5:K$29,別添!$B$5:$B$29,$B103)","v":0},{"$f":"SUMIFS(別添!L$5:L$29,別添!$B$5:$B$29,$B103)","v":0},{"$f":"SUMIFS(別添!M$5:M$29,別添!$B$5:$B$29,$B103)","v":0},0,{"$f":"SUMIFS(別添!O$5:O$29,別添!$B$5:$B$29,$B103)","v":0},{"$f":"SUMIFS(別添!P$5:P$29,別添!$B$5:$B$29,$B103)","v":0},{"$f":"SUMIFS(別添!Q$5:Q$29,別添!$B$5:$B$29,$B103)","v":0},{"$f":"SUMIFS(別添!R$5:R$29,別添!$B$5:$B$29,$B103)","v":0},0,{"$f":"SUMIFS(別添!T$5:T$29,別添!$B$5:$B$29,$B103)","v":0},{"$f":"SUMIFS(別添!U$5:U$29,別添!$B$5:$B$29,$B103)","v":0},{"$f":"SUMIFS(別添!V$5:V$29,別添!$B$5:$B$29,$B103)","v":0},{"$f":"SUMIFS(別添!W$5:W$29,別添!$B$5:$B$29,$B103)","v":0},0]
[100,null,{"$f":"IFERROR(VLOOKUP($B104,別添!$B$5:$G$29,2,FALSE),\"\")","v":0},{"$f":"IFERROR(VLOOKUP($B104,別添!$B$5:$G$29,4,FALSE),\"\")","v":0},{"$f":"IFERROR(VLOOKUP($B104,別添!$B$5:$G$29,5,FALSE),\"\")","v":0},{"$f":"IFERROR(VLOOKUP($B104,別添!$B$5:$G$29,6,FALSE),\"\")","v":""},{"$f":"IF(M104>0,実績報告書!$W$7,\"\")","v":""},{"$f":"SUMIFS(別添!I$5:I$29,別添!$B$5:$B$29,$B104)","v":0},{"$f":"IFERROR(IF(COUNTIFS(別添!$B$5:$B$29,B104,別添!$J$5:$J$29,\"有\")>0,\"有\",\"\"),\"\")","v":""},{"$f":"SUMIFS(別添!K$5:K$29,別添!$B$5:$B$29,$B104)","v":0},{"$f":"SUMIFS(別添!L$5:L$29,別添!$B$5:$B$29,$B104)","v":0},{"$f":"SUMIFS(別添!M$5:M$29,別添!$B$5:$B$29,$B104)","v":0},0,{"$f":"SUMIFS(別添!O$5:O$29,別添!$B$5:$B$29,$B104)","v":0},{"$f":"SUMIFS(別添!P$5:P$29,別添!$B$5:$B$29,$B104)","v":0},{"$f":"SUMIFS(別添!Q$5:Q$29,別添!$B$5:$B$29,$B104)","v":0},{"$f":"SUMIFS(別添!R$5:R$29,別添!$B$5:$B$29,$B104)","v":0},0,{"$f":"SUMIFS(別添!T$5:T$29,別添!$B$5:$B$29,$B104)","v":0},{"$f":"SUMIFS(別添!U$5:U$29,別添!$B$5:$B$29,$B104)","v":0},{"$f":"SUMIFS(別添!V$5:V$29,別添!$B$5:$B$29,$B104)","v":0},{"$f":"SUMIFS(別添!W$5:W$29,別添!$B$5:$B$29,$B104)","v":0},0]

{"sheet":"別添","index":3,"n_rows":32,"n_cols":50,"rows_kept":32,"cut":false,"hidden":false,"merged":[[2,19,2,23],[2,14,2,18],[2,4,3,4],[2,8,2,13],[2,0,3,0],[2,1,3,1],[2,2,3,2],[2,3,3,3],[2,7,3,7],[2,6,3,6],[2,5,3,5]]}
["（別添）事業所・施設別実績額一覧（サービス別一覧）"]
[]
["No.","介護保険\n事業所番号","事業所・施設名","サービス種別","電話番号","郵便番号","住所","代表となる\n事業所・施設名","実績報告額（千円）",null,null,null,null,null,"交付済額（千円）",null,null,null,null,"返還額（千円）"]
[null,null,null,null,null,null,null,null,"介護\n慰労金","20万円\n対象者\nの有無","感染対策\n費用助成\n事業","個別再開\n支援助成\n事業","再開環境\n整備助成\n事業","合計","介護\n慰労金","感染対策\n費用助成\n事業","個別再開\n支援助成\n事業","再開環境\n整備助成\n事業","合計","介護\n慰労金","感染対策\n費用助成\n事業","個別再開\n支援助成\n事業","再開環境\n整備助成\n事業","合計"]
[{"$f":"ROW()-4","v":1},{"$f":"IFERROR(INDIRECT(\"個票\"&$A5&\"！$h$7\"),\"\")","v":0},{"$f":"IFERROR(INDIRECT(\"個票\"&$A5&\"！$t$7\"),\"\")","v":0},{"$f":"IFERROR(INDIRECT(\"個票\"&$A5&\"！$h$10\"),\"\")","v":0},{"$f":"IFERROR(INDIRECT(\"個票\"&$A5&\"！$AC$9\"),\"\")","v":0},{"$f":"IFERROR(INDIRECT(\"個票\"&$A5&\"！$d$9\"),\"\")","v":0},{"$f":"IFERROR(INDIRECT(\"個票\"&$A5&\"！$H$9\")&INDIRECT(\"個票\"&$A5&\"！$L$9\"),\"\")","v":""},{"$f":"IF(N5>0,実績報告書!$W$7,\"\")","v":""},{"$f":"IFERROR(INDIRECT(\"個票\"&$A5&\"！$ai$16\"),\"\")","v":0},{"$f":"IFERROR(INDIRECT(\"個票\"&$A5&\"！$ao$19\"),\"\")","v":0},{"$f":"IFERROR(INDIRECT(\"個票\"&$A5&\"！$ai$24\"),\"\")","v":0},{"$f":"IFERROR(INDIRECT(\"個票\"&$A5&\"！$ai$65\"),\"\")","v":0},{"$f":"IFERROR(INDIRECT(\"個票\"&$A5&\"！$ai$76\"),\"\")","v":0},{"$f":"SUM(I5,K5,L5,M5)","v":0},{"$f":"IFERROR(INDIRECT(\"個票\"&$A5&\"！$ai$17\"),\"\")","v":0},{"$f":"IFERROR(INDIRECT(\"個票\"&$A5&\"！$ai$25\"),\"\")","v":0},{"$f":"IFERROR(INDIRECT(\"個票\"&$A5&\"！$ai$66\"),\"\")","v":0},{"$f":"IFERROR(INDIRECT(\"個票\"&$A5&\"！$ai$77\"),\"\")","v":0},{"$f":"SUM(O5,P5,Q5,R5)","v":0},{"$f":"IFERROR(INDIRECT(\"個票\"&$A5&\"！$ai$18\"),\"\")","v":0},{"$f":"IFERROR(INDIRECT(\"個票\"&$A5&\"！$ai$26\"),\"\")","v":0},{"$f":"IFERROR(INDIRECT(\"個票\"&$A5&\"！$ai$67\"),\"\")","v":0},{"$f":"IFERROR(INDIRECT(\"個票\"&$A5&\"！$ai$78\"),\"\")","v":0},{"$f":"SUM(T5,U5,V5,W5)","v":0},null,null,{"$f":"IF(_xlfn.SHEETS()-6=COUNTIF(N5:N32,\">0\"),\"○\",\"！（本表の事業所数と個票の枚数が一致しません）\")","v":"！（本表の事業所数と個票の枚数が一致しません）"},null,null,null,null,null,null,null,null,null,null,null,null,null,null,null,null,null,null,null,null,null,{"$f":"IFERROR(INDIRECT(\"個票\"&$A5&\"！$m$19\"),\"\")","v":0},{"$f":"IFERROR(INDIRECT(\"個票\"&$A5&\"！$v$19\"),\"\")","v":0}]
[{"$f":"ROW()-4","v":2},{"$f":"IFERROR(INDIRECT(\"個票\"&$A6&\"！$h$7\"),\"\")","v":""},"","","","","",{"$f":"IF(N6>0,実績報告書!$W$7,\"\")","v":""},{"$f":"IFERROR(INDIRECT(\"個票\"&$A6&\"！$ai$16\"),\"\")","v":""},{"$f":"IFERROR(INDIRECT(\"個票\"&$A6&\"！$ao$19\"),\"\")","v":""},{"$f":"IFERROR(INDIRECT(\"個票\"&$A6&\"！$ai$24\"),\"\")","v":""},{"$f":"IFERROR(INDIRECT(\"個票\"&$A6&\"！$ai$65\"),\"\")","v":""},{"$f":"IFERROR(INDIRECT(\"個票\"&$A6&\"！$ai$76\"),\"\")","v":""},{"$f":"SUM(I6,K6,L6,M6)","v":0},{"$f":"IFERROR(INDIRECT(\"個票\"&$A6&\"！$ai$17\"),\"\")","v":""},{"$f":"IFERROR(INDIRECT(\"個票\"&$A6&\"！$ai$25\"),\"\")","v":""},{"$f":"IFERROR(INDIRECT(\"個票\"&$A6&\"！$ai$66\"),\"\")","v":""},{"$f":"IFERROR(INDIRECT(\"個票\"&$A6&\"！$ai$77\"),\"\")","v":""},{"$f":"SUM(O6,P6,Q6,R6)","v":0},{"$f":"IFERROR(INDIRECT(\"個票\"&$A6&\"！$ai$18\"),\"\")","v":""},{"$f":"IFERROR(INDIRECT(\"個票\"&$A6&\"！$ai$26\"),\"\")","v":""},{"$f":"IFERROR(INDIRECT(\"個票\"&$A6&\"！$ai$67\"),\"\")","v":""},{"$f":"IFERROR(INDIRECT(\"個票\"&$A6&\"！$ai$78\"),\"\")","v":""},{"$f":"SUM(T6,U6,V6,W6)","v":0},null,null,null,null,null,null,null,null,null,null,null,null,null,null,null,null,null,null,null,null,null,null,null,null,"",""]
[3,{"$f":"IFERROR(INDIRECT(\"個票\"&$A7&\"！$h$7\"),\"\")","v":""},"","","","","",{"$f":"IF(N7>0,実績報告書!$W$7,\"\")","v":""},"","","","","",0,"","","","",0,"","","","",0,null,null,null,null,null,null,null,null,null,null,null,null,null,null,null,null,null,null,null,null,null,null,null,null,"",""]
[4,"","","","","","",{"$f":"IF(N8>0,実績報告書!$W$7,\"\")","v":""},"","","","","",0,"","","","",0,"","","","",0,null,null,null,null,null,null,null,null,null,null,null,null,null,null,null,null,null,null,null,null,null,null,null,null,"",""]
[5,"","","","","","",{"$f":"IF(N9>0,実績報告書!$W$7,\"\")","v":""},"","","","","",0,"","","","",0,"","","","",0,null,null,null,null,null,null,null,null,null,null,null,null,null,null,null,null,null,null,null,null,null,null,null,null,"",""]
[6,"","","","","","",{"$f":"IF(N10>0,実績報告書!$W$7,\"\")","v":""},"","","","","",0,"","","","",0,"","","","",0,null,null,null,null,null,null,null,null,null,null,null,null,null,null,null,null,null,null,null,null,null,null,null,null,"",""]
[7,"","","","","","",{"$f":"IF(N11>0,実績報告書!$W$7,\"\")","v":""},"","","","","",0,"","","","",0,"","","","",0,null,null,null,null,null,null,null,null,null,null,null,null,null,null,null,null,null,null,null,null,null,null,null,null,"",""]
[8,"","","","","","",{"$f":"IF(N12>0,実績報告書!$W$7,\"\")","v":""},"","","","","",0,"","","","",0,"","","","",0,null,null,null,null,null,null,null,null,null,null,null,null,null,null,null,null,null,null,null,null,null,null,null,null,"",""]
[9,"","","","","","",{"$f":"IF(N13>0,実績報告書!$W$7,\"\")","v":""},"","","","","",0,"","","","",0,"","","","",0,null,null,null,null,null,null,null,null,null,null,null,null,null,null,null,null,null,null,null,null,null,null,null,null,"",""]
[10,"","","","","","",{"$f":"IF(N14>0,実績報告書!$W$7,\"\")","v":""},"","","","","",0,"","","","",0,"","","","",0,null,null,null,null,null,null,null,null,null,null,null,null,null,null,null,null,null,null,null,null,null,null,null,null,"",""]
[11,"","","","","","",{"$f":"IF(N15>0,実績報告書!$W$7,\"\")","v":""},"","","","","",0,"","","","",0,"","","","",0,null,null,null,null,null,null,null,null,null,null,null,null,null,null,null,null,null,null,null,null,null,null,null,null,"",""]
[12,"","","","","","",{"$f":"IF(N16>0,実績報告書!$W$7,\"\")","v":""},"","","","","",0,"","","","",0,"","","","",0,null,null,null,null,null,null,null,null,null,null,null,null,null,null,null,null,null,null,null,null,null,null,null,null,"",""]
[13,"","","","","","",{"$f":"IF(N17>0,実績報告書!$W$7,\"\")","v":""},"","","","","",0,"","","","",0,"","","","",0,null,null,null,null,null,null,null,null,null,null,null,null,null,null,null,null,null,null,null,null,null,null,null,null,"",""]
[14,"","","","","","",{"$f":"IF(N18>0,実績報告書!$W$7,\"\")","v":""},"","","","","",0,"","","","",0,"","","","",0,null,null,null,null,null,null,null,null,null,null,null,null,null,null,null,null,null,null,null,null,null,null,null,null,"",""]
[15,"","","","","","",{"$f":"IF(N19>0,実績報告書!$W$7,\"\")","v":""},"","","","","",0,"","","","",0,"","","","",0,null,null,null,null,null,null,null,null,null,null,null,null,null,null,null,null,null,null,null,null,null,null,null,null,"",""]
[16,"","","","","","",{"$f":"IF(N20>0,実績報告書!$W$7,\"\")","v":""},"","","","","",0,"","","","",0,"","","","",0,null,null,null,null,null,null,null,null,null,null,null,null,null,null,null,null,null,null,null,null,null,null,null,null,"",""]
[17,"","","","","","",{"$f":"IF(N21>0,実績報告書!$W$7,\"\")","v":""},"","","","","",0,"","","","",0,"","","","",0,null,null,null,null,null,null,null,null,null,null,null,null,null,null,null,null,null,null,null,null,null,null,null,null,"",""]
[18,"","","","","","",{"$f":"IF(N22>0,実績報告書!$W$7,\"\")","v":""},"","","","","",0,"","","","",0,"","","","",0,null,null,null,null,null,null,null,null,null,null,null,null,null,null,null,null,null,null,null,null,null,null,null,null,"",""]
[19,"","","","","","",{"$f":"IF(N23>0,実績報告書!$W$7,\"\")","v":""},"","","","","",0,"","","","",0,"","","","",0,null,null,null,null,null,null,null,null,null,null,null,null,null,null,null,null,null,null,null,null,null,null,null,null,"",""]
[20,"","","","","","",{"$f":"IF(N24>0,実績報告書!$W$7,\"\")","v":""},"","","","","",0,"","","","",0,"","","","",0,null,null,null,null,null,null,null,null,null,null,null,null,null,null,null,null,null,null,null,null,null,null,null,null,"",""]
[21,"","","","","","",{"$f":"IF(N25>0,実績報告書!$W$7,\"\")","v":""},"","","","","",0,"","","","",0,"","","","",0,null,null,null,null,null,null,null,null,null,null,null,null,null,null,null,null,null,null,null,null,null,null,null,null,"",""]
[22,"","","","","","",{"$f":"IF(N26>0,実績報告書!$W$7,\"\")","v":""},"","","","","",0,"","","","",0,"","","","",0,null,null,null,null,null,null,null,null,null,null,null,null,null,null,null,null,null,null,null,null,null,null,null,null,"",""]
[23,"","","","","","",{"$f":"IF(N27>0,実績報告書!$W$7,\"\")","v":""},"","","","","",0,"","","","",0,"","","","",0,null,null,null,null,null,null,null,null,null,null,null,null,null,null,null,null,null,null,null,null,null,null,null,null,"",""]
[24,"","","","","","",{"$f":"IF(N28>0,実績報告書!$W$7,\"\")","v":""},"","","","","",0,"","","","",0,"","","","",0,null,null,null,null,null,null,null,null,null,null,null,null,null,null,null,null,null,null,null,null,null,null,null,null,"",""]
[25,"","","","","","",{"$f":"IF(N29>0,実績報告書!$W$7,\"\")","v":""},"","","","","",0,"","","","",0,"","","","",0,null,null,null,null,null,null,null,null,null,null,null,null,null,null,null,null,null,null,null,null,null,null,null,null,"",""]
[null,null,null,null,null,null,null,null,null,null,null,null,null,null,null,null,null,null,null,null,null,null,null,null,null,null,null,null,null,null,null,null,null,null,null,null,null,null,null,null,null,null,null,null,null,null,null,null,"",""]
["（注）行が不足する場合には、「本申請書の使い方」に従って、行を追加すること。列の挿入は絶対に行わないこと。"]
[null,null,"　"]

{"sheet":"個票1","index":4,"n_rows":102,"n_cols":84,"rows_kept":102,"cut":false,"hidden":false,"merged":[[101,0,101,38],[9,7,9,16],[72,34,72,36],[72,37,72,38],[67,37,67,38],[19,0,19,29],[19,30,19,32],[19,33,19,34],[18,0,18,6],[18,25,18,29],[19,35,19,38],[18,33,18,34],[18,35,18,38],[15,29,15,33],[15,28,17,28],[16,29,16,33],[16,34,16,36],[16,37,16,38],[17,29,17,33],[17,34,17,36],[17,37,17,38],[9,17,9,22],[24,23,25,25],[24,26,25,27],[2,0,2,38],[4,0,4,38],[6,14,6,18],[7,0,8,2],[7,7,7,10],[8,7,8,10],[7,25,8,27],[6,7,6,13],[6,19,6,38],[6,0,6,6],[8,28,8,32],[7,28,7,32],[8,3,8,6],[7,3,7,6],[7,33,7,38],[8,33,8,38],[7,11,7,24],[8,11,8,24],[25,37,25,38],[18,30,18,32],[24,34,24,36],[67,23,67,25],[68,37,68,38],[9,0,9,6],[9,23,9,24],[67,0,68,9],[68,23,68,25],[68,26,68,27],[68,28,68,33],[68,34,68,36],[67,26,67,27],[35,5,35,14],[36,5,36,14],[37,5,37,14],[27,1,29,4],[27,5,27,14],[28,5,28,14],[29,5,29,14],[30,5,30,14],[21,1,21,20],[21,21,21,23],[21,24,21,38],[9,41,9,46],[23,37,23,38],[18,7,18,11],[18,12,18,14],[18,16,18,20],[18,21,18,23],[9,35,9,36],[9,32,9,34],[9,25,9,27],[9,28,9,29],[9,30,9,31],[10,0,11,7],[23,34,23,36],[23,23,23,27],[23,28,25,28],[9,37,9,38],[15,34,15,36],[15,37,15,38],[23,29,23,33],[24,29,24,33],[25,29,25,33],[13,0,13,38],[24,37,24,38],[25,34,25,36],[77,37,77,38],[76,23,77,25],[76,26,77,27],[75,23,75,27],[75,28,77,28],[76,34,76,36],[76,37,76,38],[75,37,75,38],[75,34,75,36],[55,5,55,14],[38,5,38,14],[39,5,39,14],[40,5,40,14],[85,5,85,14],[86,5,86,14],[84,5,84,14],[78,19,78,38],[78,15,78,18],[79,19,79,38],[67,28,67,33],[67,34,67,36],[69,34,69,36],[72,26,72,27],[69,26,69,27],[69,28,69,33],[71,26,71,27],[71,28,71,33],[71,34,71,36],[77,34,77,36],[69,23,69,25],[72,28,72,33],[77,29,77,33],[69,1,72,9],[56,5,56,14],[57,5,57,14],[26,0,26,14],[27,0,57,0],[31,5,31,14],[32,5,32,14],[33,5,33,14],[34,5,34,14],[55,1,57,4],[49,1,54,4],[46,1,48,4],[43,1,45,4],[38,1,42,4],[37,1,37,4],[36,1,36,4],[33,1,35,4],[30,1,32,4],[48,5,48,14],[49,5,49,14],[50,5,50,14],[51,5,51,14],[52,5,52,14],[53,5,53,14],[54,5,54,14],[28,15,28,18],[29,15,29,18],[30,15,30,18],[31,15,31,18],[32,15,32,18],[33,15,33,18],[34,15,34,18],[41,5,41,14],[42,5,42,14],[47,5,47,14],[46,15,46,18],[47,15,47,18],[48,15,48,18],[49,15,49,18],[50,15,50,18],[51,15,51,18],[35,15,35,18],[36,15,36,18],[37,15,37,18],[38,15,38,18],[39,15,39,18],[40,15,40,18],[41,15,41,18],[42,15,42,18],[43,15,43,18],[43,5,43,14],[44,5,44,14],[45,5,45,14],[46,5,46,14],[52,15,52,18],[53,15,53,18],[54,15,54,18],[55,15,55,18],[56,15,56,18],[57,15,57,18],[58,15,58,18],[60,15,60,18],[26,19,26,38],[47,19,47,38],[48,19,48,38],[49,19,49,38],[50,19,50,38],[51,19,51,38],[52,19,52,38],[53,19,53,38],[54,19,54,38],[55,19,55,38],[56,19,56,38],[57,19,57,38],[44,15,44,18],[45,15,45,18],[27,15,27,18],[26,15,26,18],[58,0,58,14],[60,0,60,14],[60,19,60,38],[58,19,58,38],[27,19,27,38],[28,19,28,38],[29,19,29,38],[30,19,30,38],[31,19,31,38],[32,19,32,38],[33,19,33,38],[34,19,34,38],[35,19,35,38],[36,19,36,38],[37,19,37,38],[38,19,38,38],[39,19,39,38],[40,19,40,38],[41,19,41,38],[42,19,42,38],[43,19,43,38],[44,19,44,38],[45,19,45,38],[46,19,46,38],[65,29,65,33],[65,34,65,36],[65,37,65,38],[66,29,66,33],[66,34,66,36],[66,37,66,38],[64,28,66,28],[64,29,64,33],[76,29,76,33],[70,34,70,36],[64,34,64,36],[64,37,64,38],[73,0,73,33],[73,34,73,36],[73,37,73,38],[75,29,75,33],[69,37,69,38],[70,37,70,38],[71,37,71,38],[70,23,70,25],[71,23,71,25],[72,23,72,25],[70,26,70,27],[70,28,70,33],[96,0,96,14],[95,15,95,18],[95,19,95,38],[96,15,96,18],[96,19,96,38],[79,5,79,14],[90,5,90,14],[94,5,94,14],[82,5,82,14],[91,5,91,14],[92,5,92,14],[87,5,87,14],[93,5,93,14],[88,5,88,14],[83,5,83,14],[80,5,80,14],[81,5,81,14],[83,15,83,18],[83,19,83,38],[89,5,89,14],[90,1,94,4],[87,1,89,4],[82,1,84,4],[95,0,95,14],[99,1,99,20],[99,21,99,23],[99,24,99,38],[94,15,94,18],[94,19,94,38],[78,0,78,14],[79,0,94,0],[81,1,81,4],[80,1,80,4],[79,1,79,4],[86,1,86,4],[85,1,85,4],[89,15,89,18],[89,19,89,38],[90,15,90,18],[90,19,90,38],[91,15,91,18],[91,19,91,38],[92,15,92,18],[92,19,92,38],[93,15,93,18],[93,19,93,38],[84,15,84,18],[84,19,84,38],[59,0,59,14],[59,15,59,18],[59,19,59,38],[97,0,97,14],[97,15,97,18],[97,19,97,38],[62,1,62,20],[62,21,62,23],[62,24,62,38],[85,15,85,18],[85,19,85,38],[86,15,86,18],[86,19,86,38],[87,15,87,18],[87,19,87,38],[88,15,88,18],[88,19,88,38],[79,15,79,18],[80,15,80,18],[80,19,80,38],[81,15,81,18],[81,19,81,38],[82,15,82,18],[82,19,82,38]]}
["（様式第８－２号）"]
[]
["新型コロナウイルス感染症緊急包括支援交付金（介護分）に関する事業実績報告書（事業所単位）",null,null,null,null,null,null,null,null,null,null,null,null,null,null,null,null,null,null,null,null,null,null,null,null,null,null,null,null,null,null,null,null,null,null,null,null,null,null,null,null,null,null,null,null,null,null,null,null,null,null,null,null,null,null,null,null,null,null,null,null,null,null,null,null,null,null,null,null,null,null,null,null,null,null,null,null,null,null,"（１）①　",null,null,"（２）②"]
[null,null,null,null,null,null,null,null,null,null,null,null,null,null,null,null,null,null,null,null,null,null,null,null,null,null,null,null,null,null,null,null,null,null,null,null,null,null,null,null,null,null,null,null,null,null,null,null,null,null,null,null,null,null,null,null,null,null,null,null,null,null,null,null,null,null,null,null,null,null,null,null,null,null,null,null,null,null,null,"共通",null,"単価","共通"]
["施設概要",null,null,null,null,null,null,null,null,null,null,null,null,null,null,null,null,null,null,null,null,null,null,null,null,null,null,null,null,null,null,null,null,null,null,null,null,null,null,null,null,null,null,null,null,null,null,null,null,null,null,null,null,null,null,null,null,null,null,null,null,null,null,null,null,null,null,null,null,null,null,null,null,null,null,null,null,null,"通所介護事業所（通常規模型）",892,"/事業所",null,200,"/事業所"]
[null,null,null,null,null,null,null,null,null,null,null,null,null,null,null,null,null,null,null,null,null,null,null,null,null,null,null,null,null,null,null,null,null,null,null,null,null,null,null,null,null,null,null,null,null,null,null,null,null,null,null,null,null,null,null,null,null,null,null,null,null,null,null,null,null,null,null,null,null,null,null,null,null,null,null,null,null,null,"通所介護事業所（大規模型（Ⅰ））",1137,"/事業所",null,200,"/事業所"]
["介護保険事業所番号",null,null,null,null,null,null,null,null,null,null,null,null,null,"事業所名称",null,null,null,null,null,null,null,null,null,null,null,null,null,null,null,null,null,null,null,null,null,null,null,null,null,null,null,null,null,null,null,null,null,null,null,null,null,null,null,null,null,null,null,null,null,null,null,null,null,null,null,null,null,null,null,null,null,null,null,null,null,null,null,"通所介護事業所（大規模型（Ⅱ））",1480,"/事業所",null,200,"/事業所"]
["所在地",null,null,"郵便番号",null,null,null,"都道府県名",null,null,null,"住所",null,null,null,null,null,null,null,null,null,null,null,null,null,"連絡先",null,null,"電話番号",null,null,null,null,"担当部署名",null,null,null,null,null,null,null,null,null,null,null,null,null,null,null,null,null,null,null,null,null,null,null,null,null,null,null,null,null,null,null,null,null,null,null,null,null,null,null,null,null,null,null,null,"地域密着型通所介護事業所(療養通所介護事業所を含む)",384,"/事業所",null,200,"/事業所"]
[null,null,null,null,null,null,null,null,null,null,null,null,null,null,null,null,null,null,null,null,null,null,null,null,null,null,null,null,null,null,null,null,null,null,null,null,null,null,null,null,null,null,null,null,null,null,null,null,null,null,null,null,null,null,null,null,null,null,null,null,null,null,null,null,null,null,null,null,null,null,null,null,null,null,null,null,null,null,"認知症対応型通所介護事業所",375,"/事業所",null,200,"/事業所"]
["提供サービス",null,null,null,null,null,null,null,null,null,null,null,null,null,null,null,null,"サービス種類コード",null,null,null,null,null,null,null,"定員",null,null,null,null,"人",null,"職員数\n(派遣含む)",null,null,null,null,"人",null,null,null,null,null,null,null,null,null,null,null,null,null,null,null,null,null,null,null,null,null,null,null,null,null,null,null,null,null,null,null,null,null,null,null,null,null,null,null,null,"通所リハビリテーション事業所（通常規模型）",939,"/事業所",null,200,"/事業所"]
["事業区分",null,null,null,null,null,null,null,null," 介護慰労金事業　→　1を記載",null,null,null,null,null,null,null,null,null,null,null,null,null,null,null,"  感染対策費用助成事業　→ 2を記載",null,null,null,null,null,null,null,null,null,null,null,null,null,null,null,null,null,null,null,null,null,null,null,null,null,null,null,null,null,null,null,null,null,null,null,null,null,null,null,null,null,null,null,null,null,null,null,null,null,null,null,null,"通所リハビリテーション事業所（大規模型（Ⅰ））",1181,"/事業所",null,200,"/事業所"]
[null,null,null,null,null,null,null,null,null," 個別再開支援助成事業　→ 3を記載",null,null,null,null,null,null,null,null,null,null,null,null,null,null,null,"　再開環境整備助成事業　→ 4を記載",null,null,null,null,null,null,null,null,null,null,null,null,null,null,null,null,null,null,null,null,null,null,null,null,null,null,null,null,null,null,null,null,null,null,null,null,null,null,null,null,null,null,null,null,null,null,null,null,null,null,null,null,"通所リハビリテーション事業所（大規模型（Ⅱ））",1885,"/事業所",null,200,"/事業所"]
[null,null,null,null,null,null,null,null,null,null,null,null,null,null,null,null,null,null,null,null,null,null,null,null,null,null,null,null,null,null,null,null,null,null,null,null,null,null,null,null,null,null,null,null,null,null,null,null,null,null,null,null,null,null,null,null,null,null,null,null,null,null,null,null,null,null,null,null,null,null,null,null,null,null,null,null,null,null,"短期入所生活介護事業所",{"$f":"CD13*個票1!$AC$10","v":0},"/定員",44,200,"/事業所"]
["支出済額",null,null,null,null,null,null,null,null,null,null,null,null,null,null,null,null,null,null,null,null,null,null,null,null,null,null,null,null,null,null,null,null,null,null,null,null,null,null,null,null,null,null,null,null,null,null,null,null,null,null,null,null,null,null,null,null,null,null,null,null,null,null,null,null,null,null,null,null,null,null,null,null,null,null,null,null,null,"短期入所療養介護事業所",{"$f":"CD14*個票1!$AC$10","v":0},"/定員",44,200,"/事業所"]
[null,null,null,null,null,null,null,null,null,null,null,null,null,null,null,null,null,null,null,null,null,null,null,null,null,null,null,null,null,null,null,null,null,null,null,null,null,null,null,null,null,null,null,null,null,null,null,null,null,null,null,null,null,null,null,null,null,null,null,null,null,null,null,null,null,null,null,null,null,null,null,null,null,null,null,null,null,null,"訪問介護事業所",534,"/事業所",null,200,"/事業所"]
["１．介護慰労金事業",null,null,null,null,null,null,null," ※対象職員の氏名等について、様式８－３を作成すること。",null,null,null,null,null,null,null,null,null,null,null,null,null,null,null,null,null,null,null,"実績額","実績報告額①",null,null,null,null,{"$f":"IF(AI17=\"\",0,MIN(AI17,AE20))","v":0},null,null,"千円",null,null,null,null,null,null,null,null,null,null,null,null,null,null,null,null,null,null,null,null,null,null,null,null,null,null,null,null,null,null,null,null,null,null,null,null,null,null,null,null,"訪問入浴介護事業所",564,"/事業所",null,200,"/事業所"]
[null,null,null,null,null,null,null,null,null,null,null,null,null,null,null,null,null,null,null,null,null,null,null,null,null,null,null,null,null,"交付済額",null,null,null,null,null,null,null,"千円",null,null,null,null,null,null,null,null,null,null,null,null,null,null,null,null,null,null,null,null,null,null,null,null,null,null,null,null,null,null,null,null,null,null,null,null,null,null,null,null,"訪問看護事業所",518,"/事業所",null,200,"/事業所"]
[null,null,null,null,null,null,null,null,null,null,null,null,null,null,null,null,null,null,null,null,null,null,null,null,null,null,null,null,null,"返還額",null,null,null,null,{"$f":"IF(AI16>=AI17,0,AI17-AI16)","v":0},null,null,"千円",null,null,null,null,null,null,null,null,null,null,null,null,null,null,null,null,null,null,null,null,null,null,null,null,null,null,null,null,null,null,null,null,null,null,null,null,null,null,null,null,"訪問リハビリテーション事業所",227,"/事業所",null,200,"/事業所"]
["慰労金の区分・人数",null,null,null,null,null,null,"20万円対象",null,null,null,null,null,null,null,"人","5万円対象",null,null,null,null,null,null,null,"人","振込手数料",null,null,null,null,null,null,null,"千円",null,"（千円未満切捨）",null,null,null,null,{"$f":"IF(M19=0,,\"有\")","v":0},null,null,null,null,null,null,null,null,null,null,null,null,null,null,null,null,null,null,null,null,null,null,null,null,null,null,null,null,null,null,null,null,null,null,null,null,null,"定期巡回・随時対応型訪問介護看護事業所",508,"/事業所",null,200,"/事業所"]
["実績額（基準額に慰労金給付対象者の人数を乗じた額及び振込手数料の実費の合計）",null,null,null,null,null,null,null,null,null,null,null,null,null,null,null,null,null,null,null,null,null,null,null,null,null,null,null,null,null,{"$f":"(20*M19+5*V19)*10+AE19","v":0},null,null,"千円",null,"（千円未満切捨）",null,null,null,null,null,null,null,null,null,null,null,null,null,null,null,null,null,null,null,null,null,null,null,null,null,null,null,null,null,null,null,null,null,null,null,null,null,null,null,null,null,null,"夜間対応型訪問介護事業所",204,"/事業所",null,200,"/事業所"]
[null,null,null,null,null,null,null,null,null,null,null,null,null,null,null,null,null,null,null,null,null,null,null,null,null,null,null,null,null,null,null,null,null,null,null,null,null,null,null,null,null,null,null,null,null,null,null,null,null,null,null,null,null,null,null,null,null,null,null,null,null,null,null,null,null,null,null,null,null,null,null,null,null,null,null,null,null,null,"居宅介護支援事業所",148,"/事業所",null,200,"/事業所"]
["\n\n","【20万円対象者がある場合のみ】20万円の給付対象であることを説明できる資料等（感染者等と接触した者の記録等）を保管していることを確認しました。(確認した場合は、右枠に○を記入）。",null,null,null,null,null,null,null,null,null,null,null,null,null,null,null,null,null,null,null,null,null,null,"＜注意＞記録等については5年間保管し、県から求めがあった際は提示していただく場合があります。",null,null,null,null,null,null,null,null,null,null,null,null,null,null,null,null,null,null,null,null,null,null,null,null,null,null,null,null,null,null,null,null,null,null,null,null,null,null,null,null,null,null,null,null,null,null,null,null,null,null,null,null,null,"福祉用具貸与事業所",148,"/事業所",null,200,"/事業所"]
[null,null,null,null,null,null,null,null,null,null,null,null,null,null,null,null,null,null,null,null,null,null,null,null,null,null,null,null,null,null,null,null,null,null,null,null,null,null,null,null,null,null,null,null,null,null,null,null,null,null,null,null,null,null,null,null,null,null,null,null,null,null,null,null,null,null,null,null,null,null,null,null,null,null,null,null,null,null,"居宅療養管理指導事業所",33,"/事業所",null,200,"/事業所"]
["2．感染症対策を徹底した上での介護サービス提供支援事業",null,null,null,null,null,null,null,null,null,null,null,null,null,null,null,null,null,null,null,null,null,null,"補助上限額",null,null,null,null,"実績額","実績報告額②",null,null,null,null,{"$f":"IF(OR(X25=0,AI25=\"\"),0,MIN(X25,ROUNDDOWN(P59/1000,0),ROUNDDOWN((P60-P61)/1000,0),AI25))","v":0},null,null,"千円",null,null,null,null,null,null,null,null,null,null,null,null,null,null,null,null,null,null,null,null,null,null,null,null,null,null,null,null,null,null,null,null,null,null,null,null,null,null,null,null,"小規模多機能型居宅介護事業所",475,"/事業所",null,200,"/事業所"]
[null,null,null,null,null,null,null,null,null,null,null,null,null,null,null,null,null,null,null,null,null,null,null,{"$f":"IFERROR(VLOOKUP(H10,個票1!CA5:CB39,2,FALSE),0)","v":0},null,null,"千円",null,null,"交付済額",null,null,null,null,null,null,null,"千円",null,null,null,null,null,null,null,null,null,null,null,null,null,null,null,null,null,null,null,null,null,null,null,null,null,null,null,null,null,null,null,null,null,null,null,null,null,null,null,null,"看護小規模多機能型居宅介護事業所",638,"/事業所",null,200,"/事業所"]
["【感染拡大防止対策や介護サービスの提供体制の確保のための経費】",null,null,null,null,null,null,null,null,null,null,null,null,null,null,null,null,null,null,null,null,null,null,null,null,null,null,null,null,"返還額",null,null,null,null,{"$f":"IF(AI24>=AI25,0,AI25-AI24)","v":0},null,null,"千円",null,null,null,null,null,null,null,null,null,null,null,null,null,null,null,null,null,null,null,null,null,null,null,null,null,null,null,null,null,null,null,null,null,null,null,null,null,null,null,null,"介護老人福祉施設",{"$f":"CD26*個票1!$AC$10","v":0},"/定員",38,"-"]
["科目",null,null,null,null,null,null,null,null,null,null,null,null,null,null,"実績額（円）",null,null,null,"品目・数量等（その他を選択する場合は、用途も記載）",null,null,null,null,null,null,null,null,null,null,null,null,null,null,null,null,null,null,null,null,null,null,null,null,null,null,null,null,null,null,null,null,null,null,null,null,null,null,null,null,null,null,null,null,null,null,null,null,null,null,null,null,null,null,null,null,null,null,"地域密着型介護老人福祉施設",{"$f":"CD27*個票1!$AC$10","v":0},"/定員",40,"-"]
[null,"賃金・報酬",null,null,null,"感染防止に要する追加的人件費",null,null,null,null,null,null,null,null,null,null,null,null,null,null,null,null,null,null,null,null,null,null,null,null,null,null,null,null,null,null,null,null,null,null,null,null,null,null,null,null,null,null,null,null,null,null,null,null,null,null,null,null,null,null,null,null,null,null,null,null,null,null,null,null,null,null,null,null,null,null,null,null,"介護老人保健施設",{"$f":"CD28*個票1!$AC$10","v":0},"/定員",38,"-"]
[null,null,null,null,null,"異なる場所でのサービス実施に要する職員の交通費",null,null,null,null,null,null,null,null,null,null,null,null,null,null,null,null,null,null,null,null,null,null,null,null,null,null,null,null,null,null,null,null,null,null,null,null,null,null,null,null,null,null,null,null,null,null,null,null,null,null,null,null,null,null,null,null,null,null,null,null,null,null,null,null,null,null,null,null,null,null,null,null,"介護医療院",{"$f":"CD29*個票1!$AC$10","v":0},"/定員",48,"-"]
[null,null,null,null,null,"その他",null,null,null,null,null,null,null,null,null,null,null,null,null,null,null,null,null,null,null,null,null,null,null,null,null,null,null,null,null,null,null,null,null,null,null,null,null,null,null,null,null,null,null,null,null,null,null,null,null,null,null,null,null,null,null,null,null,null,null,null,null,null,null,null,null,null,null,null,null,null,null,null,"介護療養型医療施設",{"$f":"CD30*個票1!$AC$10","v":0},"/定員",43,"-"]
[null,"謝金",null,null,null,"研修講師(外部専門家等)に対する謝金",null,null,null,null,null,null,null,null,null,null,null,null,null,null,null,null,null,null,null,null,null,null,null,null,null,null,null,null,null,null,null,null,null,null,null,null,null,null,null,null,null,null,null,null,null,null,null,null,null,null,null,null,null,null,null,null,null,null,null,null,null,null,null,null,null,null,null,null,null,null,null,null,"認知症対応型共同生活介護事業所",{"$f":"CD31*個票1!$AC$10","v":0},"/定員",36,"-"]
[null,null,null,null,null,"訪問介護員による同行指導に対する謝金",null,null,null,null,null,null,null,null,null,null,null,null,null,null,null,null,null,null,null,null,null,null,null,null,null,null,null,null,null,null,null,null,null,null,null,null,null,null,null,null,null,null,null,null,null,null,null,null,null,null,null,null,null,null,null,null,null,null,null,null,null,null,null,null,null,null,null,null,null,null,null,null,"養護老人ホーム（定員30人以上）",{"$f":"CD32*個票1!$AC$10","v":0},"/定員",37,"-"]
[null,null,null,null,null,"その他",null,null,null,null,null,null,null,null,null,null,null,null,null,null,null,null,null,null,null,null,null,null,null,null,null,null,null,null,null,null,null,null,null,null,null,null,null,null,null,null,null,null,null,null,null,null,null,null,null,null,null,null,null,null,null,null,null,null,null,null,null,null,null,null,null,null,null,null,null,null,null,null,"養護老人ホーム（定員29人以下）",{"$f":"CD33*個票1!$AC$10","v":0},"/定員",35,"-"]
[null,"旅費",null,null,null,"研修講師(外部専門家等)に対する旅費",null,null,null,null,null,null,null,null,null,null,null,null,null,null,null,null,null,null,null,null,null,null,null,null,null,null,null,null,null,null,null,null,null,null,null,null,null,null,null,null,null,null,null,null,null,null,null,null,null,null,null,null,null,null,null,null,null,null,null,null,null,null,null,null,null,null,null,null,null,null,null,null,"軽費老人ホーム（定員30人以上）",{"$f":"CD34*個票1!$AC$10","v":0},"/定員",37,"-"]
[null,null,null,null,null,"研修受講等に要する旅費･宿泊費、受講費用",null,null,null,null,null,null,null,null,null,null,null,null,null,null,null,null,null,null,null,null,null,null,null,null,null,null,null,null,null,null,null,null,null,null,null,null,null,null,null,null,null,null,null,null,null,null,null,null,null,null,null,null,null,null,null,null,null,null,null,null,null,null,null,null,null,null,null,null,null,null,null,null,"軽費老人ホーム（定員29人以下）",{"$f":"CD35*個票1!$AC$10","v":0},"/定員",35,"-"]
[null,null,null,null,null,"その他",null,null,null,null,null,null,null,null,null,null,null,null,null,null,null,null,null,null,null,null,null,null,null,null,null,null,null,null,null,null,null,null,null,null,null,null,null,null,null,null,null,null,null,null,null,null,null,null,null,null,null,null,null,null,null,null,null,null,null,null,null,null,null,null,null,null,null,null,null,null,null,null,"有料老人ホーム（定員30人以上）",{"$f":"CD36*個票1!$AC$10","v":0},"/定員",37,"-"]
[null,"工事請負費",null,null,null,"多機能型簡易居室の設置に係る工事費用",null,null,null,null,null,null,null,null,null,null,null,null,null,null,null,null,null,null,null,null,null,null,null,null,null,null,null,null,null,null,null,null,null,null,null,null,null,null,null,null,null,null,null,null,null,null,null,null,null,null,null,null,null,null,null,null,null,null,null,null,null,null,null,null,null,null,null,null,null,null,null,null,"有料老人ホーム（定員29人以下）",{"$f":"CD37*個票1!$AC$10","v":0},"/定員",35,"-"]
[null,"原材料費",null,null,null,"多機能型簡易居室の設置に係る原材料費",null,null,null,null,null,null,null,null,null,null,null,null,null,null,null,null,null,null,null,null,null,null,null,null,null,null,null,null,null,null,null,null,null,null,null,null,null,null,null,null,null,null,null,null,null,null,null,null,null,null,null,null,null,null,null,null,null,null,null,null,null,null,null,null,null,null,null,null,null,null,null,null,"サービス付き高齢者向け住宅（定員30人以上）",{"$f":"CD38*個票1!$AC$10","v":0},"/定員",37,"-"]
[null,"需用費",null,null,null,"個人防護具",null,null,null,null,null,null,null,null,null,null,null,null,null,null,null,null,null,null,null,null,null,null,null,null,null,null,null,null,null,null,null,null,null,null,null,null,null,null,null,null,null,null,null,null,null,null,null,null,null,null,null,null,null,null,null,null,null,null,null,null,null,null,null,null,null,null,null,null,null,null,null,null,"サービス付き高齢者向け住宅（定員29人以下）",{"$f":"CD39*個票1!$AC$10","v":0},"/定員",35,"-"]
[null,null,null,null,null,"消毒液",null,null,null,null,null,null,null,null,null,null,null,null,null,null,null,null,null,null,null,null,null,null,null,null,null,null,null,null,null,null,null,null,null,null,null,null,null,null,null,null,null,null,null,null,null,null,null,null,null,null,null,null,null,null,null,null,null,null,null,null,null,null,null,null,null,null,null,null,null,null,null,null,"介護予防・生活支援サービス事業の事業者"]
[null,null,null,null,null,"その他衛生用品"]
[null,null,null,null,null,"修繕料（室内のレイアウト変更）"]
[null,null,null,null,null,"その他"]
[null,"役務費",null,null,null,"感染防止に要する人員確保に係る職業紹介手数料"]
[null,null,null,null,null,"医療機関・保健所等との情報共有に要する通信運搬費"]
[null,null,null,null,null,"その他"]
[null,"委託料",null,null,null,"消毒作業の委託"]
[null,null,null,null,null,"清掃委託"]
[null,null,null,null,null,"その他"]
[null,"使用料及び賃借料",null,null,null,"研修会場の使用料"]
[null,null,null,null,null,"自転車･自動車のリース費用"]
[null,null,null,null,null,"ICT機器(タブレット等)のリース費用"]
[null,null,null,null,null,"異なる場所でのサービス実施に要する賃料"]
[null,null,null,null,null,"異なる場所でのサービス実施に要する物品使用料"]
[null,null,null,null,null,"その他"]
[null,"備品購入費",null,null,null,"自転車･自動車の購入費用"]
[null,null,null,null,null,"ICT機器(タブレット等)の購入費用"]
[null,null,null,null,null,"その他"]
["支出総額（対象経費の実支出額）",null,null,null,null,null,null,null,null,null,null,null,null,null,null,{"$f":"SUM(P28:S58)","v":0}]
["総事業費",null,null,null,null,null,null,null,null,null,null,null,null,null,null,{"$f":"P59","v":0},null,null,null,"※支出総額と総事業費が異なる場合は、総事業費欄を上書きして下さい。"]
["寄附金その他の収入額"]
[]
["\n\n\n","上記の支出額には、従前から勤務している者の人件費や通常のサービス提供に必要な費用などは含まれていないことを誓約します(含まれていない場合は、右枠に○を記入）。",null,null,null,null,null,null,null,null,null,null,null,null,null,null,null,null,null,null,null,null,null,null,"＜注意＞本事業の対象経費は、感染症対策を徹底した上でサービス提供するに当たり必要となる「かかり増し経費」のみです。"]
[]
["3．在宅サービス事業所による利用者への再開支援への助成事業",null,null,null,null,null,null,null,null,null,null,null,null,null,null,null,null,null,null,null,null,null,null,null,null,null,null,null,"実績額","実績報告額③",null,null,null,null,{"$f":"IF(AI66=\"\",0,MIN(AI74,AI66))","v":0},null,null,"千円"]
[null,null,null,null,null,null,null,null,null,null,null,null,null,null,null,null,null,null,null,null,null,null,null,null,null,null,null,null,null,"交付済額",null,null,null,null,null,null,null,"千円"]
[null,null,null,null,null,null,null,null,null,null,null,null,null,null,null,null,null,null,null,null,null,null,null,null,null,null,null,null,null,"返還額",null,null,null,null,{"$f":"IF(AI65>=AI66,0,AI66-AI65)","v":0},null,null,"千円"]
["利用者１人あたり単価\n　（居宅介護支援以外共通）",null,null,null,null,null,null,null,null,null,"電話による確認",null,null,null,null,null,null,null,null,null,null,null,null,{"$f":"IF($H$10=\"介護予防・生活支援サービス事業の事業者\",\"\",1500)","v":1500},null,null,"円",null,"対象利用者数",null,null,null,null,null,null,null,null,"人"]
[null,null,null,null,null,null,null,null,null,null,"訪問による確認",null,null,null,null,null,null,null,null,null,null,null,null,{"$f":"IF($H$10=\"介護予防・生活支援サービス事業の事業者\",\"\",3000)","v":3000},null,null,"円",null,"対象利用者数",null,null,null,null,null,null,null,null,"人"]
[null,"居宅介護支援のみ\n右欄に記載",null,null,null,null,null,null,null,null,"電話による確認",null,null,null,null,null,null,null,null,null,null,null,null,{"$f":"IF($H$10=\"介護予防・生活支援サービス事業の事業者\",\"\",1500)","v":1500},null,null,"円",null,"対象利用者数",null,null,null,null,null,null,null,null,"人"]
[null,null,null,null,null,null,null,null,null,null,"電話による確認（看護師等が協力した場合）",null,null,null,null,null,null,null,null,null,null,null,null,{"$f":"IF($H$10=\"介護予防・生活支援サービス事業の事業者\",\"\",4500)","v":4500},null,null,"円",null,"対象利用者数",null,null,null,null,null,null,null,null,"人"]
[null,null,null,null,null,null,null,null,null,null,"訪問による確認",null,null,null,null,null,null,null,null,null,null,null,null,{"$f":"IF($H$10=\"介護予防・生活支援サービス事業の事業者\",\"\",3000)","v":3000},null,null,"円",null,"対象利用者数",null,null,null,null,null,null,null,null,"人"]
[null,null,null,null,null,null,null,null,null,null,"訪問による確認（看護師等が協力した場合）",null,null,null,null,null,null,null,null,null,null,null,null,{"$f":"IF($H$10=\"介護予防・生活支援サービス事業の事業者\",\"\",6000)","v":6000},null,null,"円",null,"対象利用者数",null,null,null,null,null,null,null,null,"人"]
["実績額（基準額に対象利用者数を乗じた額の合計）",null,null,null,null,null,null,null,null,null,null,null,null,null,null,null,null,null,null,null,null,null,null,null,null,null,null,null,null,null,null,null,null,null,{"$f":"IF(H10=\"居宅介護支援事業所\",(X70*AI70+X71*AI71+X72*AI72+X73*AI73)/1000,(X68*AI68+X69*AI69)/1000)","v":0},null,null,"千円"]
[]
["4．在宅サービス事業所における環境整備への助成事業",null,null,null,null,null,null,null,null,null,null,null,null,null,null,null,null,null,null,null,null,null,null,"補助上限額",null,null,null,null,"実績額","実績報告額④",null,null,null,null,{"$f":"IF(OR(X77=0,AI77=\"\"),0,MIN(X77,ROUNDDOWN(P96/1000,0),ROUNDDOWN((P97-P98)/1000,0)))","v":0},null,null,"千円"]
[null,null,null,null,null,null,null,null,null,null,null,null,null,null,null,null,null,null,null,null,null,null,null,{"$f":"IFERROR(VLOOKUP(H10,個票1!CA5:CE38,5,FALSE),\"\")","v":""},null,null,"千円",null,null,"交付済額",null,null,null,null,null,null,null,"千円"]
["【在宅サービス事業所における環境整備のための経費】",null,null,null,null,null,null,null,null,null,null,null,null,null,null,null,null,null,null,null,null,null,null,null,null,null,null,null,null,"返還額",null,null,null,null,{"$f":"IF(AI76>=AI77,0,AI77-AI76)","v":0},null,null,"千円"]
["科目",null,null,null,null,null,null,null,null,null,null,null,null,null,null,"実績額（円）",null,null,null,"品目・数量等（その他を選択する場合は、用途も記載）"]
[null,"賃金・報酬",null,null,null,"その他"]
[null,"謝金",null,null,null,"その他"]
[null,"旅費",null,null,null,"その他"]
[null,"需用費",null,null,null,"飛沫防止パネルの購入費用"]
[null,null,null,null,null,"内装改修費（レイアウト変更）"]
[null,null,null,null,null,"その他"]
[null,"役務費",null,null,null,"その他"]
[null,"委託料",null,null,null,"その他"]
[null,"使用料及び賃借料",null,null,null,"自転車のリース費用"]
[null,null,null,null,null,"ICT機器(タブレット等)のリース費用"]
[null,null,null,null,null,"その他"]
[null,"備品購入費",null,null,null,"長机の購入費用"]
[null,null,null,null,null,"換気設備の購入費用"]
[null,null,null,null,null,"自転車の購入費用"]
[null,null,null,null,null,"ICT機器(タブレット等)の購入費用"]
[null,null,null,null,null,"その他"]
["支出総額（対象経費の実支出額）",null,null,null,null,null,null,null,null,null,null,null,null,null,null,{"$f":"SUM(P80:S95)","v":0}]
["総事業費",null,null,null,null,null,null,null,null,null,null,null,null,null,null,{"$f":"P96","v":0},null,null,null,"※支出総額と総事業費が異なる場合は、総事業費欄を上書きして下さい。"]
["寄附金その他の収入額"]
[]
["\n\n","上記の支出額には、従前から勤務している者の人件費や通常のサービス提供に必要な費用などは含まれていないことを誓約します(含まれていない場合は、右枠に○を記入）。",null,null,null,null,null,null,null,null,null,null,null,null,null,null,null,null,null,null,null,null,null,null,"＜注意＞本事業の対象経費は、「３つの密」を避けてサービス提供するに当たり必要となる「かかり増し経費」のみです。"]
[]
["（注）交付済額（交付決定額）を超えた分については、追加で交付されません。\n　　　そのため、事業1．及び3．にかかる実績報告額は、「実績額」と「交付済額（交付決定額の総額）」を比較して低い方の額とする。\n　　　また、事業2.及び4.にかかる実績報告額は、「補助上限額」「対象経費の実支出額」「総事業費から寄附金その他の収入額を\n　　　控除した額」「交付済額（交付決定額の総額）」を比較して最も低い方の額とする。"]

{"sheet":"職員表","index":5,"n_rows":85,"n_cols":21,"rows_kept":85,"cut":false,"hidden":false,"merged":[[3,15,3,18],[3,19,3,20],[3,0,4,0],[3,6,4,6],[3,7,3,9],[3,14,4,14],[3,1,4,1],[3,2,4,2],[3,3,4,3],[3,10,3,13]]}
["（様式第８－３号）介護慰労金受給職員表（法人単位）"]
[]
["※　本表は法人単位でまとめて記載すること。"]
[null,"氏名\n（漢字）","氏名\n（全角カナ）","生年月日\n（西暦）",null,null,"本人の住所","主たる勤務先",null,null,"分類",null,null,null,"慰労金\n(万円)","確認事項",null,null,null,"支払実績"]
[null,null,null,null,"（確認用）","（確認用）",null,"事業所番号","サービス種類コード","事業所・施設の名称","施設区分","対応区分","(計算用)","他の施設等との期間通算がある場合その施設名",null,"委任状の有無","他法人での慰労金の申請の有無","業務委託による\n従事者","重複\n申請者確認用","支払年月日\n(西暦)","支払金額\n（円）"]
[{"$f":"ROW()-5","v":1},null,null,null,{"$f":"B6&C6&D6","v":""},{"$f":"IF(E6=\"\",\"\",COUNTIF($E$6:$E$85,E6))","v":""},null,null,null,null,null,null,{"$f":"K6&L6","v":""},null,{"$f":"IFERROR(VLOOKUP(M6,計算用!$A$8:$B$15,2,FALSE),\"\")","v":""},null,null,null,{"$f":"IF(F6>=2,\"\",\"可\")","v":""}]
[{"$f":"ROW()-5","v":2},null,null,null,{"$f":"B7&C7&D7","v":""},{"$f":"IF(E7=\"\",\"\",COUNTIF($E$6:$E$85,E7))","v":""},null,null,null,null,null,null,{"$f":"K7&L7","v":""},null,{"$f":"IFERROR(VLOOKUP(M7,計算用!$A$8:$B$15,2,FALSE),\"\")","v":""},null,null,null,{"$f":"IF(F7>=2,\"\",\"可\")","v":""}]
[3,null,null,null,{"$f":"B8&C8&D8","v":""},{"$f":"IF(E8=\"\",\"\",COUNTIF($E$6:$E$85,E8))","v":""},null,null,null,null,null,null,"",null,{"$f":"IFERROR(VLOOKUP(M8,計算用!$A$8:$B$15,2,FALSE),\"\")","v":""},null,null,null,""]
[4,null,null,null,"",{"$f":"IF(E9=\"\",\"\",COUNTIF($E$6:$E$85,E9))","v":""},null,null,null,null,null,null,"",null,{"$f":"IFERROR(VLOOKUP(M9,計算用!$A$8:$B$15,2,FALSE),\"\")","v":""},null,null,null,""]
[5,null,null,null,"","",null,null,null,null,null,null,"",null,{"$f":"IFERROR(VLOOKUP(M10,計算用!$A$8:$B$15,2,FALSE),\"\")","v":""},null,null,null,""]
[6,null,null,null,"","",null,null,null,null,null,null,"",null,{"$f":"IFERROR(VLOOKUP(M11,計算用!$A$8:$B$15,2,FALSE),\"\")","v":""},null,null,null,""]
[7,null,null,null,"","",null,null,null,null,null,null,"",null,{"$f":"IFERROR(VLOOKUP(M12,計算用!$A$8:$B$15,2,FALSE),\"\")","v":""},null,null,null,""]
[8,null,null,null,"","",null,null,null,null,null,null,"",null,{"$f":"IFERROR(VLOOKUP(M13,計算用!$A$8:$B$15,2,FALSE),\"\")","v":""},null,null,null,""]
[9,null,null,null,"","",null,null,null,null,null,null,{"$f":"K14&L14","v":""},null,{"$f":"IFERROR(VLOOKUP(M14,計算用!$A$8:$B$15,2,FALSE),\"\")","v":""},null,null,null,""]
[10,null,null,null,"","",null,null,null,null,null,null,"",null,{"$f":"IFERROR(VLOOKUP(M15,計算用!$A$8:$B$15,2,FALSE),\"\")","v":""},null,null,null,""]
[11,null,null,null,"","",null,null,null,null,null,null,"",null,{"$f":"IFERROR(VLOOKUP(M16,計算用!$A$8:$B$15,2,FALSE),\"\")","v":""},null,null,null,""]
[12,null,null,null,"","",null,null,null,null,null,null,"",null,{"$f":"IFERROR(VLOOKUP(M17,計算用!$A$8:$B$15,2,FALSE),\"\")","v":""},null,null,null,""]
[13,null,null,null,"","",null,null,null,null,null,null,"",null,{"$f":"IFERROR(VLOOKUP(M18,計算用!$A$8:$B$15,2,FALSE),\"\")","v":""},null,null,null,""]
[14,null,null,null,"","",null,null,null,null,null,null,"",null,{"$f":"IFERROR(VLOOKUP(M19,計算用!$A$8:$B$15,2,FALSE),\"\")","v":""},null,null,null,""]
[15,null,null,null,"","",null,null,null,null,null,null,"",null,{"$f":"IFERROR(VLOOKUP(M20,計算用!$A$8:$B$15,2,FALSE),\"\")","v":""},null,null,null,""]
[16,null,null,null,"","",null,null,null,null,null,null,"",null,{"$f":"IFERROR(VLOOKUP(M21,計算用!$A$8:$B$15,2,FALSE),\"\")","v":""},null,null,null,""]
[17,null,null,null,"","",null,null,null,null,null,null,"",null,{"$f":"IFERROR(VLOOKUP(M22,計算用!$A$8:$B$15,2,FALSE),\"\")","v":""},null,null,null,""]
[18,null,null,null,"","",null,null,null,null,null,null,"",null,{"$f":"IFERROR(VLOOKUP(M23,計算用!$A$8:$B$15,2,FALSE),\"\")","v":""},null,null,null,""]
[19,null,null,null,"","",null,null,null,null,null,null,"",null,{"$f":"IFERROR(VLOOKUP(M24,計算用!$A$8:$B$15,2,FALSE),\"\")","v":""},null,null,null,""]
[20,null,null,null,"","",null,null,null,null,null,null,"",null,{"$f":"IFERROR(VLOOKUP(M25,計算用!$A$8:$B$15,2,FALSE),\"\")","v":""},null,null,null,""]
[21,null,null,null,"","",null,null,null,null,null,null,"",null,{"$f":"IFERROR(VLOOKUP(M26,計算用!$A$8:$B$15,2,FALSE),\"\")","v":""},null,null,null,""]
[22,null,null,null,"","",null,null,null,null,null,null,"",null,{"$f":"IFERROR(VLOOKUP(M27,計算用!$A$8:$B$15,2,FALSE),\"\")","v":""},null,null,null,""]
[23,null,null,null,"","",null,null,null,null,null,null,"",null,{"$f":"IFERROR(VLOOKUP(M28,計算用!$A$8:$B$15,2,FALSE),\"\")","v":""},null,null,null,""]
[24,null,null,null,"","",null,null,null,null,null,null,"",null,{"$f":"IFERROR(VLOOKUP(M29,計算用!$A$8:$B$15,2,FALSE),\"\")","v":""},null,null,null,""]
[25,null,null,null,"","",null,null,null,null,null,null,"",null,{"$f":"IFERROR(VLOOKUP(M30,計算用!$A$8:$B$15,2,FALSE),\"\")","v":""},null,null,null,""]
[26,null,null,null,"","",null,null,null,null,null,null,"",null,{"$f":"IFERROR(VLOOKUP(M31,計算用!$A$8:$B$15,2,FALSE),\"\")","v":""},null,null,null,""]
[27,null,null,null,"","",null,null,null,null,null,null,"",null,{"$f":"IFERROR(VLOOKUP(M32,計算用!$A$8:$B$15,2,FALSE),\"\")","v":""},null,null,null,""]
[28,null,null,null,"","",null,null,null,null,null,null,"",null,{"$f":"IFERROR(VLOOKUP(M33,計算用!$A$8:$B$15,2,FALSE),\"\")","v":""},null,null,null,""]
[29,null,null,null,"","",null,null,null,null,null,null,"",null,{"$f":"IFERROR(VLOOKUP(M34,計算用!$A$8:$B$15,2,FALSE),\"\")","v":""},null,null,null,""]
[30,null,null,null,"","",null,null,null,null,null,null,"",null,{"$f":"IFERROR(VLOOKUP(M35,計算用!$A$8:$B$15,2,FALSE),\"\")","v":""},null,null,null,""]
[31,null,null,null,"","",null,null,null,null,null,null,"",null,{"$f":"IFERROR(VLOOKUP(M36,計算用!$A$8:$B$15,2,FALSE),\"\")","v":""},null,null,null,""]
[32,null,null,null,"","",null,null,null,null,null,null,"",null,{"$f":"IFERROR(VLOOKUP(M37,計算用!$A$8:$B$15,2,FALSE),\"\")","v":""},null,null,null,""]
[33,null,null,null,"","",null,null,null,null,null,null,"",null,{"$f":"IFERROR(VLOOKUP(M38,計算用!$A$8:$B$15,2,FALSE),\"\")","v":""},null,null,null,{"$f":"IF(F38>=2,\"\",\"可\")","v":""}]
[34,null,null,null,"","",null,null,null,null,null,null,"",null,{"$f":"IFERROR(VLOOKUP(M39,計算用!$A$8:$B$15,2,FALSE),\"\")","v":""},null,null,null,""]
[35,null,null,null,"","",null,null,null,null,null,null,"",null,{"$f":"IFERROR(VLOOKUP(M40,計算用!$A$8:$B$15,2,FALSE),\"\")","v":""},null,null,null,""]
[36,null,null,null,"","",null,null,null,null,null,null,"",null,{"$f":"IFERROR(VLOOKUP(M41,計算用!$A$8:$B$15,2,FALSE),\"\")","v":""},null,null,null,""]
[37,null,null,null,"","",null,null,null,null,null,null,"",null,{"$f":"IFERROR(VLOOKUP(M42,計算用!$A$8:$B$15,2,FALSE),\"\")","v":""},null,null,null,""]
[38,null,null,null,"","",null,null,null,null,null,null,"",null,{"$f":"IFERROR(VLOOKUP(M43,計算用!$A$8:$B$15,2,FALSE),\"\")","v":""},null,null,null,""]
[39,null,null,null,"","",null,null,null,null,null,null,"",null,{"$f":"IFERROR(VLOOKUP(M44,計算用!$A$8:$B$15,2,FALSE),\"\")","v":""},null,null,null,""]
[40,null,null,null,"","",null,null,null,null,null,null,"",null,{"$f":"IFERROR(VLOOKUP(M45,計算用!$A$8:$B$15,2,FALSE),\"\")","v":""},null,null,null,""]
[41,null,null,null,"","",null,null,null,null,null,null,"",null,{"$f":"IFERROR(VLOOKUP(M46,計算用!$A$8:$B$15,2,FALSE),\"\")","v":""},null,null,null,""]
[42,null,null,null,"","",null,null,null,null,null,null,"",null,{"$f":"IFERROR(VLOOKUP(M47,計算用!$A$8:$B$15,2,FALSE),\"\")","v":""},null,null,null,""]
[43,null,null,null,"","",null,null,null,null,null,null,"",null,{"$f":"IFERROR(VLOOKUP(M48,計算用!$A$8:$B$15,2,FALSE),\"\")","v":""},null,null,null,""]
[44,null,null,null,"","",null,null,null,null,null,null,"",null,{"$f":"IFERROR(VLOOKUP(M49,計算用!$A$8:$B$15,2,FALSE),\"\")","v":""},null,null,null,""]
[45,null,null,null,"","",null,null,null,null,null,null,"",null,{"$f":"IFERROR(VLOOKUP(M50,計算用!$A$8:$B$15,2,FALSE),\"\")","v":""},null,null,null,""]
[46,null,null,null,"","",null,null,null,null,null,null,"",null,{"$f":"IFERROR(VLOOKUP(M51,計算用!$A$8:$B$15,2,FALSE),\"\")","v":""},null,null,null,""]
[47,null,null,null,"","",null,null,null,null,null,null,"",null,{"$f":"IFERROR(VLOOKUP(M52,計算用!$A$8:$B$15,2,FALSE),\"\")","v":""},null,null,null,""]
[48,null,null,null,"","",null,null,null,null,null,null,"",null,{"$f":"IFERROR(VLOOKUP(M53,計算用!$A$8:$B$15,2,FALSE),\"\")","v":""},null,null,null,""]
[49,null,null,null,"","",null,null,null,null,null,null,"",null,{"$f":"IFERROR(VLOOKUP(M54,計算用!$A$8:$B$15,2,FALSE),\"\")","v":""},null,null,null,""]
[50,null,null,null,"","",null,null,null,null,null,null,"",null,{"$f":"IFERROR(VLOOKUP(M55,計算用!$A$8:$B$15,2,FALSE),\"\")","v":""},null,null,null,""]
[51,null,null,null,"","",null,null,null,null,null,null,"",null,{"$f":"IFERROR(VLOOKUP(M56,計算用!$A$8:$B$15,2,FALSE),\"\")","v":""},null,null,null,""]
[52,null,null,null,"","",null,null,null,null,null,null,"",null,{"$f":"IFERROR(VLOOKUP(M57,計算用!$A$8:$B$15,2,FALSE),\"\")","v":""},null,null,null,""]
[53,null,null,null,"","",null,null,null,null,null,null,"",null,{"$f":"IFERROR(VLOOKUP(M58,計算用!$A$8:$B$15,2,FALSE),\"\")","v":""},null,null,null,""]
[54,null,null,null,"","",null,null,null,null,null,null,"",null,{"$f":"IFERROR(VLOOKUP(M59,計算用!$A$8:$B$15,2,FALSE),\"\")","v":""},null,null,null,""]
[55,null,null,null,"","",null,null,null,null,null,null,"",null,{"$f":"IFERROR(VLOOKUP(M60,計算用!$A$8:$B$15,2,FALSE),\"\")","v":""},null,null,null,""]
[56,null,null,null,"","",null,null,null,null,null,null,"",null,{"$f":"IFERROR(VLOOKUP(M61,計算用!$A$8:$B$15,2,FALSE),\"\")","v":""},null,null,null,""]
[57,null,null,null,"","",null,null,null,null,null,null,"",null,{"$f":"IFERROR(VLOOKUP(M62,計算用!$A$8:$B$15,2,FALSE),\"\")","v":""},null,null,null,""]
[58,null,null,null,"","",null,null,null,null,null,null,"",null,{"$f":"IFERROR(VLOOKUP(M63,計算用!$A$8:$B$15,2,FALSE),\"\")","v":""},null,null,null,""]
[59,null,null,null,"","",null,null,null,null,null,null,"",null,{"$f":"IFERROR(VLOOKUP(M64,計算用!$A$8:$B$15,2,FALSE),\"\")","v":""},null,null,null,""]
[60,null,null,null,"","",null,null,null,null,null,null,"",null,{"$f":"IFERROR(VLOOKUP(M65,計算用!$A$8:$B$15,2,FALSE),\"\")","v":""},null,null,null,""]
[61,null,null,null,"","",null,null,null,null,null,null,"",null,{"$f":"IFERROR(VLOOKUP(M66,計算用!$A$8:$B$15,2,FALSE),\"\")","v":""},null,null,null,""]
[62,null,null,null,"","",null,null,null,null,null,null,"",null,{"$f":"IFERROR(VLOOKUP(M67,計算用!$A$8:$B$15,2,FALSE),\"\")","v":""},null,null,null,""]
[63,null,null,null,"","",null,null,null,null,null,null,"",null,{"$f":"IFERROR(VLOOKUP(M68,計算用!$A$8:$B$15,2,FALSE),\"\")","v":""},null,null,null,""]
[64,null,null,null,"","",null,null,null,null,null,null,"",null,{"$f":"IFERROR(VLOOKUP(M69,計算用!$A$8:$B$15,2,FALSE),\"\")","v":""},null,null,null,""]
[65,null,null,null,"","",null,null,null,null,null,null,"",null,{"$f":"IFERROR(VLOOKUP(M70,計算用!$A$8:$B$15,2,FALSE),\"\")","v":""},null,null,null,{"$f":"IF(F70>=2,\"\",\"可\")","v":""}]
[{"$f":"ROW()-5","v":66},null,null,null,{"$f":"B71&C71&D71","v":""},"",null,null,null,null,null,null,{"$f":"K71&L71","v":""},null,{"$f":"IFERROR(VLOOKUP(M71,計算用!$A$8:$B$15,2,FALSE),\"\")","v":""},null,null,null,""]
[67,null,null,null,"","",null,null,null,null,null,null,"",null,{"$f":"IFERROR(VLOOKUP(M72,計算用!$A$8:$B$15,2,FALSE),\"\")","v":""},null,null,null,""]
[68,null,null,null,"",{"$f":"IF(E73=\"\",\"\",COUNTIF($E$6:$E$85,E73))","v":""},null,null,null,null,null,null,"",null,{"$f":"IFERROR(VLOOKUP(M73,計算用!$A$8:$B$15,2,FALSE),\"\")","v":""},null,null,null,""]
[69,null,null,null,"","",null,null,null,null,null,null,"",null,{"$f":"IFERROR(VLOOKUP(M74,計算用!$A$8:$B$15,2,FALSE),\"\")","v":""},null,null,null,""]
[70,null,null,null,"","",null,null,null,null,null,null,"",null,{"$f":"IFERROR(VLOOKUP(M75,計算用!$A$8:$B$15,2,FALSE),\"\")","v":""},null,null,null,""]
[71,null,null,null,"","",null,null,null,null,null,null,"",null,{"$f":"IFERROR(VLOOKUP(M76,計算用!$A$8:$B$15,2,FALSE),\"\")","v":""},null,null,null,""]
[72,null,null,null,"","",null,null,null,null,null,null,"",null,{"$f":"IFERROR(VLOOKUP(M77,計算用!$A$8:$B$15,2,FALSE),\"\")","v":""},null,null,null,""]
[73,null,null,null,"","",null,null,null,null,null,null,"",null,{"$f":"IFERROR(VLOOKUP(M78,計算用!$A$8:$B$15,2,FALSE),\"\")","v":""},null,null,null,""]
[74,null,null,null,"","",null,null,null,null,null,null,"",null,{"$f":"IFERROR(VLOOKUP(M79,計算用!$A$8:$B$15,2,FALSE),\"\")","v":""},null,null,null,""]
[75,null,null,null,"","",null,null,null,null,null,null,"",null,{"$f":"IFERROR(VLOOKUP(M80,計算用!$A$8:$B$15,2,FALSE),\"\")","v":""},null,null,null,""]
[76,null,null,null,"","",null,null,null,null,null,null,"",null,{"$f":"IFERROR(VLOOKUP(M81,計算用!$A$8:$B$15,2,FALSE),\"\")","v":""},null,null,null,""]
[77,null,null,null,"","",null,null,null,null,null,null,"",null,{"$f":"IFERROR(VLOOKUP(M82,計算用!$A$8:$B$15,2,FALSE),\"\")","v":""},null,null,null,""]
[78,null,null,null,"","",null,null,null,null,null,null,"",null,{"$f":"IFERROR(VLOOKUP(M83,計算用!$A$8:$B$15,2,FALSE),\"\")","v":""},null,null,null,""]
[79,null,null,null,"","",null,null,null,null,null,null,"",null,{"$f":"IFERROR(VLOOKUP(M84,計算用!$A$8:$B$15,2,FALSE),\"\")","v":""},null,null,null,""]
[80,null,null,null,"","",null,null,null,null,null,null,"",null,{"$f":"IFERROR(VLOOKUP(M85,計算用!$A$8:$B$15,2,FALSE),\"\")","v":""},null,null,null,""]

{"sheet":"計算用","index":6,"n_rows":67,"n_cols":8,"rows_kept":67,"cut":false,"hidden":true,"merged":[]}
[null,null,null,null,null,null,null,"※本シートは絶対に編集しないこと。"]
["施設区分"]
["陽性者(濃厚接触者)発生施設","通所系･施設系で1日以上勤務又は訪問系で陽性者等に1日以上対応","訪問系で陽性者等への対応はないが対象期間に10日以上勤務","対象期間の勤務が９日以下"]
["その他の施設","対象期間に10日以上勤務","対象期間の勤務が9日以下"]
[]
[]
["慰労金単価"]
[{"$f":"A3&B3","v":"陽性者(濃厚接触者)発生施設通所系･施設系で1日以上勤務又は訪問系で陽性者等に1日以上対応"},20]
[{"$f":"A3&C3","v":"陽性者(濃厚接触者)発生施設訪問系で陽性者等への対応はないが対象期間に10日以上勤務"},5]
[{"$f":"A3&D3","v":"陽性者(濃厚接触者)発生施設対象期間の勤務が９日以下"},0]
[{"$f":"A4&B4","v":"その他の施設対象期間に10日以上勤務"},5]
[{"$f":"A4&C4","v":"その他の施設対象期間の勤務が9日以下"},0]
[]
[]
[]
[]
["なし"]
["あり"]
[]
[]
["北海道"]
["青森県"]
["岩手県"]
["宮城県"]
["秋田県"]
["山形県"]
["福島県"]
["茨城県"]
["栃木県"]
["群馬県"]
["埼玉県"]
["千葉県"]
["東京都"]
["神奈川県"]
["新潟県"]
["富山県"]
["石川県"]
["福井県"]
["山梨県"]
["長野県"]
["岐阜県"]
["静岡県"]
["愛知県"]
["三重県"]
["滋賀県"]
["京都府"]
["大阪府"]
["兵庫県"]
["奈良県"]
["和歌山県"]
["鳥取県"]
["島根県"]
["岡山県"]
["広島県"]
["山口県"]
["徳島県"]
["香川県"]
["愛媛県"]
["高知県"]
["福岡県"]
["佐賀県"]
["長崎県"]
["熊本県"]
["大分県"]
["宮崎県"]
["鹿児島県"]
["沖縄県"]