Workbook

Sheet 様式１
A1: 障害者委託訓練提案書
B2: （ＰＣ技能習得コース・作業実務コース・デュアルシステムコース）
A5: 千葉県立障害者テクノスクール校長 様 | K5: 令和 年 月 日
B6: 〔申請者〕 | D6: 所 在 地 | G6: 〒
D7: 提案機関
D8: 代表者職・氏名 | G8: 職名： 氏名：
D9: 連絡先
A10: 千葉県が実施する令和９年度障害者委託訓練事業に係る障害者委託訓練提案書を提出します。
A12: 訓練コース名 | C12: □ | D12: PC技能習得コース | G12: □ | H12: 作業実務コース | K12: □ | L12: デュアルシステムコース
A13: 訓練科名
A14: 新規・継続申請の別 | F14: □ | G14: 新規 | J14: □ | K14: 継続
A15: 担当者 | C15: 氏名 | K15: ＴＥＬ
C16: e-mail | K16: ＦＡＸ
A17: 訓練実施施設名
A18: 訓練実施 施設所在地 | C18: 〒
A19: 最寄駅 ・ バス停 | H19: 最寄駅・バス停からの 距離所要時間
A20: 訓練科目・カリキュラム | C20: 別紙のとおり | F20: □ | G20: 様式２－１（PC技能習得コース用）
F21: □ | G21: 様式２－２（作業実務コース用）
F22: □ | G22: 様式２－３（デュアルシステムコース用・職場実習訓練実施概要）
A23: 指導体制 | C23: 指導者数 | G23: 名 | H23: 障害に対する 設備面の配慮
C24: (委託担当) | E24: （ ） | G24: 名
C25: 指導形態 | F25: □ | G25: 集団指導 | I25: □ | J25: 個別指導 | L25: □ | M25: 集団＋個別指導
F26: 特徴的な指導方法：
A27: 就職支援 | C27: □ | D27: 職務経歴書・履歴書の作成指導 | I27: □ | J27: 面接指導 | L27: □ | M27: キャリアコンサルティング
C28: □ | D28: 職業相談 | I28: □ | J28: 求人開拓 | L28: □ | M28: 求人情報の提供
C29: □ | D29: 職業紹介（無料の職業紹介の届出又は許可を受けている場合及び有料職業紹介の許可を受けている場合に限る）
A30: 訓練実施に 必要なスキル
A31: 提案するコースでの 訓練実績 | C31: 年度 | D31: 委託訓練生(名) | F31: 就職者(名） | H31: その他特記事項
C32: 令和６年
C33: 令和７年
C34: 令和８年 （ 月 日時点）
A35: 福祉事業の実施 | J35: その他 | L35: （ ）
A37: （備考）※千葉県立障害者テクノスクール記入欄 | H37: 千葉県立障害者テクノスクール 受理年月日

Sheet 様式2ー１（PCカリキュラム）
H1: 訓練科目・カリキュラム
H2: （PC技能習得コース用）
J3: 訓練実施施設名： | O3: =様式１!C17 -> 0
A5: 訓練科名 | E5: =様式１!C13 -> 0 | R5: 内容レベル | U5: □ | V5: 初級 | X5: □ | Y5: 中級
A6: 定員 | G6: 人 | J6: 最低開講人数 | P6: 人 | R6: 訓練期間 | X6: か月間
A7: 毎月開講する場合の最大受入人数 | G7: 人
A8: 訓練実施月 （開始月に○） | E8: 5 | G8: 6 | I8: 7 | K8: 8 | M8: 9 | O8: 10 | Q8: 11 | S8: 12 | W8: （月）
A9: 訓練時間（１日） | G9: ： | I9: ～ | K9: ： | P9: １日 | R9: 時間／日
E10: １単位時間 | I10: 分 | K10: 休憩 | M10: 分 | O10: 昼休憩 | R10: 分 | U10: １日の合計 | Y10: 単位時間
A11: 総訓練時間 | I11: 時間
A12: 訓練休日 | I12: ・ | L12: ・ | P12: ・ | Q12: その他（ ）
A13: 訓練時間日程
E14: 訓練時間 | J14: ： | L14: ～ | N14: ：
E15: （昼休み | J15: ： | L15: ～ | N15: ： | P15: ）
F17: １時限目 | J17: ： | L17: ～ | N17: ：
F18: ２時限目 | J18: ： | L18: ～ | N18: ：
F19: ３時限目 | J19: ： | L19: ～ | N19: ：
F20: ４時限目 | J20: ： | L20: ～ | N20: ：
F21: ５時限目 | J21: ： | L21: ～ | N21: ：
F22: ６時限目 | J22: ： | L22: ～ | N22: ：
F23: ７時限目 | J23: ： | L23: ～ | N23: ：
A25: 訓練目標 (具体的に)
A26: 仕上がり像
A27: 就職を見込め る職種・職務
A28: 訓練 可能な 障害 | D28: 身体障害
C29: 【 | D29: □ | E29: 視 覚 | H29: □ | I29: 聴 覚 | L29: □ | M29: 上 肢 | P29: □ | Q29: 下 肢 | T29: □ | U29: 車いす | X29: □ | Y29: 内部 | AA29: 】
D30: □ | E30: 知 的 | H30: □ | I30: 精 神 | L30: □ | M30: 発 達 | P30: □ | Q30: その他（高次脳機能障害、難病 等）
C31: 上記の障害に対する備考

Sheet 様式2ー１（PCカリキュラム・続き）
J2: 訓練実施施設名： | O2: =様式１!C17 -> 0
A5: 訓練の内容(訓練項目） | C5: 科目 | H5: 科目の内容 | X5: 時間 | Z5: 左の内PC使用時間数
B6: 学科・就職支援
C15: 訓練時間小計 | X15: =SUM(X6:X14) -> 0 | Z15: =SUM(Z6:Z14) -> 0
B16: 実技
C25: 訓練時間小計 | X25: =SUM(X16:Y24) -> 0 | Z25: =SUM(Z16:AA24) -> 0
C26: 訓練時間合計 | X26: =X15+X25 -> 0 | Z26: =Z15+Z25 -> 0

Sheet 様式2ー２（作業カリキュラム）
H1: 訓練科目・カリキュラム
H2: （作業実務コース用）
J3: 訓練実施施設名：
A5: 訓練科名
A6: １回の訓練で 同時実施可能人数 | H6: 人 | L6: 毎月開講する場合の 最大受入人数 | R6: 人
A7: 訓練実施月 （開始月に○） | E7: 5 | G7: 6 | I7: 7 | K7: 8 | M7: 9 | O7: 10 | Q7: 11 | S7: 12 | U7: 1 | W7: 2 | Y7: （月）
A8: 訓練時間 （１日） | F8: ： | H8: ～ | J8: ： | L8: （昼休憩 | P8: 分） | V8: 時間／日
A9: 訓練日数 | O9: 日／月
A10: 訓練期間 | G10: □ | H10: 1か月 | M10: □ | N10: 2か月 | U10: □ | V10: 3か月
A11: 総訓練時間・ 総訓練日数 | I11: 時間 | O11: 日
A12: 訓練休日 | H12: ・ | L12: ・ | P12: ・ | Q12: その他 | T12: （ | AA12: )
A13: 訓練目標 (具体的に)
A14: 訓練内容 (訓練項目） | D14: 【訓練項目】 | N14: 訓練時間日程 | P14: 訓練時間 | U14: ： | W14: ～ | Y14: ：
P15: （昼休み | U15: ： | W15: ～ | Y15: ： | AA15: ）
Q17: １時限目 | U17: ： | W17: ～ | Y17: ：
Q18: ２時限目 | U18: ： | W18: ～ | Y18: ：
D19: 【就職支援】 | Q19: ３時限目 | U19: ： | W19: ～ | Y19: ：
Q20: ４時限目 | U20: ： | W20: ～ | Y20: ：
Q21: ５時限目 | U21: ： | W21: ～ | Y21: ：
Q22: ６時限目 | U22: ： | W22: ～ | Y22: ：
D23: ＊主な使用 器具等： | Q23: ７時限目 | U23: ： | W23: ～ | Y23: ：
A24: 就職を見込め る職種・職務
A25: 訓練 可能な 障害 | D25: 身体障害
C26: 【 | D26: □ | E26: 視 覚 | H26: □ | I26: 聴 覚 | L26: □ | M26: 上 肢 | P26: □ | Q26: 下 肢 | T26: □ | U26: 車いす | X26: □ | Y26: 内部 | AA26: 】
D27: □ | E27: 知 的 | H27: □ | I27: 精 神 | L27: □ | M27: 発 達 | P27: □ | Q27: その他（高次脳機能障害、難病 等）
C28: 上記の障害に対する備考

Sheet 様式2ー３（デュアルカリキュラム）
H1: 訓練科目・カリキュラム
G2: （デュアルシステムコース用）
J3: 訓練実施施設名：
A5: 訓練科名
A6: 定員 | F6: 人 | G6: 最低開講人数 | L6: 人 | M6: 毎月開講する場合の 最大受入人数 | T6: 人 | U6: 訓練期間 | Z6: か月間
A7: 訓練期間 | B7: 訓練実施月 （開始月に○） | E7: 5 | G7: 6 | I7: 7 | K7: 8 | M7: 9 | O7: 10 | Q7: 11 | S7: 12 | U7: 1 | Z7: （月）
B8: 職業能力講座 | M8: 日間 | Q8: ※（１～４日間の中で設定）
B9: 集合訓練（座学等） | M9: か月 | Q9: ※（１～５か月の中で設定）
B10: 職場実習 | M10: か月 | Q10: ※（１～３か月の中で設定 2か月以上の場合は下記に【理由】を記載）
H11: 【理由】
A12: 訓練時間 （１日） | B12: 職業能力講座 | J12: ～ | N12: １単位時間 | S12: 分 | T12: 休憩 | W12: 分 | Y12: 単位時間
B13: 集合訓練（座学等） | J13: ～ | N13: １単位時間 | S13: 分 | T13: 休憩 | W13: 分 | Y13: 単位時間
B14: 職場実習 | H14: ※職場実習訓練実施概要に記入
A15: 訓練目標 (具体的に)
A16: 仕上り像
A17: 就職を見込める 職種・職務
A18: 訓練可能な障害 | D18: 身体障害
C19: 【 | D19: □ | E19: 視 覚 | H19: □ | I19: 聴 覚 | L19: □ | M19: 上 肢 | P19: □ | Q19: 下 肢 | T19: □ | U19: 車いす | X19: □ | Y19: 内部 | AA19: 】
D20: □ | E20: 知 的 | H20: □ | I20: 精 神 | L20: □ | M20: 発 達 | P20: □ | Q20: その他（高次脳機能障害、難病 等）
C21: 上記の障害に対する備考
A22: 訓練の内容 | C22: 科目 | F22: 科目の内容 | N22: 時間 | O22: 訓練時間日程
B23: 職業能力講座
P25: 訓練時間 | U25: ： | W25: ～ | Y25: ：
P26: （昼休み | U26: ： | W26: ～ | Y26: ： | AA26: ）
C27: 職業能力講座計 | N27: =SUM(N23:N26) -> 0
B28: 集合訓練(座学等) | Q28: １時限目 | U28: ： | W28: ～ | Y28: ：
Q29: ２時限目 | U29: ： | W29: ～ | Y29: ：
Q30: ３時限目 | U30: ： | W30: ～ | Y30: ：
Q31: ４時限目 | U31: ： | W31: ～ | Y31: ：
Q32: ５時限目 | U32: ： | W32: ～ | Y32: ：
Q33: ６時限目 | U33: ： | W33: ～ | Y33: ：
Q34: ７時限目 | U34: ： | W34: ～ | Y34: ：
C37: （月当たり標準100時間 最低80時間） 集合訓練（座学等）計 | N37: =SUM(N28:N36) -> 0
B38: 職場実習 | O38: 【その他】※記載事項があれば記載。
C41: （月当たり標準100時間 最低60時間） 職場実習計 | N41: =SUM(N38:N40) -> 0
B42: 訓練時間合計 | N42: =N27+N37+N41 -> 0

Sheet 様式2ー３（デュアル・職場実習訓練実施概要）
G1: 職場実習訓練実施概要
A3: 訓練実施施設 | B3: 施設名
B4: 所在地 | D4: 〒
B5: TEL | P5: FAX
B6: 最寄駅 | D6: 線 | N6: 駅 | P6: （バス停）
B7: 最寄駅からの 距離・所要時間 | N7: ｋｍ | S7: ｍ | X7: 分
B8: 訓練内容 (訓練項目)
D9: ＊主な使用器具等（ | Z9: ）
B10: 訓練時間 | E10: 時 分 | I10: ～ | K10: 時 分 | Q10: 訓練休日 | V10: ・ | Y10: ・
G11: (休憩時間 | L11: 分） | T11: その他 | V11: （ ）
B12: 訓練日数/訓練時間 | J12: 時間／日 | Q12: 日／月 | T12: 総訓練時間 | Z12: 時間
A13: 訓練実施施設 | B13: 施設名
B14: 所在地 | D14: 〒
B15: TEL | P15: FAX
B16: 最寄駅 | D16: 線 | N16: 駅 | P16: （バス停）
B17: 最寄駅からの 距離・所要時間 | N17: ｋｍ | S17: ｍ | X17: 分
B18: 訓練内容 (訓練項目)
D19: ＊主な使用器具等（ | Z19: ）
B20: 訓練時間 | E20: 時 分 | I20: ～ | K20: 時 分 | Q20: 訓練休日 | V20: ・ | Y20: ・
G21: (休憩時間 | L21: 分） | T21: その他 | V21: （ ）
B22: 訓練日数/訓練時間 | J22: 時間／日 | Q22: 日／月 | T22: 総訓練時間 | Z22: 時間
A23: 訓練実施施設 | B23: 施設名
B24: 所在地 | D24: 〒
B25: TEL | P25: FAX
B26: 最寄駅 | D26: 線 | N26: 駅 | P26: （バス停）
B27: 最寄駅からの 距離・所要時間 | N27: ｋｍ | S27: ｍ | X27: 分
B28: 訓練内容 (訓練項目)
D29: ＊主な使用器具等（ | Z29: ）
B30: 訓練時間 | E30: 時 分 | I30: ～ | K30: 時 分 | Q30: 訓練休日 | V30: ・ | Y30: ・
G31: (休憩時間 | L31: 分） | T31: その他 | V31: （ ）
B32: 訓練日数/訓練時間 | J32: 時間／日 | Q32: 日／月 | T32: 総訓練時間 | Z32: 時間

Sheet 様式3（設備） 
G1: 施設･設備等概要書
A3: 訓練科名 | E3: =様式１!C13 -> 0
A4: 訓練実施施設名 | E4: =様式１!C17 -> 0
A5: 令和 年 月 日時点の状況
A6: 駐車場 | C6: □ | D6: 【有】 | H6: （ | J6: 台 | L6: ※うち障害者用 | Q6: 台 | R6: ）
C7: □ | D7: 【無】
A8: 駐輪場 | C8: □ | D8: 【有】 | H8: （ | J8: 台 | K8: ）
C9: □ | D9: 【無】
A10: 施設の状況 | C10: □ | D10: 独立施設 | F10: □ | G10: 建物の１フロア | J10: （ | L10: 階） | M10: □ | N10: 建物複数フロア | Q10: （ | S10: フロア）
C11: □ | D11: 建物の１室 | G11: □ | H11: 建物の複数室（ | L11: 室） | N11: その他（ | T11: ）
A12: バリアフリー 設備 | C12: □ | D12: エレベーター | G12: □ | H12: 自動ドア | J12: □ | K12: 引き戸 | M12: □ | N12: スロープ | Q12: □ | R12: 点字ブロック
C13: □ | D13: 階段手すり
C14: ・その他（ | T14: ）
A15: 建物の 権利関係 | C15: 【訓練場所】 | F15: □ | G15: 自己所有 （不動産登記簿謄本写しを添付すること） | O15: □ | P15: 賃貸（賃貸借契約書写しを添付すること）
C16: 【面接・面談場所】 | G16: □ | H16: 自己所有 | K16: □ | L16: 賃貸
A17: 福利厚生設備 | C17: □ | D17: 食堂 | G17: □ | H17: 給茶室 | K17: □ | L17: 給茶器 | O17: □ | P17: 休憩コーナー
C18: □ | D18: 自販機 | G18: □ | H18: 冷蔵庫 | K18: □ | L18: 電子レンジ | O18: □ | P18: 喫煙コーナー
C19: □ | D19: ロッカー | G19: □ | H19: その他（ | S19: ）
C20: 【昼食の場所】 | G20: □ | H20: 教室 | J20: □ | K20: 休憩コーナー | N20: □ | O20: その他 | Q20: （ ）
A21: トイレ | C21: 個所数（ | F21: ）個所 | H21: □ | I21: 男女別 | K21: □ | L21: 男女兼用
C22: □ | D22: 教室フロアーと同じフロアー | K22: □ | L22: 教室フロアーと別のフロアー
C23: 身障者用（車椅子対応）トイレ： | K23: □ | L23: 有 | M23: □ | N23: 無
A24: 感染症 防止対策
A27: その他の設備等 | B27: ○その他の設備等（ありましたら記入して下さい）

Sheet 様式3（設備・続き） 
A1: 教室環境（面積と定員）
C2: 教室延べ面積 | J2: ㎡ ･･･①
C4: Ａ教室 | H4: ㎡ | K4: 名 | M4: Ｃ教室 | Q4: ㎡ | T4: 名
C6: Ｂ教室 | H6: ㎡ | K6: 名 | M6: Ｄ教室 | Q6: ㎡ | T6: 名
C8: 面接・面談場所面積 | J8: ㎡ ･･･②
C10: 合計面積（①～②計） | J10: ㎡
A12: PC及びネットワーク環境について ※PCを使用する場合に記入
C13: パソコン | H13: 台 | I13: （受講者用 | M13: 台、 | N13: 講師用 | R13: 台）
D15: メーカー、機種 | M15: □ | N15: デスクトップ | Q15: □ | R15: ノート
D17: ＣＰＵ | K17: メモリー | P17: ＯＳ
D19: ワープロソフト | J19: Ver | M19: 表計算ソフト | R19: Ver
D21: その他訓練に関係するソフト
C23: プリンタ | F23: 台 | I23: プロジェクター | N23: 台
C25: インターネット回線種別
D26: （専用回線、光ケーブル････など）
C28: ＬＡＮ | E28: □ | F28: 有線ＬＡＮ | I28: ・ | J28: □ | K28: 無線ＬＡＮ
C30: 障害者用機器等 | H30: □ | I30: 障害者用キーボード | N30: □ | O30: 拡大読書器
H31: □ | I31: 画面拡大ソフト | N31: □ | O31: 音声化ソフト
H32: その他（ | T32: ）
A33: 令和 年 月 日時点の状況
A35: □ | B35: 提案書提出以降、IT機器等の環境を変更予定がある
B36: ※ 変更予定がある場合は、変更予定の環境を以下に記載する。
A37: 変更完了予定日 | E37: 令和 | G37: 年 | I37: 月 | K37: 日
C39: パソコン | H39: 台 | I39: （受講者用 | M39: 台、 | N39: 講師用 | R39: 台）
D41: メーカー、機種 | M41: □ | N41: デスクトップ | Q41: □ | R41: ノート
D43: ＣＰＵ | K43: メモリー | P43: ＯＳ
D45: ワープロソフト | J45: Ver | M45: 表計算ソフト | R45: Ver
D47: その他訓練に関係するソフト
C49: プリンタ | F49: 台 | I49: プロジェクター | N49: 台
C51: インターネット回線種別
D52: （専用回線、光ケーブル････など）
C54: ＬＡＮ | E54: □ | F54: 有線ＬＡＮ | I54: ・ | J54: □ | K54: 無線ＬＡＮ
C56: 障害者用機器等 | H56: □ | I56: 障害者用キーボード | N56: □ | O56: 拡大読書器
H57: □ | I57: 画面拡大ソフト | N57: □ | O57: 音声化ソフト
H58: その他（ | T58: ）

Sheet 様式３続き添付書類A写真
A1: 画像を添付して下さい。
A3: 訓練場所 | B3: 画像を貼り付け
A22: 面接・面談場所 | B22: ※面接・面談場所は、面接内容が第三者に聞かれない場所（環境）を確保すること。
B23: 画像を貼り付け
A42: 【撮影日】 | C42: 令和 年 月 日

Sheet 様式4ー１（座学訓練日程）
A1: 【訓練日程表】 | O1: 訓練実施施設名： | T1: =様式１!C17 -> 0
A2: 訓練科名 | D2: =様式１!C13 -> 0 | O2: 訓練期間 | R2: 令和 年 月 日 | V2: ～ | W2: 令和 年 月 日 | AA2: 【 ヶ月】 | AD2: 総訓練時間： | AG2: =AH7+AH12+AH17 -> 0
A4: 月 | B4: 日 | C4: 46143 | D4: =C4+1 -> 46144 | E4: =D4+1 -> 46145 | F4: =E4+1 -> 46146 | G4: =F4+1 -> 46147 | H4: =G4+1 -> 46148 | I4: =H4+1 -> 46149 | J4: =I4+1 -> 46150 | K4: =J4+1 -> 46151 | ... AG4: =AF4+1 -> 46173 | AH4: 月 合 計
B5: 曜
B6: 訓練内容
B7: 時 数 | AH7: =SUM(C7:AG7) -> 0
A9: 月 | B9: 日 | C9: 46174 | D9: =C9+1 -> 46175 | E9: =D9+1 -> 46176 | F9: =E9+1 -> 46177 | G9: =F9+1 -> 46178 | H9: =G9+1 -> 46179 | I9: =H9+1 -> 46180 | J9: =I9+1 -> 46181 | K9: =J9+1 -> 46182 | ... AF9: =AE9+1 -> 46203 | AG9: 31 | AH9: 月 合 計
B10: 曜
B11: 訓練内容
B12: 時 数 | AH12: =SUM(C12:AG12) -> 0
A14: 月 | B14: 日 | C14: 46204 | D14: =C14+1 -> 46205 | E14: =D14+1 -> 46206 | F14: =E14+1 -> 46207 | G14: =F14+1 -> 46208 | H14: =G14+1 -> 46209 | I14: =H14+1 -> 46210 | J14: =I14+1 -> 46211 | K14: =J14+1 -> 46212 | ... AG14: =AF14+1 -> 46234 | AH14: 月 合 計
B15: 曜
B16: 訓練内容
B17: 時 数 | AH17: =SUM(C17:AG17) -> 0
AF18: 総訓練日数 | AH18: =COUNT(C7:AG7,C12:AG12,C17:AG17) -> 0

Sheet 様式４ー２（デュアル実習訓練日程）
A1: 委託訓練実践日程表(デュアルシステムコース職場実習)
A3: 訓練実施施設名（ ） | D3: 訓練科名： | F3: （ ）
A5: 訓練期間 ： 月 日（ 曜日） ～ 月 日（ 曜日） | G5: 受講者氏名（ ）
A6: 訓練時間 ： 時 分～ 時 分 （休憩時間 分）
A7: （ | C7: ）月分
A8: 日 | B8: 曜日 | C8: 訓 練 内 容 | D8: 訓練時間 | G8: 【注意】
A9: 1
A10: 2 | F10: （１） | G10: 訓練が月の途中から始まる場合、 訓練期間の設定に御注意ください。
A11: 3
A12: 4 | F12: （例） | G12: ６月13日開始の訓練の場合
A13: 5 | G13: ・１か月訓練→７月12日まで
A14: 6 | G14: ・２か月訓練→８月12日まで
A15: 7 | G15: ・３か月訓練→９月12日まで
A16: 8
A17: 9 | F17: （２） | G17: １回の訓練が２か月以上にわたる場合は、月ごとに１枚の用紙を使用してください。
A18: 10
A19: 11
A20: 12 | F20: （例） | G20: ６月13日～７月12日の１か月訓練の場合
A21: 13 | F21: → | G21: ①６月13日～６月30日で１枚
A22: 14 | G22: ②７月 1日～７月12日で１枚
A23: 15 | G23: 計２枚の用紙を使用
A24: 16
A25: 17 | F25: （３） | G25: １か月の訓練時間は各コースとも 標準１００時間です。
A26: 18
A27: 19
A28: 20 | F28: （４） | G28: 開講式と閉講式に要した時間は 訓練時間から除いてください。
A29: 21
A30: 22
A31: 23 | F31: （５） | G31: 雇用保険受給中の受講者は開講式と 閉講式の日に公共職業安定所へ 手続きに行きますので御配慮ください。
A32: 24
A33: 25
A34: 26
A35: 27
A36: 28
A37: 29
A38: 30
A39: 31
C40: 合計 | D40: =SUM(D9:D39) -> 0

Sheet 様式5（教科書）
A1: 使 用 教 科 書 等
A3: 訓練科名 | B3: =様式１!C13 -> 0
A4: 訓練実施施設名 | B4: =様式１!C17 -> 0
A6: 【受講者負担で購入するもの】
A7: 教科書名・制服等 | B7: 出版社名等 | C7: 価格(税込)円 | D7: 備考
A15: 合 計（税込） | C15: =SUM(C8:C14) -> 0
A17: 【受講者に無償で配布するもの】
A18: 教科書名・制服等 | B18: 出版社名等 | C18: 備考
A24: ※オリジナルの教科書等の場合は、出版社名等の欄に「オリジナル」と記載

Sheet 様式６（体制）（就職支援）
B1: 訓練実施運営体制表
A3: 訓練科名 | B3: =様式１!C13 -> 0
A4: 訓練実施施設名 | B4: =様式１!C17 -> 0
A6: 責任者 | B6: 氏 名
B7: 電話番号
B8: ＦＡＸ番号
B9: e-mail
A10: 実質事務担当者 | B10: 氏 名
B11: 電話番号
B12: ＦＡＸ番号
B13: e-mail
A14: 就職支援責任者 | B14: 氏 名
B15: 電話番号
B16: ＦＡＸ番号
B17: e-mail
A18: 講 師 | B18: 氏 名
B19: 常勤・非常勤の別
B20: 経験年数
B21: 資格･免許等
B22: 氏 名
B23: 常勤・非常勤の別
B24: 経験年数
B25: 資格･免許等
B26: 氏 名
B27: 常勤・非常勤の別
B28: 経験年数
B29: 資格･免許等
A30: ※ 講師人数が４名以上の場合は、コピーして使用してください。
A31: 【職業訓練サービスガイドライン研修について】
A32: 職業訓練サービスガイドライン研修受講実績 | C32: □ | D32: 受講済 | E32: □ | F32: 未受講
A33: 受講者氏名
A34: 有効期限

Sheet 様式 7（保険）
A1: 損害保険等の加入状況届け
G3: 令和 年 月 日
A4: 千葉県立障害者テクノスクール校長 様
A6: （申請者） | D6: 所在地
D7: 法人等名
D8: 代表者職・氏名
A10: 下記のとおり訓練期間中のパーソナルコンピューター破損に備え、保険加入状況について報告いたします。 なお、保険未加入の場合はパーソナルコンピューター破損に伴う費用負担を受講者に求めません。（この場合の破損とは受講者の故意による破損は含まないものとします。）
A12: 記
A14: １ 訓練実施施設名
A16: 2 保険の加入状況 | E16: □ | F16: 加入している
F18: 加入保険会社名
A22: （※契約書写しを添付すること）
E25: □ | F25: 加入していない

Sheet 誓約書
A1: 誓 約 書
G3: 令和 年 月 日
A5: 千葉県立障害者テクノスクール校長 様
D7: （申請者） | F7: 所在地
F8: 法人等名
F9: 代表者職・氏名
A11: 令和９年度障害者委託訓練に係わる提案内容について、下記のとおり誓約します。
A13: 記
B16: 1 | C16: 提出した書類について事実と相違ないこと。
B17: 2 | C17: 認定を受けた提案内容について、提案内容を遵守し実施すること。
B18: 3 | C18: 千葉県税、法人税並びに消費税及び地方消費税の滞納がないこと。
B19: 4 | C19: 次のいずれにも該当しないこと。
C20: ・ 地方自治法施行令（昭和 22 年政令第 16 号）第 167 条の 4 の規定により一般競争 入札の参加資格を有しない者。
C21: ・ 会社更生法（平成 14 年法律第 154 号）第 17 条第 1 項又は第 2 項の規定による更生 手続開始の申立てをした者又は更生手続開始の申立てをされた者。
C22: ・ 民事再生法（平成 11 年法律第 225 号）第 21 条第 1 項又は第 2 項の規定による再生 手続開始の申立てをした者又は申立てをされた者。
C23: ・ 提案の日から審査結果の公表の日までの期間について、千葉県物品等指名競争入札 参加者指名停止等基準に基づく指名停止の措置を受けている者。
C24: ・ 暴力団員による不当な行為の防止等に関する法律（平成 3 年法律第 77 号）第 2 条 第 2 号に掲げる暴力団または同条第 6 号に掲げる暴力団員である役職員を有する者 若しくはそれらの利益となる活動を行う者。
C25: ・ 宗教活動や政治活動を主たる目的とした者。
C26: ・ その他公共職業訓練の委託先として明らかに適性を欠くと千葉県が判断した者。

Sheet 一覧確認
A1: 障害者委託訓練 提案書類一覧
A3: 提案機関 | D3: =様式１!G7 -> 0
A4: 訓練科名 | D4: =様式１!C13 -> 0
A6: № | B6: 様式番号 | D6: 様 式 名 | G6: 提案機関 チェック欄 | H6: テクノスクール チェック欄
A7: 1 | B7: 様式１ | D7: 障害者委託訓練提案書
A8: 2 | B8: 様式２－１ | D8: 訓練科目・カリキュラム（ＰＣ技能習得コース用）
B9: 様式２－２ | D9: 訓練科目・カリキュラム（作業実務コース用）
B10: 様式２－３ | D10: 訓練科目・カリキュラム（デュアルシステムコース用・職場実習訓練実施概要）
A11: 3 | B11: 様式３ | D11: 施設・設備等概要書
B12: 添付書類 (※１) | D12: A訓練場所及び面接・面談場所の画像を提出（直近３か月以内）
D13: B訓練実施施設を所有→ | E13: 不動産登記簿謄本 （建物の全部事項証明書・写し可）を提出
D14: C訓練実施施設を賃貸→賃貸借契約書（写）を提出
A15: 4 | B15: 様式４－１ | D15: 訓練日程表 | F15: (※２)
B16: 様式４－２ | D16: 委託訓練実践日程表（デュアルシステムコース職場実習） | F16: (※３)
A17: 5 | B17: 様式５ | D17: 使用教科書等 | F17: (※４)
A18: 6 | B18: 様式６ | D18: 訓練実施運営体制表
A19: 7 | B19: 様式７ | D19: 損害保険等の加入状況届け （加入している場合は併せて契約書写しを提出） | F19: (※５)
A20: 8 | B20: 誓約書 | D20: 誓約書
A21: 9 | B21: 障害者委託訓練 提案書類一覧
A23: ※１ Aについては全体が映った画像 B・Cについては訓練実施施設の自己所有または賃貸に応じて、いずれかを提出する。
A24: ※２ 作業実務コース、デュアルシステムコースに関して、訓練開始日を指定しない場合は 訓練が決まり次第提出。
A25: ※３ 訓練開始日を指定しない場合は訓練が決まり次第提出。
A26: ※４ 使用教材等がない場合は、「なし」と記載して提出する。
A27: ※５ 訓練にPCを使用する場合のみ提出する。
